BEGIN:VCALENDAR
VERSION:2.0
PRODID:-//Dortmund Kreativ - ECPv6.15.18//NONSGML v1.0//EN
CALSCALE:GREGORIAN
METHOD:PUBLISH
X-WR-CALNAME:Dortmund Kreativ
X-ORIGINAL-URL:https://dortmund-kreativ.de
X-WR-CALDESC:Veranstaltungen für Dortmund Kreativ
REFRESH-INTERVAL;VALUE=DURATION:PT1H
X-Robots-Tag:noindex
X-PUBLISHED-TTL:PT1H
BEGIN:VTIMEZONE
TZID:Europe/Berlin
BEGIN:DAYLIGHT
TZOFFSETFROM:+0100
TZOFFSETTO:+0200
TZNAME:CEST
DTSTART:20220327T010000
END:DAYLIGHT
BEGIN:STANDARD
TZOFFSETFROM:+0200
TZOFFSETTO:+0100
TZNAME:CET
DTSTART:20221030T010000
END:STANDARD
BEGIN:DAYLIGHT
TZOFFSETFROM:+0100
TZOFFSETTO:+0200
TZNAME:CEST
DTSTART:20230326T010000
END:DAYLIGHT
BEGIN:STANDARD
TZOFFSETFROM:+0200
TZOFFSETTO:+0100
TZNAME:CET
DTSTART:20231029T010000
END:STANDARD
BEGIN:DAYLIGHT
TZOFFSETFROM:+0100
TZOFFSETTO:+0200
TZNAME:CEST
DTSTART:20240331T010000
END:DAYLIGHT
BEGIN:STANDARD
TZOFFSETFROM:+0200
TZOFFSETTO:+0100
TZNAME:CET
DTSTART:20241027T010000
END:STANDARD
END:VTIMEZONE
BEGIN:VEVENT
DTSTART;TZID=Europe/Berlin:20230711T180000
DTEND;TZID=Europe/Berlin:20230714T150000
DTSTAMP:20260424T074642
CREATED:20230710T074023Z
LAST-MODIFIED:20230710T074023Z
UID:8767-1689098400-1689346800@dortmund-kreativ.de
SUMMARY:≠ DESIGN UND GENDER PREIS
DESCRIPTION:Der „≠ Design und Gender Preis“ wird 2023 zum dritten Mal für hervorragende\ngenderbezogene Arbeiten der Student*innen im Fachbereich Design vergeben. Es\nhandelt sich um eine Anerkennung der besonderen gestalterischen Auseinandersetzung\nmit Geschlechterperspektiven.\nEs wurden 17 Arbeiten von 20 Student*innen aus fünf unterschiedlichen Studiengängen\neingereicht. Drei Preisträger*innen sind gefunden\, die feierliche Preisverleihung findet\nnach der Eröffnung der Ausstellung am 11. Juli ab 18 Uhr im HansA in der Hansastraße\n4-12\, statt. \nAUSSTELLENDE KÜNSTLER*INNEN\nAnne Jahn\nCelia Joy Homann\nCeline Yasemine Homann\nCatharina Cerny & Leon Manitz\nElisabeth Kringe\nFranci Schönhöfer\nMarie Schönenborn & Mariele Key\nHelen Karina Wagner\nJana Schumacher\nMiriam Wolter\nNele Gertsen\nHelen Karina Wagner\nPia Gräwe\nSamaneh Khosravi\nSarah Ruholl\nSina Geist\nThomas Schröer \nLAMBE LAMBE-PERFORMANCE IM RAHMEN DER AUSSTELLUNG\nJohanna Buderath \nVERNISSAGE & PREISVERLEIHUNG:\n11.07. Di ab 18 Uhr \nAUSSTELLUNG:\n12.07. – 13.07. Mi-Do 12-17 Uhr\n14.07. Fr 12-15 Uhr \nDer Preis besteht in einer Anerkennung der Arbeit durch die Jury und durch eine\nfinanzielle Unterstützung von 200 Euro je Preisträger*in. Bewertungskriterien sind:\n• Die eindeutige Auseinandersetzung mit genderspezifischen Themen\n• Der innovative konzeptionelle Ansatz im Umgang mit der Thematik\n• Die hervorragende Gestaltung\n• Die Arbeit ist nicht älter als ein Jahr \nDie Jury ist zusammengesetzt aus der Gleichstellungsbeauftragten der Fachhochschule\nDortmund Sonja Hunscha\, Lena Sievering und Selina Bischoff als Vertreter*innen für die\nStudent*innen\, sowie Prof. Oliver Langbein und Prof. Nora Fuchs. \nAusstellungsdesign:\nSelina Bischoff\, Johanna Buderath\, Jana Schumacher\, Lena\nSievering\, Yifang Zhang. Betreut von Prof. Nora Fuchs. \nDie Räumlichkeiten wurden durch DORTMUND KREATIV zur Verfügung gestellt.
URL:https://dortmund-kreativ.de/event/%e2%89%a0-design-und-gender-preis/
LOCATION:HANS A\, Hansastraße 6-10\, Dortmund\, 44137
ATTACH;FMTTYPE=image/jpeg:https://dortmund-kreativ.de/wp-content/uploads/2023/07/Genderfullife_poster_invite.jpg
END:VEVENT
END:VCALENDAR