BEGIN:VCALENDAR
VERSION:2.0
PRODID:-//Dortmund Kreativ - ECPv6.15.18//NONSGML v1.0//EN
CALSCALE:GREGORIAN
METHOD:PUBLISH
X-WR-CALNAME:Dortmund Kreativ
X-ORIGINAL-URL:https://dortmund-kreativ.de
X-WR-CALDESC:Veranstaltungen für Dortmund Kreativ
REFRESH-INTERVAL;VALUE=DURATION:PT1H
X-Robots-Tag:noindex
X-PUBLISHED-TTL:PT1H
BEGIN:VTIMEZONE
TZID:Europe/Berlin
BEGIN:DAYLIGHT
TZOFFSETFROM:+0100
TZOFFSETTO:+0200
TZNAME:CEST
DTSTART:20210328T010000
END:DAYLIGHT
BEGIN:STANDARD
TZOFFSETFROM:+0200
TZOFFSETTO:+0100
TZNAME:CET
DTSTART:20211031T010000
END:STANDARD
BEGIN:DAYLIGHT
TZOFFSETFROM:+0100
TZOFFSETTO:+0200
TZNAME:CEST
DTSTART:20220327T010000
END:DAYLIGHT
BEGIN:STANDARD
TZOFFSETFROM:+0200
TZOFFSETTO:+0100
TZNAME:CET
DTSTART:20221030T010000
END:STANDARD
BEGIN:DAYLIGHT
TZOFFSETFROM:+0100
TZOFFSETTO:+0200
TZNAME:CEST
DTSTART:20230326T010000
END:DAYLIGHT
BEGIN:STANDARD
TZOFFSETFROM:+0200
TZOFFSETTO:+0100
TZNAME:CET
DTSTART:20231029T010000
END:STANDARD
END:VTIMEZONE
BEGIN:VEVENT
DTSTART;TZID=Europe/Berlin:20221109T100000
DTEND;TZID=Europe/Berlin:20221109T170000
DTSTAMP:20260422T152313
CREATED:20220929T143952Z
LAST-MODIFIED:20220929T143952Z
UID:6698-1667988000-1668013200@dortmund-kreativ.de
SUMMARY:11. Westfälischen Kulturkonferenz
DESCRIPTION:ENGAGIERT! KUNST UND KULTUR IN WESTFALEN-LIPPE \nKultur braucht bürgerschaftliches Engagement. \nBürgerschaftlich Engagierte bereichern und unterstützen die Kunst- und Kulturlandschaft wesentlich: Sie betreiben Kulturorte\, organisieren Festivals oder Ausstellungen; sie sind Partner*innen für kulturelle Bildungsprojekte oder kümmern sich um das kulturelle Erbe. So abwechslungsreich die Kunst- und Kulturlandschaft ist\, so vielfältig ist das bürgerschaftliche Engagement\, das sie befördert und trägt. Die 11. Westfälische Kulturkonferenz macht dieses so wichtige Thema sicht- und erlebbar. \nBürgerschaftliches Engagement braucht gute Rahmenbedingungen. \nGemeinsam werden in acht Foren Bedarfe\, Strategien und Handlungsansätze diskutiert und reflektiert. Grundlage für die Konferenz ist das Konzept des LWL zur Stärkung und Sicherung des bürgerschaftlichen Engagements in der Kultur in Westfalen-Lippe. Gemeinsam sollen Impulse gesetzt werden\, damit die Rahmenbedingungen für ziviles Engagement in Kunst und Kultur verbessert\, gesichert und gestärkt werden. Beiträge aller Teilnehmenden sind für die Weiterentwicklung des Konzepts wichtig. \n 
URL:https://dortmund-kreativ.de/event/11-westfaelischen-kulturkonferenz/
LOCATION:Digital
CATEGORIES:Kreativwirtschaft,Netzwerk
ATTACH;FMTTYPE=image/jpeg:https://dortmund-kreativ.de/wp-content/uploads/2022/09/blanko__-_querformat.jpg__1920x920_q90_crop_subsampling-2_upscale.jpg
END:VEVENT
END:VCALENDAR