BEGIN:VCALENDAR
VERSION:2.0
PRODID:-//Dortmund Kreativ - ECPv6.15.18//NONSGML v1.0//EN
CALSCALE:GREGORIAN
METHOD:PUBLISH
X-WR-CALNAME:Dortmund Kreativ
X-ORIGINAL-URL:https://dortmund-kreativ.de
X-WR-CALDESC:Veranstaltungen für Dortmund Kreativ
REFRESH-INTERVAL;VALUE=DURATION:PT1H
X-Robots-Tag:noindex
X-PUBLISHED-TTL:PT1H
BEGIN:VTIMEZONE
TZID:Europe/Berlin
BEGIN:DAYLIGHT
TZOFFSETFROM:+0100
TZOFFSETTO:+0200
TZNAME:CEST
DTSTART:20210328T010000
END:DAYLIGHT
BEGIN:STANDARD
TZOFFSETFROM:+0200
TZOFFSETTO:+0100
TZNAME:CET
DTSTART:20211031T010000
END:STANDARD
BEGIN:DAYLIGHT
TZOFFSETFROM:+0100
TZOFFSETTO:+0200
TZNAME:CEST
DTSTART:20220327T010000
END:DAYLIGHT
BEGIN:STANDARD
TZOFFSETFROM:+0200
TZOFFSETTO:+0100
TZNAME:CET
DTSTART:20221030T010000
END:STANDARD
BEGIN:DAYLIGHT
TZOFFSETFROM:+0100
TZOFFSETTO:+0200
TZNAME:CEST
DTSTART:20230326T010000
END:DAYLIGHT
BEGIN:STANDARD
TZOFFSETFROM:+0200
TZOFFSETTO:+0100
TZNAME:CET
DTSTART:20231029T010000
END:STANDARD
END:VTIMEZONE
BEGIN:VEVENT
DTSTART;VALUE=DATE:20220618
DTEND;VALUE=DATE:20220619
DTSTAMP:20260421T110122
CREATED:20220614T130347Z
LAST-MODIFIED:20220614T130434Z
UID:5994-1655510400-1655596799@dortmund-kreativ.de
SUMMARY:14. FEST DER CHÖRE und !SING – DAY OF SONG
DESCRIPTION:Das 14. FEST DER CHÖRE und der ruhrgebietsweite !SING – DAY OF SONG locken am kommenden Samstag wieder in die Dortmunder Innenstadt. Rund 80 Chöre und Vokalensembles aus Dortmund und Umgebung erfüllen nach zwei Jahren Pause Plätze\, Kirchen und Konzertsäle rund um die Reinoldikirche mit Gesang – vom klassischen Volkslied bis hin zum Schlager\, Musical\, Jazz- und Popsong ist alles vertreten. Dieses facettenreiche Programm\, das von Kinder- und Jugendchören ebenso wie von gemischten Erwachsenenchören und Vokalensembles gestaltet wird\, lädt zum Zuhören und Mitsingen ein. \nEINIGE PROGRAMM-HIGHLIGHTS\nDer Landesjugendchor NRW wird erstmals beim FEST DER CHÖRE auftreten und um 17.00 Uhr unter Erik Sohn auf dem Alten Markt attraktive Popsongs präsentieren. \nEin weiterer Höhepunkt erwartet das Publikum um 18.00 Uhr im Orchesterzentrum|NRW: Der Kammerchor der TU Dortmund bietet ein facettenreiches Programm mit französischen und deutschen Liedern und Balladen für Chor a-cappella und mit Klavierbegleitung. Werke von Gabriel Fauré\, Francis Poulenc\, Josef Gabriel Rheinberger und Franz Schubert stehen auf dem Programm. Zum Auftakt des Konzertes wird das Ensemble in Residence des Vokalmusikzentrums NRW Orpheus XXI NRW unter der Leitung von Rebal Alkhodari Ausschnitte aus seinem neuen Programm „Der fliegende Teppich“ mit Musik aus dem arabischen Kulturraum erklingen lassen. \n  \nDAS FINALE: ABENDKONZERT AUF DEM ALTEN MARKT\nDas Abendkonzert auf dem Alten Markt beschließt attraktiv und poppig den großen Tag des Chorgesangs. Es wird in Kooperation und mit Unterstützung der Ruhr Tourismus GmbH und des !SING – DAY OF SONG durchgeführt. Drei hervorragende Ensembles sind dabei und begeistern in der abendlichen Atmosphäre mit einem vielfältigen Programm. \nMit Sounding People ist unter der Leitung von Indra Tedjasukmana der erfolgreiche A-cappella-Popchor aus Dortmund zu erleben\, der 2019 bei einem internationalen Wettbewerb in Maastricht und 2021 bei der Chorolympiade den ersten Preis in der Kategorie Pop abräumen konnte. Die eigenen Arrangements von Klassikern „You’re the voice“ bis hin zu aktuellen Chart-Hits wie „Breathin“ von Ariana Grande sind groove-orientiert und begeistern durch Beatbox. \nDie Florian Singers vertreten Dortmund seit über 50 Jahren musikalisch bei Gastspielen in vielen Erdteilen: Unter ihrem jetzigen Leiter Prof. Dr. Hans Frambach überzeugt der beliebte Chor mit eingängigen Arrangements. Zum aktuellen Repertoire gehören nicht nur Oldies und Latin-Songs\, sondern vor allem Pop-Klassiker wie „September“ von Earth\, Wind & Fire sowie „Rosanna“ oder „Africa“ von Toto. \nDer Pop- und Jazzchor Pop-Up Detmold der dortigen Musikhochschule unter Anne Kohler schließlich zählt zu den bekanntesten und besten deutschen Ensembles seiner Art. Der Sieger des letzten Deutschen Chorwettbewerbs (2018) singt nicht nur Popsongs und Jazzstandards\, sondern führt auch Songwriter-Titel und Folklore im Repertoire. \nAlle Infos findet Ihr hier
URL:https://dortmund-kreativ.de/event/14-fest-der-choere-und-sing-day-of-song/
LOCATION:Diverse\, Dortmund
CATEGORIES:Familien,Festival,Musikwirtschaft
ATTACH;FMTTYPE=image/jpeg:https://dortmund-kreativ.de/wp-content/uploads/2022/06/190615_FDC©Buelent-Kirschbaum_613.jpg
END:VEVENT
END:VCALENDAR