BEGIN:VCALENDAR
VERSION:2.0
PRODID:-//Dortmund Kreativ - ECPv6.15.18//NONSGML v1.0//EN
CALSCALE:GREGORIAN
METHOD:PUBLISH
X-WR-CALNAME:Dortmund Kreativ
X-ORIGINAL-URL:https://dortmund-kreativ.de
X-WR-CALDESC:Veranstaltungen für Dortmund Kreativ
REFRESH-INTERVAL;VALUE=DURATION:PT1H
X-Robots-Tag:noindex
X-PUBLISHED-TTL:PT1H
BEGIN:VTIMEZONE
TZID:Europe/Berlin
BEGIN:DAYLIGHT
TZOFFSETFROM:+0100
TZOFFSETTO:+0200
TZNAME:CEST
DTSTART:20240331T010000
END:DAYLIGHT
BEGIN:STANDARD
TZOFFSETFROM:+0200
TZOFFSETTO:+0100
TZNAME:CET
DTSTART:20241027T010000
END:STANDARD
BEGIN:DAYLIGHT
TZOFFSETFROM:+0100
TZOFFSETTO:+0200
TZNAME:CEST
DTSTART:20250330T010000
END:DAYLIGHT
BEGIN:STANDARD
TZOFFSETFROM:+0200
TZOFFSETTO:+0100
TZNAME:CET
DTSTART:20251026T010000
END:STANDARD
BEGIN:DAYLIGHT
TZOFFSETFROM:+0100
TZOFFSETTO:+0200
TZNAME:CEST
DTSTART:20260329T010000
END:DAYLIGHT
BEGIN:STANDARD
TZOFFSETFROM:+0200
TZOFFSETTO:+0100
TZNAME:CET
DTSTART:20261025T010000
END:STANDARD
END:VTIMEZONE
BEGIN:VEVENT
DTSTART;TZID=Europe/Berlin:20251205T090000
DTEND;TZID=Europe/Berlin:20251205T170000
DTSTAMP:20260421T212811
CREATED:20251120T140230Z
LAST-MODIFIED:20251120T140230Z
UID:15562-1764925200-1764954000@dortmund-kreativ.de
SUMMARY:14. Westfälische Kulturkonferenz
DESCRIPTION:Die 14. Westfälische Kulturkonferenz stellt generative Künstliche Intelligenz (KI) in den Mittelpunkt. KI bietet enorme Potenziale\, wirft aber ebenso wichtige ethische und rechtliche Fragen auf. Die Entwicklung ist rasant. \nVerstehen – Ausprobieren – Reflektieren: Unter diesem Motto wollen wir bei der Konferenz Möglichkeiten und Grenzen von generativer KI in der Kulturarbeit ermitteln und diskutieren. Es gilt\, ein Bewusstsein\, mehr noch eine Haltung zu entwickeln: Wie will ich damit umgehen\, wie verhalten wir uns als Gesellschaft dazu? \nIn Vorträgen\, einer KI-Werkstatt sowie in diskursorientierten Foren stehen die für den Kulturbereich relevanten Anwendungsbereiche im Fokus. Die Konferenz zeigt generative KI als Werkzeug in künstlerischen\, kuratorischen und administrativen Prozessen – vom prompt­basierten Storyboard bis zur barrierefreien Vermittlung. Diskutieren Sie über Urheberrecht und Datenschutz\, Verzerrungseffekte und Nachhaltigkeit oder das Verhältnis zwischen Kunst\, Kreativität und KI. Unser Ziel ist es\, Mythen abzubauen\, Orientierung zu bieten und Lust auf selbstbestimmtes Handeln zu wecken. \nEingeladen sind alle Kunst- und Kulturschaffenden\, Entscheidungstragende\, Ehren- und Hauptamtliche sowie Interessierte – unabhängig vom eigenen Kenntnisstand. Bringen Sie Ihre Fragen\, Erfahrungen und Visionen mit! Gemeinsam vernetzen wir uns über räumliche und institutionelle Grenzen hinweg\, stärken die Kulturregion Westfalen-Lippe und entwickeln unsere Vorstellungen von einer digitalen Zukunft\, in der Vielfalt\, Kreativität und demokratische Verantwortung Hand in Hand gehen.
URL:https://dortmund-kreativ.de/event/14-westfaelische-kulturkonferenz/
LOCATION:Erich-Göpfert-Stadthalle\, Parkstraße 44\, Unna\, 59425
CATEGORIES:KI,Kreativwirtschaft,Netzwerk,Qualifizierung,Zukunft
ATTACH;FMTTYPE=image/jpeg:https://dortmund-kreativ.de/wp-content/uploads/2025/11/westfaelischekulturkonferenz25.jpeg
END:VEVENT
END:VCALENDAR