BEGIN:VCALENDAR
VERSION:2.0
PRODID:-//Dortmund Kreativ - ECPv6.15.18//NONSGML v1.0//EN
CALSCALE:GREGORIAN
METHOD:PUBLISH
X-WR-CALNAME:Dortmund Kreativ
X-ORIGINAL-URL:https://dortmund-kreativ.de
X-WR-CALDESC:Veranstaltungen für Dortmund Kreativ
REFRESH-INTERVAL;VALUE=DURATION:PT1H
X-Robots-Tag:noindex
X-PUBLISHED-TTL:PT1H
BEGIN:VTIMEZONE
TZID:Europe/Berlin
BEGIN:DAYLIGHT
TZOFFSETFROM:+0100
TZOFFSETTO:+0200
TZNAME:CEST
DTSTART:20240331T010000
END:DAYLIGHT
BEGIN:STANDARD
TZOFFSETFROM:+0200
TZOFFSETTO:+0100
TZNAME:CET
DTSTART:20241027T010000
END:STANDARD
BEGIN:DAYLIGHT
TZOFFSETFROM:+0100
TZOFFSETTO:+0200
TZNAME:CEST
DTSTART:20250330T010000
END:DAYLIGHT
BEGIN:STANDARD
TZOFFSETFROM:+0200
TZOFFSETTO:+0100
TZNAME:CET
DTSTART:20251026T010000
END:STANDARD
BEGIN:DAYLIGHT
TZOFFSETFROM:+0100
TZOFFSETTO:+0200
TZNAME:CEST
DTSTART:20260329T010000
END:DAYLIGHT
BEGIN:STANDARD
TZOFFSETFROM:+0200
TZOFFSETTO:+0100
TZNAME:CET
DTSTART:20261025T010000
END:STANDARD
END:VTIMEZONE
BEGIN:VEVENT
DTSTART;TZID=Europe/Berlin:20250619T150000
DTEND;TZID=Europe/Berlin:20250619T200000
DTSTAMP:20260422T062354
CREATED:20250527T084821Z
LAST-MODIFIED:20250527T112510Z
UID:14600-1750345200-1750363200@dortmund-kreativ.de
SUMMARY:Create & Skate - Rampen bemalen mit Lara Michalski | DORTMUND URBAN
DESCRIPTION:Create and Skate! \nZusammen mit Lara Michalski werden am 19.6. ab 15 Uhr die Rampen des Skateparks in der Kampstrasse herausgeputzt. Alles was du brauchst ist Spaß und etwas Kreativität.\n\nAm Besten wird an diesem Tag nicht der feinste Fummel angezogen\, sodass der ein oder andere Farbklecks auch auf der Kleidung landen kann 🙂 \nANMELDUNG:\nTeilnahme ist per Voranmeldung via larajuliemichalski@gmail.com möglich.
URL:https://dortmund-kreativ.de/event/14600/
LOCATION:Bühne 4 | Kampstraße | DORTMUND URBAN\, Kampstraße\, Dortmund\, 44135
CATEGORIES:DORTMUND URBAN
ORGANIZER;CN="DORTMUND KREATIV":MAILTO:hallo@dortmund-kreativ.de
END:VEVENT
END:VCALENDAR