BEGIN:VCALENDAR
VERSION:2.0
PRODID:-//Dortmund Kreativ - ECPv6.15.18//NONSGML v1.0//EN
CALSCALE:GREGORIAN
METHOD:PUBLISH
X-WR-CALNAME:Dortmund Kreativ
X-ORIGINAL-URL:https://dortmund-kreativ.de
X-WR-CALDESC:Veranstaltungen für Dortmund Kreativ
REFRESH-INTERVAL;VALUE=DURATION:PT1H
X-Robots-Tag:noindex
X-PUBLISHED-TTL:PT1H
BEGIN:VTIMEZONE
TZID:Europe/Berlin
BEGIN:DAYLIGHT
TZOFFSETFROM:+0100
TZOFFSETTO:+0200
TZNAME:CEST
DTSTART:20210328T010000
END:DAYLIGHT
BEGIN:STANDARD
TZOFFSETFROM:+0200
TZOFFSETTO:+0100
TZNAME:CET
DTSTART:20211031T010000
END:STANDARD
BEGIN:DAYLIGHT
TZOFFSETFROM:+0100
TZOFFSETTO:+0200
TZNAME:CEST
DTSTART:20220327T010000
END:DAYLIGHT
BEGIN:STANDARD
TZOFFSETFROM:+0200
TZOFFSETTO:+0100
TZNAME:CET
DTSTART:20221030T010000
END:STANDARD
BEGIN:DAYLIGHT
TZOFFSETFROM:+0100
TZOFFSETTO:+0200
TZNAME:CEST
DTSTART:20230326T010000
END:DAYLIGHT
BEGIN:STANDARD
TZOFFSETFROM:+0200
TZOFFSETTO:+0100
TZNAME:CET
DTSTART:20231029T010000
END:STANDARD
END:VTIMEZONE
BEGIN:VEVENT
DTSTART;TZID=Europe/Berlin:20221206T133000
DTEND;TZID=Europe/Berlin:20221206T183000
DTSTAMP:20260422T123036
CREATED:20221114T101437Z
LAST-MODIFIED:20221114T101437Z
UID:7074-1670333400-1670351400@dortmund-kreativ.de
SUMMARY:15. NETZWERKTREFFEN KREATIV.QUARTIERE RUHR
DESCRIPTION:  \nHerzliche Einladung zum 15. Netzwerktreffen Kreativ.Quartiere Ruhr am 06. Dezember in der Rotunde in Bochum! \nAm 06. Dezember 2022 findet ab 13:30 Uhr das 15. Netzwerktreffen Kreativ.Quartiere Ruhr in der Rotunde Bochum statt. Das Netzwerktreffen bietet Künstler*innen\, Kreativen sowie kulturellen und kommunalen Akteur*innen aus allen Kreativ.Quartieren die Möglichkeit sich auszutauschen und zu vernetzen. \nAlle weiteren Infos und das Anmeldeformular findet ihr hier!
URL:https://dortmund-kreativ.de/event/15-netzwerktreffen-kreativ-quartiere-ruhr/
LOCATION:Rotunde Bochum\, Konrad-Adenauer-Platz 3\, Bochum
CATEGORIES:Kreativquartiere
END:VEVENT
END:VCALENDAR