BEGIN:VCALENDAR
VERSION:2.0
PRODID:-//Dortmund Kreativ - ECPv6.15.18//NONSGML v1.0//EN
CALSCALE:GREGORIAN
METHOD:PUBLISH
X-WR-CALNAME:Dortmund Kreativ
X-ORIGINAL-URL:https://dortmund-kreativ.de
X-WR-CALDESC:Veranstaltungen für Dortmund Kreativ
REFRESH-INTERVAL;VALUE=DURATION:PT1H
X-Robots-Tag:noindex
X-PUBLISHED-TTL:PT1H
BEGIN:VTIMEZONE
TZID:Europe/Berlin
BEGIN:DAYLIGHT
TZOFFSETFROM:+0100
TZOFFSETTO:+0200
TZNAME:CEST
DTSTART:20210328T010000
END:DAYLIGHT
BEGIN:STANDARD
TZOFFSETFROM:+0200
TZOFFSETTO:+0100
TZNAME:CET
DTSTART:20211031T010000
END:STANDARD
BEGIN:DAYLIGHT
TZOFFSETFROM:+0100
TZOFFSETTO:+0200
TZNAME:CEST
DTSTART:20220327T010000
END:DAYLIGHT
BEGIN:STANDARD
TZOFFSETFROM:+0200
TZOFFSETTO:+0100
TZNAME:CET
DTSTART:20221030T010000
END:STANDARD
BEGIN:DAYLIGHT
TZOFFSETFROM:+0100
TZOFFSETTO:+0200
TZNAME:CEST
DTSTART:20230326T010000
END:DAYLIGHT
BEGIN:STANDARD
TZOFFSETFROM:+0200
TZOFFSETTO:+0100
TZNAME:CET
DTSTART:20231029T010000
END:STANDARD
END:VTIMEZONE
BEGIN:VEVENT
DTSTART;TZID=Europe/Berlin:20221226T110000
DTEND;TZID=Europe/Berlin:20221226T140000
DTSTAMP:20260424T185311
CREATED:20221219T084931Z
LAST-MODIFIED:20221219T084931Z
UID:7338-1672052400-1672063200@dortmund-kreativ.de
SUMMARY:50. WEIHNACHTS-JAZZMATINEE im Opernhaus
DESCRIPTION:Am 26.12.22\, also am zweiten Weihnachtsfeiertag\, geht der Jazz wieder in die Oper. \nDie 50. Weihnachts-Jazzmatinee des domicil präsentiert von 11-14 Uhr wieder 10 Bands auf 5 Bühnen im weitläufigen Foyer des Opernhauses. Mit dabei sind u.a. Lyrical Jazz Project\, Alam Bülow Trio\, Salon 4b\, GBJA Masterclass Ensemble\, Groove n.b.H.\, schwarz/rot Atemgold 09\, Inoyson\, Karl Erik Niggemann\, Searching for the Goat und – zum 50-sten Male! – die Pilspicker Jazzband um Jimmy Horschler. \n50. WEIHNACHTS-JAZZMATINEE\n10 Bands auf 5 Bühnen\nMo 26.12.20122\, 11-14 Uhr · Opernhaus Dortmund / Foyer \n 
URL:https://dortmund-kreativ.de/event/50-weihnachts-jazzmatinee-im-opernhaus/
LOCATION:Opernhaus Dortmund\, Platz der Alten Synagoge\, Dortmund\, 44137
CATEGORIES:Kreativwirtschaft,Musikwirtschaft,Netzwerk
ATTACH;FMTTYPE=image/jpeg:https://dortmund-kreativ.de/wp-content/uploads/2022/12/2022-12-Weihnacht-Jazzmatinee-Titel.jpg
END:VEVENT
END:VCALENDAR