BEGIN:VCALENDAR
VERSION:2.0
PRODID:-//Dortmund Kreativ - ECPv6.15.18//NONSGML v1.0//EN
CALSCALE:GREGORIAN
METHOD:PUBLISH
X-WR-CALNAME:Dortmund Kreativ
X-ORIGINAL-URL:https://dortmund-kreativ.de
X-WR-CALDESC:Veranstaltungen für Dortmund Kreativ
REFRESH-INTERVAL;VALUE=DURATION:PT1H
X-Robots-Tag:noindex
X-PUBLISHED-TTL:PT1H
BEGIN:VTIMEZONE
TZID:Europe/Berlin
BEGIN:DAYLIGHT
TZOFFSETFROM:+0100
TZOFFSETTO:+0200
TZNAME:CEST
DTSTART:20220327T010000
END:DAYLIGHT
BEGIN:STANDARD
TZOFFSETFROM:+0200
TZOFFSETTO:+0100
TZNAME:CET
DTSTART:20221030T010000
END:STANDARD
BEGIN:DAYLIGHT
TZOFFSETFROM:+0100
TZOFFSETTO:+0200
TZNAME:CEST
DTSTART:20230326T010000
END:DAYLIGHT
BEGIN:STANDARD
TZOFFSETFROM:+0200
TZOFFSETTO:+0100
TZNAME:CET
DTSTART:20231029T010000
END:STANDARD
BEGIN:DAYLIGHT
TZOFFSETFROM:+0100
TZOFFSETTO:+0200
TZNAME:CEST
DTSTART:20240331T010000
END:DAYLIGHT
BEGIN:STANDARD
TZOFFSETFROM:+0200
TZOFFSETTO:+0100
TZNAME:CET
DTSTART:20241027T010000
END:STANDARD
END:VTIMEZONE
BEGIN:VEVENT
DTSTART;TZID=Europe/Berlin:20230323T100000
DTEND;TZID=Europe/Berlin:20230323T160000
DTSTAMP:20260423T084337
CREATED:20230228T154153Z
LAST-MODIFIED:20230228T154205Z
UID:7968-1679565600-1679587200@dortmund-kreativ.de
SUMMARY:INNOVATION DAY 2023
DESCRIPTION:Der Innovation Day der ‚Business Metropole Ruhr‘ präsentiert in diesem Jahr nachhaltige Innovationen aus den Bereichen „Fashion“\, „Food“ und „Events“. Inspirierende Keynotes und spannende Dialogrunden warten am 23. März 2023 auf euch! \nIm Ausstellungsbereich präsentieren sich Unternehmen und Startups aus den Bereichen „Fashion“ und „Food“ zudem stellen sich die Innovationszentren der Metropole Ruhr mit ihren Unterstützungsmöglichkeiten für Startups vor. \nAbgerundet wird diese Abschlussveranstaltung der Projekte Creative Innovation Ruhr und Innovationszentren Ruhr durch vielfältige Möglichkeiten zum Netzwerken und Kennenlernen. \nInnovation Day 2023\n23. März 2023\n09:30 Uhr bis 16:00 Uhr \nAlte Wetthalle der Galopprennbahn Dortmund\nRennweg 70\, 44143 Dortmund \nAlle weiteren Infos zum Programm und das Anmeldeformular findet ihr hier!
URL:https://dortmund-kreativ.de/event/7968/
LOCATION:Galopprennbahn Dortmund\, Rennweg 70\, Dortmund\, 44143
CATEGORIES:Ausstellung,Gründung,Kreativwirtschaft,Nachhaltigkeit,Netzwerk
END:VEVENT
END:VCALENDAR