BEGIN:VCALENDAR
VERSION:2.0
PRODID:-//Dortmund Kreativ - ECPv6.15.18//NONSGML v1.0//EN
CALSCALE:GREGORIAN
METHOD:PUBLISH
X-WR-CALNAME:Dortmund Kreativ
X-ORIGINAL-URL:https://dortmund-kreativ.de
X-WR-CALDESC:Veranstaltungen für Dortmund Kreativ
REFRESH-INTERVAL;VALUE=DURATION:PT1H
X-Robots-Tag:noindex
X-PUBLISHED-TTL:PT1H
BEGIN:VTIMEZONE
TZID:Europe/Berlin
BEGIN:DAYLIGHT
TZOFFSETFROM:+0100
TZOFFSETTO:+0200
TZNAME:CEST
DTSTART:20220327T010000
END:DAYLIGHT
BEGIN:STANDARD
TZOFFSETFROM:+0200
TZOFFSETTO:+0100
TZNAME:CET
DTSTART:20221030T010000
END:STANDARD
BEGIN:DAYLIGHT
TZOFFSETFROM:+0100
TZOFFSETTO:+0200
TZNAME:CEST
DTSTART:20230326T010000
END:DAYLIGHT
BEGIN:STANDARD
TZOFFSETFROM:+0200
TZOFFSETTO:+0100
TZNAME:CET
DTSTART:20231029T010000
END:STANDARD
BEGIN:DAYLIGHT
TZOFFSETFROM:+0100
TZOFFSETTO:+0200
TZNAME:CEST
DTSTART:20240331T010000
END:DAYLIGHT
BEGIN:STANDARD
TZOFFSETFROM:+0200
TZOFFSETTO:+0100
TZNAME:CET
DTSTART:20241027T010000
END:STANDARD
END:VTIMEZONE
BEGIN:VEVENT
DTSTART;TZID=Europe/Berlin:20230117T160000
DTEND;TZID=Europe/Berlin:20230117T180000
DTSTAMP:20260424T184802
CREATED:20221214T150656Z
LAST-MODIFIED:20221214T150656Z
UID:7278-1673971200-1673978400@dortmund-kreativ.de
SUMMARY:8. DESIGNCAMP.NRW „REPARIERBARKEIT“
DESCRIPTION:  \nAm 17. Januar 2023 lädt die Effizienz-Agentur NRW erneut Industriedesigner*innen zum digitalen Austausch ein. Das achte DesignCamp.NRW mit dem Thema „Reparierbarkeit“ will Erfahrungswerte und Lösungsideen für ein nachhaltiges Design identifizieren. \nVeranstaltungsdaten:\nDienstag\, 17. Januar 2023\n16:00 bis 18:00 Uhr\nOnline \nZUR ANMELDUNG \nZiel des DesignCamp.NRW ist der produkt- und technologieoffene Austausch von Industriedesignern aus NRW\, um Erfahrungswerte und Lösungsideen für ein nachhaltiges Design zu identifizieren. Als externe Impulsgeber werden dabei Multiplikatoren aus Politik\, Wissenschaft\, Handel und Konsum eingebunden. \nWeitere Infos
URL:https://dortmund-kreativ.de/event/8-designcamp-nrw-reparierbarkeit/
LOCATION:Online-Event
CATEGORIES:Designwirtschaft
END:VEVENT
END:VCALENDAR