BEGIN:VCALENDAR
VERSION:2.0
PRODID:-//Dortmund Kreativ - ECPv6.15.18//NONSGML v1.0//EN
CALSCALE:GREGORIAN
METHOD:PUBLISH
X-WR-CALNAME:Dortmund Kreativ
X-ORIGINAL-URL:https://dortmund-kreativ.de
X-WR-CALDESC:Veranstaltungen für Dortmund Kreativ
REFRESH-INTERVAL;VALUE=DURATION:PT1H
X-Robots-Tag:noindex
X-PUBLISHED-TTL:PT1H
BEGIN:VTIMEZONE
TZID:Europe/Berlin
BEGIN:DAYLIGHT
TZOFFSETFROM:+0100
TZOFFSETTO:+0200
TZNAME:CEST
DTSTART:20190331T010000
END:DAYLIGHT
BEGIN:STANDARD
TZOFFSETFROM:+0200
TZOFFSETTO:+0100
TZNAME:CET
DTSTART:20191027T010000
END:STANDARD
BEGIN:DAYLIGHT
TZOFFSETFROM:+0100
TZOFFSETTO:+0200
TZNAME:CEST
DTSTART:20200329T010000
END:DAYLIGHT
BEGIN:STANDARD
TZOFFSETFROM:+0200
TZOFFSETTO:+0100
TZNAME:CET
DTSTART:20201025T010000
END:STANDARD
BEGIN:DAYLIGHT
TZOFFSETFROM:+0100
TZOFFSETTO:+0200
TZNAME:CEST
DTSTART:20210328T010000
END:DAYLIGHT
BEGIN:STANDARD
TZOFFSETFROM:+0200
TZOFFSETTO:+0100
TZNAME:CET
DTSTART:20211031T010000
END:STANDARD
END:VTIMEZONE
BEGIN:VEVENT
DTSTART;TZID=Europe/Berlin:20201205T190000
DTEND;TZID=Europe/Berlin:20201205T210000
DTSTAMP:20260422T223400
CREATED:20201202T133054Z
LAST-MODIFIED:20201202T133249Z
UID:10000014-1607194800-1607202000@dortmund-kreativ.de
SUMMARY:AAA - Access Arts Aid | Live-Online-Kulturprogramm
DESCRIPTION:Das Access | Artists | Aid ist ein kostenloses Live-Online-Kulturprogramm mit Benefizcharakter\, dass an „unmöglichen“ Orten in Dortmund stattfindet. \nAm 05.\, 12.\, und 19. Dezember inszeniert artscenico performing arts insgesamt 9 künstlerische Acts an drei außergewöhnlichen Locations in Dortmund jeweils um 19 Uhr im Livestream! Wo genau\, wird jeweils kurz vor Vorstellungsbeginn HIER verraten. \nDamit bekommen Dortmunder KünstlerInnen\, denen durch die Corona-Pandemie Auftrittsmöglichkeiten und damit ihr Lebensunterhalt entzogen wurden\, eine Bühne. \nMehr Infos zu den KünstlerInnen\, dem Background sowie Möglichkeiten\, das Projekt zu unterstützen\, findet ihr hier.
URL:https://dortmund-kreativ.de/event/aaa-access-arts-aid/2020-12-05/
LOCATION:Digital
CATEGORIES:Darstellende Kunst,Kreativwirtschaft,Kunstmarkt
END:VEVENT
END:VCALENDAR