BEGIN:VCALENDAR
VERSION:2.0
PRODID:-//Dortmund Kreativ - ECPv6.15.18//NONSGML v1.0//EN
CALSCALE:GREGORIAN
METHOD:PUBLISH
X-WR-CALNAME:Dortmund Kreativ
X-ORIGINAL-URL:https://dortmund-kreativ.de
X-WR-CALDESC:Veranstaltungen für Dortmund Kreativ
REFRESH-INTERVAL;VALUE=DURATION:PT1H
X-Robots-Tag:noindex
X-PUBLISHED-TTL:PT1H
BEGIN:VTIMEZONE
TZID:Europe/Berlin
BEGIN:DAYLIGHT
TZOFFSETFROM:+0100
TZOFFSETTO:+0200
TZNAME:CEST
DTSTART:20250330T010000
END:DAYLIGHT
BEGIN:STANDARD
TZOFFSETFROM:+0200
TZOFFSETTO:+0100
TZNAME:CET
DTSTART:20251026T010000
END:STANDARD
BEGIN:DAYLIGHT
TZOFFSETFROM:+0100
TZOFFSETTO:+0200
TZNAME:CEST
DTSTART:20260329T010000
END:DAYLIGHT
BEGIN:STANDARD
TZOFFSETFROM:+0200
TZOFFSETTO:+0100
TZNAME:CET
DTSTART:20261025T010000
END:STANDARD
BEGIN:DAYLIGHT
TZOFFSETFROM:+0100
TZOFFSETTO:+0200
TZNAME:CEST
DTSTART:20270328T010000
END:DAYLIGHT
BEGIN:STANDARD
TZOFFSETFROM:+0200
TZOFFSETTO:+0100
TZNAME:CET
DTSTART:20271031T010000
END:STANDARD
END:VTIMEZONE
BEGIN:VEVENT
DTSTART;TZID=Europe/Berlin:20260520T160000
DTEND;TZID=Europe/Berlin:20260520T180000
DTSTAMP:20260426T013753
CREATED:20251209T103718Z
LAST-MODIFIED:20260121T105912Z
UID:15811-1779292800-1779300000@dortmund-kreativ.de
SUMMARY:Alles\, was Recht ist: Das kleine 1×1 der KI-Nutzung (Qualiprogramm 2026)
DESCRIPTION:Die kreative Welt befindet sich im Wandel:\nKünstliche Intelligenz (KI) hält Einzug in immer mehr kreative Prozesse. Doch was bedeutet das aus rechtlicher Sicht?\nDiese Seminar behandelt die rechtlichen Grauzonen und spannenden Möglichkeiten der KI und beleuchtet die relevanten rechtlichen Aspekte der KI-Nutzung; von Datenschutz über Haftungsfragen bis hin zu ethischen Überlegungen. Das Seminar richtet sich an Kreative\, Urheber*innen und Unternehmer*innen\, die die Chancen der KI rechtssicher nutzen wollen. \n  \nReferentin: Ina Ruhoff | Rechtsanwältin \n  \n\nANMELDUNG: \nEine verbindliche Anmeldung unter hallo@dortmund-kreativ.de ist aus organisatorischen Gründen zwingend erforderlich\, da es jeweils nur eine begrenzte Anzahl von Teilnehmerplätze gibt.\nBitte gebt bei der Anmeldung das Thema und das Datum der Veranstaltung sowie Eure Teilbranche (z.B. Fotografie\, Design\, Architektur) an. \nBei Fragen wendet Euch gerne an Jan Wittkamp (jwittkamp@stadtdo.de // 0231/50-22060).
URL:https://dortmund-kreativ.de/event/alles-was-recht-ist-das-kleine-1x1-der-ki-nutzung-qualiprogramm-2026/
LOCATION:SUPERRAUM\, Brückstraße 64\, Dortmund\, 44135\, Deutschland
CATEGORIES:DORTMUND KREATIV,Kreativwirtschaft,Qualifizierung,SUPERRAUM,Zukunft
ORGANIZER;CN="DORTMUND KREATIV":MAILTO:hallo@dortmund-kreativ.de
END:VEVENT
END:VCALENDAR