BEGIN:VCALENDAR
VERSION:2.0
PRODID:-//Dortmund Kreativ - ECPv6.15.18//NONSGML v1.0//EN
CALSCALE:GREGORIAN
METHOD:PUBLISH
X-WR-CALNAME:Dortmund Kreativ
X-ORIGINAL-URL:https://dortmund-kreativ.de
X-WR-CALDESC:Veranstaltungen für Dortmund Kreativ
REFRESH-INTERVAL;VALUE=DURATION:PT1H
X-Robots-Tag:noindex
X-PUBLISHED-TTL:PT1H
BEGIN:VTIMEZONE
TZID:Europe/Berlin
BEGIN:DAYLIGHT
TZOFFSETFROM:+0100
TZOFFSETTO:+0200
TZNAME:CEST
DTSTART:20210328T010000
END:DAYLIGHT
BEGIN:STANDARD
TZOFFSETFROM:+0200
TZOFFSETTO:+0100
TZNAME:CET
DTSTART:20211031T010000
END:STANDARD
BEGIN:DAYLIGHT
TZOFFSETFROM:+0100
TZOFFSETTO:+0200
TZNAME:CEST
DTSTART:20220327T010000
END:DAYLIGHT
BEGIN:STANDARD
TZOFFSETFROM:+0200
TZOFFSETTO:+0100
TZNAME:CET
DTSTART:20221030T010000
END:STANDARD
BEGIN:DAYLIGHT
TZOFFSETFROM:+0100
TZOFFSETTO:+0200
TZNAME:CEST
DTSTART:20230326T010000
END:DAYLIGHT
BEGIN:STANDARD
TZOFFSETFROM:+0200
TZOFFSETTO:+0100
TZNAME:CET
DTSTART:20231029T010000
END:STANDARD
END:VTIMEZONE
BEGIN:VEVENT
DTSTART;VALUE=DATE:20221001
DTEND;VALUE=DATE:20221021
DTSTAMP:20260424T235608
CREATED:20220923T091227Z
LAST-MODIFIED:20220927T105221Z
UID:6668-1664582400-1666310399@dortmund-kreativ.de
SUMMARY:AM RANDE
DESCRIPTION:Am Rande beschreibt eine Spurensuche\, die bildlich gesprochen auf das Suchen nach Hinweisen auf Zusammenhänge\, Ursachen\, Erklärungen verweist; das Sammeln von Informationen\, Erinnerungen und Eindrücken\, die einen Ausschnitt der Vergangenheit dokumentieren. \nDie Arbeiten in der Ausstellung verfolgen dabei keinen historischen oder kriminalistischen Ansatz\, viel mehr beobachten sie Randerscheinungen und abseitige Notizen ihrer Umwelt und setzen diese in einen neuen strukturellen Zusammenhang. \nWas kann das fotografische Bild\, abseits seiner zunehmend selbstdarstellerischen Rolle in der Fotografie überhaupt noch repräsentieren\, und inwiefern kann eine Verlagerung vom Zentrum des Bildes zum Rande des Sujets sichtbar gemacht werden? \nBritta Baumann\nMartin de Crignis\nKristina Lenz\nJohann Husser\nSabrina Peters \nKuratiert von Julian Faulhaber \nAusstellungszeitraum: 01.10. – 20.10.2022 \nÖffnungszeiten:\nDienstags 12 bis 16 Uhr\nMittwochs 14 bis 18 Uhr\nDonnerstags 16 bis 19 Uhr\nSamstags 12 bis 16 Uhr \nAbbildung: © Britta Baumann
URL:https://dortmund-kreativ.de/event/am-rande/
LOCATION:SUPERRAUM\, Brückstraße 64\, Dortmund\, 44135\, Deutschland
CATEGORIES:Ausstellung,DORTMUND KREATIV,Fotografie,Kreativwirtschaft,Netzwerk,Projektraum,SUPERRAUM
ATTACH;FMTTYPE=image/jpeg:https://dortmund-kreativ.de/wp-content/uploads/2022/09/Britta_Handnotes_04.jpeg
ORGANIZER;CN="DORTMUND KREATIV":MAILTO:hallo@dortmund-kreativ.de
END:VEVENT
END:VCALENDAR