BEGIN:VCALENDAR
VERSION:2.0
PRODID:-//Dortmund Kreativ - ECPv6.15.18//NONSGML v1.0//EN
CALSCALE:GREGORIAN
METHOD:PUBLISH
X-WR-CALNAME:Dortmund Kreativ
X-ORIGINAL-URL:https://dortmund-kreativ.de
X-WR-CALDESC:Veranstaltungen für Dortmund Kreativ
REFRESH-INTERVAL;VALUE=DURATION:PT1H
X-Robots-Tag:noindex
X-PUBLISHED-TTL:PT1H
BEGIN:VTIMEZONE
TZID:Europe/Berlin
BEGIN:DAYLIGHT
TZOFFSETFROM:+0100
TZOFFSETTO:+0200
TZNAME:CEST
DTSTART:20240331T010000
END:DAYLIGHT
BEGIN:STANDARD
TZOFFSETFROM:+0200
TZOFFSETTO:+0100
TZNAME:CET
DTSTART:20241027T010000
END:STANDARD
BEGIN:DAYLIGHT
TZOFFSETFROM:+0100
TZOFFSETTO:+0200
TZNAME:CEST
DTSTART:20250330T010000
END:DAYLIGHT
BEGIN:STANDARD
TZOFFSETFROM:+0200
TZOFFSETTO:+0100
TZNAME:CET
DTSTART:20251026T010000
END:STANDARD
BEGIN:DAYLIGHT
TZOFFSETFROM:+0100
TZOFFSETTO:+0200
TZNAME:CEST
DTSTART:20260329T010000
END:DAYLIGHT
BEGIN:STANDARD
TZOFFSETFROM:+0200
TZOFFSETTO:+0100
TZNAME:CET
DTSTART:20261025T010000
END:STANDARD
END:VTIMEZONE
BEGIN:VEVENT
DTSTART;TZID=Europe/Berlin:20250619T153000
DTEND;TZID=Europe/Berlin:20250619T173000
DTSTAMP:20260422T063023
CREATED:20250526T140433Z
LAST-MODIFIED:20250526T140444Z
UID:14573-1750347000-1750354200@dortmund-kreativ.de
SUMMARY:Analoger zweiteiliger Fotografie Workshop | DORTMUND URBAN
DESCRIPTION:Zweiteiliger Analoger Fotografie Workshop mit Nina \nIm Rahmen von DORTMUND URBAN bietet Nina euch einen spannenden Workshop zur analogen Street-Fotografie an.\nDer Workshop findet in zwei Teilen statt und baut aufeinander auf: \n\nAm Donnerstag liegt der Fokus auf den Grundlagen und der Geschichte der analogen Street-Fotografie. Gemeinsam fotografieren wir das Festival und seine Besucher*innen\, um authentische Momente festzuhalten. Du hast eine eigene analoge Kamera? Bring diese gerne mit! Der Treffpunkt ist um 15:30 Uhr an der Bühne 4 auf der Kampstraße.\nAm Samstag widmen wir uns der Entwicklung der Filme\, um die entstandenen Bilder zum Leben zu erwecken. Treffpunkt ist um 18:00 Uhr am Hans A.\n\nDer Workshop ist perfekt für alle\, die die analoge Fotografie kennenlernen oder ihr Wissen vertiefen möchten. \nANMELDUNG:  \nMit Voranmeldung\, max 10 Teilnehmende per Mail: ninapauline@mailfence.com \nDu hast verpasst dich anzumelden\, schau gerne auch spontan vorbei!
URL:https://dortmund-kreativ.de/event/analoger-fotografie-workshop-dortmund-urban/
LOCATION:Bühne 4 | Kampstraße | DORTMUND URBAN\, Kampstraße\, Dortmund\, 44135
CATEGORIES:DORTMUND URBAN
ORGANIZER;CN="DORTMUND KREATIV":MAILTO:hallo@dortmund-kreativ.de
END:VEVENT
END:VCALENDAR