BEGIN:VCALENDAR
VERSION:2.0
PRODID:-//Dortmund Kreativ - ECPv6.15.18//NONSGML v1.0//EN
CALSCALE:GREGORIAN
METHOD:PUBLISH
X-WR-CALNAME:Dortmund Kreativ
X-ORIGINAL-URL:https://dortmund-kreativ.de
X-WR-CALDESC:Veranstaltungen für Dortmund Kreativ
REFRESH-INTERVAL;VALUE=DURATION:PT1H
X-Robots-Tag:noindex
X-PUBLISHED-TTL:PT1H
BEGIN:VTIMEZONE
TZID:Europe/Berlin
BEGIN:DAYLIGHT
TZOFFSETFROM:+0100
TZOFFSETTO:+0200
TZNAME:CEST
DTSTART:20240331T010000
END:DAYLIGHT
BEGIN:STANDARD
TZOFFSETFROM:+0200
TZOFFSETTO:+0100
TZNAME:CET
DTSTART:20241027T010000
END:STANDARD
BEGIN:DAYLIGHT
TZOFFSETFROM:+0100
TZOFFSETTO:+0200
TZNAME:CEST
DTSTART:20250330T010000
END:DAYLIGHT
BEGIN:STANDARD
TZOFFSETFROM:+0200
TZOFFSETTO:+0100
TZNAME:CET
DTSTART:20251026T010000
END:STANDARD
BEGIN:DAYLIGHT
TZOFFSETFROM:+0100
TZOFFSETTO:+0200
TZNAME:CEST
DTSTART:20260329T010000
END:DAYLIGHT
BEGIN:STANDARD
TZOFFSETFROM:+0200
TZOFFSETTO:+0100
TZNAME:CET
DTSTART:20261025T010000
END:STANDARD
END:VTIMEZONE
BEGIN:VEVENT
DTSTART;TZID=Europe/Berlin:20250923T190000
DTEND;TZID=Europe/Berlin:20250923T210000
DTSTAMP:20260422T032603
CREATED:20250901T080017Z
LAST-MODIFIED:20250901T080017Z
UID:15066-1758654000-1758661200@dortmund-kreativ.de
SUMMARY:ANNELISE: Eröffnung Cynthia Ruf „Ansätze der Transformation“
DESCRIPTION:Mit unterschiedlichen visuellen Herangehensweisen widmet sich die Ausstellung „Ansätze der Transformation“ alternativen Wohnkonzepten und untersucht Aspekte\, die zu nachhaltiger Architektur beitragen. \nDie Ausstellung ermöglicht eine differenzierte Betrachtung architektonischer Qualitäten\, gibt Einblicke in unterschiedliche Baukonzepte und geht in den direkten Austausch mit den Besuchenden. \nIn enger Zusammenarbeit mit Architekt*innen\, Bauherr*innen und Wissenschaftler*innen ist eine vielschichtige Darstellung entstanden\, die nicht nur den individuellen Charakter dieser architektonischen Konzepte hervorhebt\, sondern auch die Menschen hinter diesen Konzepten einbindet und Haltung zeigt. \n„Ansätze der Transformation“ versteht sich als visueller Beitrag zur aktuellen Bauwende und lädt zur Auseinandersetzung mit nachhaltigen Wohnformen als gestalterisch und gesellschaftlich relevante Alternative ein. \n\nCynthia Ruf „Ansätze der Transformation“ \nEröffnung: 23.09.2025\, 19:00 Uhr \nFinissage: 28.09.2025\, 18:00 Uhr \nÖffnungszeiten: 24. bis 28.09.2025\, jeweils von 15:00 bis 19:00 Uhr \nOrt: ANNELISE – Raum für Bücher und Bilder\, Gneisenaustraße 30\, 44147 Dortmund \n\nEin Projekt im Rahmen von KOMMEN BLEIBEN GEHEN – Kreative Projekte an temporären Orten.
URL:https://dortmund-kreativ.de/event/annelise-eroeffnung-cynthia-ruf-ansaetze-der-transformation/
LOCATION:ANNELISE – RAUM FÜR BÜCHER UND BILDER\, Gneisenaustr. 30\, Dortmund\, 44147
CATEGORIES:ANNELISE,Architektur,Ausstellung,Designwirtschaft,DORTMUND KREATIV,Fotografie,KOMMEN BLEIBEN GEHEN,Kreativwirtschaft,Netzwerk,Stadtentwicklung,Urbanität
END:VEVENT
END:VCALENDAR