BEGIN:VCALENDAR
VERSION:2.0
PRODID:-//Dortmund Kreativ - ECPv6.15.18//NONSGML v1.0//EN
CALSCALE:GREGORIAN
METHOD:PUBLISH
X-WR-CALNAME:Dortmund Kreativ
X-ORIGINAL-URL:https://dortmund-kreativ.de
X-WR-CALDESC:Veranstaltungen für Dortmund Kreativ
REFRESH-INTERVAL;VALUE=DURATION:PT1H
X-Robots-Tag:noindex
X-PUBLISHED-TTL:PT1H
BEGIN:VTIMEZONE
TZID:Europe/Berlin
BEGIN:DAYLIGHT
TZOFFSETFROM:+0100
TZOFFSETTO:+0200
TZNAME:CEST
DTSTART:20220327T010000
END:DAYLIGHT
BEGIN:STANDARD
TZOFFSETFROM:+0200
TZOFFSETTO:+0100
TZNAME:CET
DTSTART:20221030T010000
END:STANDARD
BEGIN:DAYLIGHT
TZOFFSETFROM:+0100
TZOFFSETTO:+0200
TZNAME:CEST
DTSTART:20230326T010000
END:DAYLIGHT
BEGIN:STANDARD
TZOFFSETFROM:+0200
TZOFFSETTO:+0100
TZNAME:CET
DTSTART:20231029T010000
END:STANDARD
BEGIN:DAYLIGHT
TZOFFSETFROM:+0100
TZOFFSETTO:+0200
TZNAME:CEST
DTSTART:20240331T010000
END:DAYLIGHT
BEGIN:STANDARD
TZOFFSETFROM:+0200
TZOFFSETTO:+0100
TZNAME:CET
DTSTART:20241027T010000
END:STANDARD
END:VTIMEZONE
BEGIN:VEVENT
DTSTART;TZID=Europe/Berlin:20230506T120000
DTEND;TZID=Europe/Berlin:20230506T213000
DTSTAMP:20260424T132659
CREATED:20230502T135616Z
LAST-MODIFIED:20230502T135616Z
UID:8391-1683374400-1683408600@dortmund-kreativ.de
SUMMARY:Art for a Cause - Kunst & Second Hand Markt
DESCRIPTION:Art for a Cause – ein Kunst und Second Hand Markt für Betroffene des Erbebens in Syrien und der Türkei in der Werkhalle des Uniongewerbehofes! \nAlle Einnahmen werden an die NGOs Kaf.Kolektif\, World Human Relief & Child Houses gespendet. \nNeben Kunst- & Second Hand Artikeln erwartet euch ein diverses Programm an Kreativ-Workshops\, Live-Musik\, DJ-Sets\, sowie natürlich Getränken & Snacks! \nAlles sind herzlich eingeladen\, am 06. Mai von 12:00 bis 21:30 Uhr dabei zu sein! Alle weiteren Infos findet ihr auf dem Instagram-Profil der Veranstaltung @artforacause_event 
URL:https://dortmund-kreativ.de/event/art-for-a-cause-kunst-second-hand-markt/
LOCATION:Werkhalle\, Union Gewerbehof\, Huckarder Straße 10-12\, Dortmund\, NRW\, 44147\, Deutschland
CATEGORIES:Ausstellung,Bildende Kunst,Designwirtschaft,Festival,Kreativquartiere,Kreativwirtschaft,Kunstmarkt,Nachhaltigkeit,Netzwerk,Urbanität
END:VEVENT
END:VCALENDAR