BEGIN:VCALENDAR
VERSION:2.0
PRODID:-//Dortmund Kreativ - ECPv6.15.18//NONSGML v1.0//EN
CALSCALE:GREGORIAN
METHOD:PUBLISH
X-WR-CALNAME:Dortmund Kreativ
X-ORIGINAL-URL:https://dortmund-kreativ.de
X-WR-CALDESC:Veranstaltungen für Dortmund Kreativ
REFRESH-INTERVAL;VALUE=DURATION:PT1H
X-Robots-Tag:noindex
X-PUBLISHED-TTL:PT1H
BEGIN:VTIMEZONE
TZID:Europe/Berlin
BEGIN:DAYLIGHT
TZOFFSETFROM:+0100
TZOFFSETTO:+0200
TZNAME:CEST
DTSTART:20240331T010000
END:DAYLIGHT
BEGIN:STANDARD
TZOFFSETFROM:+0200
TZOFFSETTO:+0100
TZNAME:CET
DTSTART:20241027T010000
END:STANDARD
BEGIN:DAYLIGHT
TZOFFSETFROM:+0100
TZOFFSETTO:+0200
TZNAME:CEST
DTSTART:20250330T010000
END:DAYLIGHT
BEGIN:STANDARD
TZOFFSETFROM:+0200
TZOFFSETTO:+0100
TZNAME:CET
DTSTART:20251026T010000
END:STANDARD
BEGIN:DAYLIGHT
TZOFFSETFROM:+0100
TZOFFSETTO:+0200
TZNAME:CEST
DTSTART:20260329T010000
END:DAYLIGHT
BEGIN:STANDARD
TZOFFSETFROM:+0200
TZOFFSETTO:+0100
TZNAME:CET
DTSTART:20261025T010000
END:STANDARD
END:VTIMEZONE
BEGIN:VEVENT
DTSTART;TZID=Europe/Berlin:20251130T160000
DTEND;TZID=Europe/Berlin:20251130T173000
DTSTAMP:20260421T230125
CREATED:20251126T110416Z
LAST-MODIFIED:20251126T110416Z
UID:15654-1764518400-1764523800@dortmund-kreativ.de
SUMMARY:balou Galerie Talk: Künstlerinnengespräch mit Silke Schönfeld
DESCRIPTION:„Zuhören und Sehen – Geschichten\, die das Leben schrieb“ \nKünstlergespräche gibt es viele – doch dieser Galerie Talk geht einen anderen Weg.\nNicht die Intention der Künstlerin steht im Vordergrund\, sondern die Fragen\, die moderne Kunst an uns alle stellt. \nWie kann Kunst uns zum Zuhören und Sehen bewegen – wirklich\, offen und aufmerksam?\nSoll sie uns unsere gewohnten Blickrichtungen infrage stellen?\nUnd darf Kunst gesellschaftliche Probleme sichtbar machen? \nAusgangspunkt der Diskussion sind Filmausschnitte aus den Arbeiten von Silke Schönfeld\, deren Werke das Verhältnis zwischen Individuum und Gesellschaft reflektieren. Sie dokumentiert persönliche Lebensgeschichten – und legt dabei Strukturen offen\, die unser Zusammenleben prägen. \nDer Galerie Talk lädt dazu ein\, gemeinsam hinzuschauen\, zuzuhören und mitzudenken. Ob kunstaffin oder einfach neugierig: Hier geht es nicht um kunsttheoretische Fachsimpelei\, sondern um echte Gespräche über das\, was wir wahrnehmen – und das\, was wir vielleicht übersehen. \nWeitere Infos \n  \n 
URL:https://dortmund-kreativ.de/event/balou-galerie-talk-kuenstlerinnengespraech-mit-silke-schoenfeld/
LOCATION:balou\, Oberdorfstr 23\, 44309 Dortmund
CATEGORIES:Bildende Kunst,Filmwirtschaft,Kreativwirtschaft,Kunstmarkt,Medien,Netzwerk
END:VEVENT
END:VCALENDAR