BEGIN:VCALENDAR
VERSION:2.0
PRODID:-//Dortmund Kreativ - ECPv6.15.18//NONSGML v1.0//EN
CALSCALE:GREGORIAN
METHOD:PUBLISH
X-WR-CALNAME:Dortmund Kreativ
X-ORIGINAL-URL:https://dortmund-kreativ.de
X-WR-CALDESC:Veranstaltungen für Dortmund Kreativ
REFRESH-INTERVAL;VALUE=DURATION:PT1H
X-Robots-Tag:noindex
X-PUBLISHED-TTL:PT1H
BEGIN:VTIMEZONE
TZID:Europe/Berlin
BEGIN:DAYLIGHT
TZOFFSETFROM:+0100
TZOFFSETTO:+0200
TZNAME:CEST
DTSTART:20220327T010000
END:DAYLIGHT
BEGIN:STANDARD
TZOFFSETFROM:+0200
TZOFFSETTO:+0100
TZNAME:CET
DTSTART:20221030T010000
END:STANDARD
BEGIN:DAYLIGHT
TZOFFSETFROM:+0100
TZOFFSETTO:+0200
TZNAME:CEST
DTSTART:20230326T010000
END:DAYLIGHT
BEGIN:STANDARD
TZOFFSETFROM:+0200
TZOFFSETTO:+0100
TZNAME:CET
DTSTART:20231029T010000
END:STANDARD
BEGIN:DAYLIGHT
TZOFFSETFROM:+0100
TZOFFSETTO:+0200
TZNAME:CEST
DTSTART:20240331T010000
END:DAYLIGHT
BEGIN:STANDARD
TZOFFSETFROM:+0200
TZOFFSETTO:+0100
TZNAME:CET
DTSTART:20241027T010000
END:STANDARD
END:VTIMEZONE
BEGIN:VEVENT
DTSTART;VALUE=DATE:20230111
DTEND;VALUE=DATE:20230113
DTSTAMP:20260424T184426
CREATED:20230106T110049Z
LAST-MODIFIED:20230106T110116Z
UID:7456-1673395200-1673567999@dortmund-kreativ.de
SUMMARY:Best of Events 2023
DESCRIPTION:Am 11. und 12.01.2023 findet die BEST OF EVENTS\, die internationale Fachmesse für Erlebnismarketing\, wieder in den Westfalenhallen Dortmund statt. \nWir sind an beiden Tagen im Rahmen des Gemeinschaftsstandes „ERLEBNIS.DORTMUND“ auch dabei\, zusammen mit weiteren Dortmunder Akteur*innen aus den Branchen Locations\, Eventagenturen\, Live-Marketing\, Künstler*innen\, Fotografie und Kommunikation.\nWeitere Infos zum Gemeinschaftsstand der Wirtschaftsförderung Dortmund und alle Teilnehmer*innen findet Ihr HIER. \nFalls Ihr Interesse habt\, an einem der Messetage die BOE und die Standparty am 11.01. ab 17 Uhr zu besuchen\, meldet Euch gerne unter (jwittkamp@stadtdo.de). \nKommt vorbei – wir freuen uns auf Euch!
URL:https://dortmund-kreativ.de/event/best-of-events-2023/
LOCATION:Messe Dortmund GmbH\, Strobelallee 45\, Dortmund\, 44139
CATEGORIES:DORTMUND KREATIV,Kreativwirtschaft,Netzwerk
ATTACH;FMTTYPE=image/png:https://dortmund-kreativ.de/wp-content/uploads/2023/01/BOE.png
ORGANIZER;CN="Messe Dortmund GmbH":MAILTO:0231 / 12 04-0
END:VEVENT
END:VCALENDAR