BEGIN:VCALENDAR
VERSION:2.0
PRODID:-//Dortmund Kreativ - ECPv6.15.18//NONSGML v1.0//EN
CALSCALE:GREGORIAN
METHOD:PUBLISH
X-WR-CALNAME:Dortmund Kreativ
X-ORIGINAL-URL:https://dortmund-kreativ.de
X-WR-CALDESC:Veranstaltungen für Dortmund Kreativ
REFRESH-INTERVAL;VALUE=DURATION:PT1H
X-Robots-Tag:noindex
X-PUBLISHED-TTL:PT1H
BEGIN:VTIMEZONE
TZID:Europe/Berlin
BEGIN:DAYLIGHT
TZOFFSETFROM:+0100
TZOFFSETTO:+0200
TZNAME:CEST
DTSTART:20210328T010000
END:DAYLIGHT
BEGIN:STANDARD
TZOFFSETFROM:+0200
TZOFFSETTO:+0100
TZNAME:CET
DTSTART:20211031T010000
END:STANDARD
BEGIN:DAYLIGHT
TZOFFSETFROM:+0100
TZOFFSETTO:+0200
TZNAME:CEST
DTSTART:20220327T010000
END:DAYLIGHT
BEGIN:STANDARD
TZOFFSETFROM:+0200
TZOFFSETTO:+0100
TZNAME:CET
DTSTART:20221030T010000
END:STANDARD
BEGIN:DAYLIGHT
TZOFFSETFROM:+0100
TZOFFSETTO:+0200
TZNAME:CEST
DTSTART:20230326T010000
END:DAYLIGHT
BEGIN:STANDARD
TZOFFSETFROM:+0200
TZOFFSETTO:+0100
TZNAME:CET
DTSTART:20231029T010000
END:STANDARD
END:VTIMEZONE
BEGIN:VEVENT
DTSTART;TZID=Europe/Berlin:20221217T120000
DTEND;TZID=Europe/Berlin:20221217T190000
DTSTAMP:20260424T184645
CREATED:20221215T110332Z
LAST-MODIFIED:20221215T110332Z
UID:7311-1671278400-1671303600@dortmund-kreativ.de
SUMMARY:BLEND BAZAR #6 – KUNST- UND DESIGNMARKT
DESCRIPTION:Nach dem Motto „CREATE & CONNECT“ möchten die Organisator*innen des ‚Blend Bazar‘ der Design-\, Kunst-und Kreativszene aus der Region eine unabhängige Plattform bieten\, um sich auszutauschen\, sich gegenseitig zu supporten und in familiärer Atmosphäre bei DJ-Sets\, Live-Musik und leckeren Snacks und Getränken von kleinen Cafés die neue Generation von lokalen Künstler*innen zu feiern. \nAuf den Kunst-und Designmärkten in wechselnden Locations präsentieren junge Aussteller*Innen aus Dortmund und Umgebung seit 2021 regelmäßig ihre selbst hergestellten Produkte aus den Bereichen Schmuck\, Fashion\, Art\, Design und Fotografie. \nWeitere Infos
URL:https://dortmund-kreativ.de/event/blend-bazar-6-kunst-und-designmarkt/
LOCATION:Werkhalle\, Union Gewerbehof\, Huckarder Straße 10-12\, Dortmund\, NRW\, 44147\, Deutschland
CATEGORIES:Designwirtschaft,Fotografie,Kreativquartiere,Kreativwirtschaft,Netzwerk
END:VEVENT
END:VCALENDAR