BEGIN:VCALENDAR
VERSION:2.0
PRODID:-//Dortmund Kreativ - ECPv6.15.18//NONSGML v1.0//EN
CALSCALE:GREGORIAN
METHOD:PUBLISH
X-WR-CALNAME:Dortmund Kreativ
X-ORIGINAL-URL:https://dortmund-kreativ.de
X-WR-CALDESC:Veranstaltungen für Dortmund Kreativ
REFRESH-INTERVAL;VALUE=DURATION:PT1H
X-Robots-Tag:noindex
X-PUBLISHED-TTL:PT1H
BEGIN:VTIMEZONE
TZID:Europe/Berlin
BEGIN:DAYLIGHT
TZOFFSETFROM:+0100
TZOFFSETTO:+0200
TZNAME:CEST
DTSTART:20230326T010000
END:DAYLIGHT
BEGIN:STANDARD
TZOFFSETFROM:+0200
TZOFFSETTO:+0100
TZNAME:CET
DTSTART:20231029T010000
END:STANDARD
BEGIN:DAYLIGHT
TZOFFSETFROM:+0100
TZOFFSETTO:+0200
TZNAME:CEST
DTSTART:20240331T010000
END:DAYLIGHT
BEGIN:STANDARD
TZOFFSETFROM:+0200
TZOFFSETTO:+0100
TZNAME:CET
DTSTART:20241027T010000
END:STANDARD
BEGIN:DAYLIGHT
TZOFFSETFROM:+0100
TZOFFSETTO:+0200
TZNAME:CEST
DTSTART:20250330T010000
END:DAYLIGHT
BEGIN:STANDARD
TZOFFSETFROM:+0200
TZOFFSETTO:+0100
TZNAME:CET
DTSTART:20251026T010000
END:STANDARD
END:VTIMEZONE
BEGIN:VEVENT
DTSTART;TZID=Europe/Berlin:20241221T130000
DTEND;TZID=Europe/Berlin:20241221T190000
DTSTAMP:20260422T181052
CREATED:20241213T134312Z
LAST-MODIFIED:20241213T134312Z
UID:13448-1734786000-1734807600@dortmund-kreativ.de
SUMMARY:Blend Bazar – Cozy Christmas Edition
DESCRIPTION:Am Samstag\, den 21. Dezember 2024\, lädt das Blend Haus zur besonderen Cozy Christmas Edition des beliebten Blend Bazar ein. Der Kunst- und Designmarkt im Herzen Dortmunds bietet die perfekte Gelegenheit\, einzigartige Weihnachtsgeschenke zu entdecken und gleichzeitig die kreative Vielfalt lokaler Künstler*innen zu erleben. \nVon handgefertigtem Schmuck über Prints und Kleidung bis hin zu Kunstwerken – der Blend Bazar ist der Treffpunkt für alle\, die das Besondere suchen. Begleitet wird der Markt von stimmungsvollen Live-DJ-Sets\, die für die passende Atmosphäre sorgen. Für den extra Glow sorgen Tooth Gems\, Nail Art und eine Tattoo-Ecke. Natürlich dürfen auch leckere Snacks und Getränke nicht fehlen\, um den Tag abzurunden. \n\nDatum: Samstag\, 21. Dezember 2024\nOrt: Blend Haus\, Töllnerstraße 5\, 44135 Dortmund (direkt an der Haltestelle Stadthaus)\nUhrzeit: 13:00 bis 19:00 Uhr \n\nDas Blend Haus lädt Besucher*innen herzlich ein\, Teil dieses kreativen und gemütlichen Events zu werden. Lassen Sie sich inspirieren\, shoppen Sie lokale Designs und genießen Sie die vorweihnachtliche Atmosphäre. \nÜber das Blend Haus: Das Blend Haus ist ein kreativer Begegnungsort in Dortmund\, der sich darauf spezialisiert hat\, Kunst\, Kultur und Community zusammenzubringen. Mit Projekten wie dem Blend Bazar bietet es eine Plattform für lokale Künstler*innen und eine lebendige Szene für kreative Köpfe. \nWeitere Infos
URL:https://dortmund-kreativ.de/event/blend-bazar-cozy-christmas-edition/
LOCATION:blend.haus\, Töllnerstr. 5 a\, Dortmund\, 44135
CATEGORIES:Ausstellung,Designwirtschaft,Fotografie,Kreativwirtschaft,Netzwerk,Urbanität
END:VEVENT
END:VCALENDAR