BEGIN:VCALENDAR
VERSION:2.0
PRODID:-//Dortmund Kreativ - ECPv6.15.18//NONSGML v1.0//EN
CALSCALE:GREGORIAN
METHOD:PUBLISH
X-WR-CALNAME:Dortmund Kreativ
X-ORIGINAL-URL:https://dortmund-kreativ.de
X-WR-CALDESC:Veranstaltungen für Dortmund Kreativ
REFRESH-INTERVAL;VALUE=DURATION:PT1H
X-Robots-Tag:noindex
X-PUBLISHED-TTL:PT1H
BEGIN:VTIMEZONE
TZID:Europe/Berlin
BEGIN:DAYLIGHT
TZOFFSETFROM:+0100
TZOFFSETTO:+0200
TZNAME:CEST
DTSTART:20240331T010000
END:DAYLIGHT
BEGIN:STANDARD
TZOFFSETFROM:+0200
TZOFFSETTO:+0100
TZNAME:CET
DTSTART:20241027T010000
END:STANDARD
BEGIN:DAYLIGHT
TZOFFSETFROM:+0100
TZOFFSETTO:+0200
TZNAME:CEST
DTSTART:20250330T010000
END:DAYLIGHT
BEGIN:STANDARD
TZOFFSETFROM:+0200
TZOFFSETTO:+0100
TZNAME:CET
DTSTART:20251026T010000
END:STANDARD
BEGIN:DAYLIGHT
TZOFFSETFROM:+0100
TZOFFSETTO:+0200
TZNAME:CEST
DTSTART:20260329T010000
END:DAYLIGHT
BEGIN:STANDARD
TZOFFSETFROM:+0200
TZOFFSETTO:+0100
TZNAME:CET
DTSTART:20261025T010000
END:STANDARD
END:VTIMEZONE
BEGIN:VEVENT
DTSTART;TZID=Europe/Berlin:20250620T170000
DTEND;TZID=Europe/Berlin:20250620T180000
DTSTAMP:20260422T062958
CREATED:20250527T100323Z
LAST-MODIFIED:20250527T100323Z
UID:14614-1750438800-1750442400@dortmund-kreativ.de
SUMMARY:Breaking: Open Cyphers | DORTMUND URBAN
DESCRIPTION:In authentischer Jam-Atmosphäre treffen sich B-Boys und B-Girls aus Dortmund und der Region\, um in offenen Tanzkreisen (Cyphers) ihre Moves zu präsentieren.  \nOb Nachwuchstalent oder erfahrene Battle-Größe – hier zählt der gemeinsame Vibe\, der Austausch und die Liebe zur Bewegung. Begleitet von ausgewählten DJs entsteht ein energetischer Raum\, in dem Breakbeats und Grooves zum verbindenden Soundtrack werden.
URL:https://dortmund-kreativ.de/event/breaking-open-cyphers-dortmund-urban/
LOCATION:Platz von Leeds | DORTMUND URBAN\, Platz von Leeds\, Dortmund\, 44135
CATEGORIES:DORTMUND URBAN
ORGANIZER;CN="DORTMUND KREATIV":MAILTO:hallo@dortmund-kreativ.de
END:VEVENT
END:VCALENDAR