BEGIN:VCALENDAR
VERSION:2.0
PRODID:-//Dortmund Kreativ - ECPv6.15.18//NONSGML v1.0//EN
CALSCALE:GREGORIAN
METHOD:PUBLISH
X-WR-CALNAME:Dortmund Kreativ
X-ORIGINAL-URL:https://dortmund-kreativ.de
X-WR-CALDESC:Veranstaltungen für Dortmund Kreativ
REFRESH-INTERVAL;VALUE=DURATION:PT1H
X-Robots-Tag:noindex
X-PUBLISHED-TTL:PT1H
BEGIN:VTIMEZONE
TZID:Europe/Berlin
BEGIN:DAYLIGHT
TZOFFSETFROM:+0100
TZOFFSETTO:+0200
TZNAME:CEST
DTSTART:20240331T010000
END:DAYLIGHT
BEGIN:STANDARD
TZOFFSETFROM:+0200
TZOFFSETTO:+0100
TZNAME:CET
DTSTART:20241027T010000
END:STANDARD
BEGIN:DAYLIGHT
TZOFFSETFROM:+0100
TZOFFSETTO:+0200
TZNAME:CEST
DTSTART:20250330T010000
END:DAYLIGHT
BEGIN:STANDARD
TZOFFSETFROM:+0200
TZOFFSETTO:+0100
TZNAME:CET
DTSTART:20251026T010000
END:STANDARD
BEGIN:DAYLIGHT
TZOFFSETFROM:+0100
TZOFFSETTO:+0200
TZNAME:CEST
DTSTART:20260329T010000
END:DAYLIGHT
BEGIN:STANDARD
TZOFFSETFROM:+0200
TZOFFSETTO:+0100
TZNAME:CET
DTSTART:20261025T010000
END:STANDARD
END:VTIMEZONE
BEGIN:VEVENT
DTSTART;TZID=Europe/Berlin:20250620T153000
DTEND;TZID=Europe/Berlin:20250620T193000
DTSTAMP:20260422T063022
CREATED:20250527T081808Z
LAST-MODIFIED:20250527T081808Z
UID:14581-1750433400-1750447800@dortmund-kreativ.de
SUMMARY:Comic-Zine Workshop: Diary of a stranger | DORTMUND URBAN
DESCRIPTION:Im Workshop „Diary of a stranger“ mit Dortmunds Stadtbeschreiberin Ika Sperling geht es darum\, ein Comic-Zine aus den Zeichnungen und Texten der anderen Teilnehmer*innen zu kreieren. \nZuerst sammeln wir mit kurzen Übungen Bilder\, Erinnerungen\, Offenbarungen\, Selbstportraits\, Fanart\, Charaktere\, Wünsche und Ideen\, die wir dann tauschen\, neu zusammensetzen und als Grundlage für eine eigenen kurze Erzählung nehmen. Danach hat jede*r die Möglichkeit\, länger an einen Zine zu arbeiten und dieses zu drucken. Am Ende gucken wir uns unsere Tagebücher zusammen an. \nEs ist keine Vorerfahrung im Bereich Comic nötig\, jedoch wäre es gut\, wenn dir Zeichnen und Schreiben Spaß macht und Du Lust auf ein soziale Interaktionen hast. \nANMELDUNG:\nmax 15 Teilnehmende per Mail: info@ikasperling.com \nDu hast verpasst dich anzumelden\, schau gerne auch spontan vorbei!
URL:https://dortmund-kreativ.de/event/comic-zine-workshop-diary-of-a-stranger-dortmund-urban/
LOCATION:HANS A\, Hansastraße 6-10\, Dortmund\, 44137
CATEGORIES:DORTMUND URBAN
ORGANIZER;CN="DORTMUND KREATIV":MAILTO:hallo@dortmund-kreativ.de
END:VEVENT
END:VCALENDAR