BEGIN:VCALENDAR
VERSION:2.0
PRODID:-//Dortmund Kreativ - ECPv6.15.18//NONSGML v1.0//EN
CALSCALE:GREGORIAN
METHOD:PUBLISH
X-WR-CALNAME:Dortmund Kreativ
X-ORIGINAL-URL:https://dortmund-kreativ.de
X-WR-CALDESC:Veranstaltungen für Dortmund Kreativ
REFRESH-INTERVAL;VALUE=DURATION:PT1H
X-Robots-Tag:noindex
X-PUBLISHED-TTL:PT1H
BEGIN:VTIMEZONE
TZID:Europe/Berlin
BEGIN:DAYLIGHT
TZOFFSETFROM:+0100
TZOFFSETTO:+0200
TZNAME:CEST
DTSTART:20220327T010000
END:DAYLIGHT
BEGIN:STANDARD
TZOFFSETFROM:+0200
TZOFFSETTO:+0100
TZNAME:CET
DTSTART:20221030T010000
END:STANDARD
BEGIN:DAYLIGHT
TZOFFSETFROM:+0100
TZOFFSETTO:+0200
TZNAME:CEST
DTSTART:20230326T010000
END:DAYLIGHT
BEGIN:STANDARD
TZOFFSETFROM:+0200
TZOFFSETTO:+0100
TZNAME:CET
DTSTART:20231029T010000
END:STANDARD
BEGIN:DAYLIGHT
TZOFFSETFROM:+0100
TZOFFSETTO:+0200
TZNAME:CEST
DTSTART:20240331T010000
END:DAYLIGHT
BEGIN:STANDARD
TZOFFSETFROM:+0200
TZOFFSETTO:+0100
TZNAME:CET
DTSTART:20241027T010000
END:STANDARD
END:VTIMEZONE
BEGIN:VEVENT
DTSTART;TZID=Europe/Berlin:20230214T183000
DTEND;TZID=Europe/Berlin:20230214T200000
DTSTAMP:20260424T173147
CREATED:20230202T140406Z
LAST-MODIFIED:20230202T144152Z
UID:7618-1676399400-1676404800@dortmund-kreativ.de
SUMMARY:Das Gefühl\, das nur wir kennen | Buchpräsentation
DESCRIPTION:Buchpräsentation: \nDas Gefühl\, das nur wir kennen.\nEin Fotobuch über Pfadfinder. Eine Geschichte über das miteinander Wachsen. \nWenn man eine*n Pfadfinder*in fragt\, was das Besondere daran ist\, Pfadfinder*in zu sein\, erhält man oft die Antwort: „Es ist schwer zu beschreiben\, ein Gefühl das wahrscheinlich nur Pfadfinder*innen voll und ganz verstehen.“ \nStephan Lucka kannte diese Gefühl\, denn er ist selbst in seiner Jugend Pfadfinder gewesen. Und er wollte sich diesem „Unbeschreiblichen“ fotografisch nähern. Dazu kehrte er zu den Pfadfinder*innen zurück und tauchte noch einmal in diese\, ihm aus Jugendtagen vertraute Welt\, ein – diesmal mit der Kamera.\nDie Pfadfinder*innen sind die größte Jugendbewegung der Welt\, etwa 46 Millionen Pfadfinder*innen gibt es weltweit\, 260.000 allein davon in Deutschland. Die Pfadfinder*innen bilden ihren eigenen sozio-kulturellen Mikrokosmos\, ein Mikrokosmos der aber auch immer einen größeren gesellschaftlichen Kontext spiegelt. Was macht Pfadfinder*in sein sie für junge Menschen auch heute noch attraktiv? Wie besteht dieses Konzept in unserer beschleunigten\, konsumorientierten und hochtechnisierten Welt? \nDie Bilder versuchen\, eine visuelle Antwort auf die Frage zu geben\, die für die meisten Pfadfinder so schwer zu beantworten ist. Sie erzählen eine Geschichte über das Erwachsenwerden\, über Freundschaft und Intimität\, aber auch über Respekt und Rücksichtnahme. Die Pfadfinder bilden ihren eigenen soziokulturellen Mikrokosmos\, einen Mikrokosmos\, der immer einen größeren sozialen Kontext widerspiegelt: Darüber\, wie wir miteinander umgehen wollen\, wie wir zusammenleben können. Es geht um die allgemeine und umfassendere Frage\, \nÜBER \nStephan Lucka\, geboren 1979 in Herford. Studierte Fotografie an der Fachhochschule Dortmund. Seit 2018 als freier Dokumentarfotograf und Fotojournalist tätig. Er nutzt die Fotografie\, um mehr über menschliche Beziehungen zu erfahren. Seine Projekte erforschen Konzepte der Identität in einem sozialen oder kulturellen Kontext. Lucka kam als 12-jähriger zu den Pfadfindern und ist bis heute Mitglied des Pfadfinderbundes Boreas im Deutschen Pfadfinderverband.
URL:https://dortmund-kreativ.de/event/das-gefuehl-das-nur-wir-kennen-buchpraesentation/
LOCATION:SUPERRAUM\, Brückstraße 64\, Dortmund\, 44135\, Deutschland
CATEGORIES:Fotografie,Kreativwirtschaft,Netzwerk,Projektraum,SUPERRAUM
ATTACH;FMTTYPE=image/jpeg:https://dortmund-kreativ.de/wp-content/uploads/2023/02/Stephan_Lucka_Das_Gefuehl_das_nur_wir_kennen_Pressefoto-3561.jpg
ORGANIZER;CN="DORTMUND KREATIV":MAILTO:hallo@dortmund-kreativ.de
END:VEVENT
END:VCALENDAR