BEGIN:VCALENDAR
VERSION:2.0
PRODID:-//Dortmund Kreativ - ECPv6.15.18//NONSGML v1.0//EN
CALSCALE:GREGORIAN
METHOD:PUBLISH
X-WR-CALNAME:Dortmund Kreativ
X-ORIGINAL-URL:https://dortmund-kreativ.de
X-WR-CALDESC:Veranstaltungen für Dortmund Kreativ
REFRESH-INTERVAL;VALUE=DURATION:PT1H
X-Robots-Tag:noindex
X-PUBLISHED-TTL:PT1H
BEGIN:VTIMEZONE
TZID:Europe/Berlin
BEGIN:DAYLIGHT
TZOFFSETFROM:+0100
TZOFFSETTO:+0200
TZNAME:CEST
DTSTART:20240331T010000
END:DAYLIGHT
BEGIN:STANDARD
TZOFFSETFROM:+0200
TZOFFSETTO:+0100
TZNAME:CET
DTSTART:20241027T010000
END:STANDARD
BEGIN:DAYLIGHT
TZOFFSETFROM:+0100
TZOFFSETTO:+0200
TZNAME:CEST
DTSTART:20250330T010000
END:DAYLIGHT
BEGIN:STANDARD
TZOFFSETFROM:+0200
TZOFFSETTO:+0100
TZNAME:CET
DTSTART:20251026T010000
END:STANDARD
BEGIN:DAYLIGHT
TZOFFSETFROM:+0100
TZOFFSETTO:+0200
TZNAME:CEST
DTSTART:20260329T010000
END:DAYLIGHT
BEGIN:STANDARD
TZOFFSETFROM:+0200
TZOFFSETTO:+0100
TZNAME:CET
DTSTART:20261025T010000
END:STANDARD
END:VTIMEZONE
BEGIN:VEVENT
DTSTART;TZID=Europe/Berlin:20250405T120000
DTEND;TZID=Europe/Berlin:20250405T180000
DTSTAMP:20260422T122954
CREATED:20250326T130311Z
LAST-MODIFIED:20250326T130311Z
UID:10000890-1743854400-1743876000@dortmund-kreativ.de
SUMMARY:DESIGN GIPFEL
DESCRIPTION:Der Design Gipfel ist genau das Richtige für alle\, die sich für clevere und einzigartige Produkte begeistern und obendrein noch etwas erleben möchten. Wer junges Design und außergewöhnliche Dinge liebt\, kann auf dem Design Gipfel Neuheiten entdecken\, Lieblingsteile finden oder einfach stöbern und schlendern. \nEs wird wie immer eine bunte Mischung aus allem angeboten\, was den Alltag noch schöner gestalten kann. Interior Design\, Papeterie\, Schmuck\, Fashion oder Accessoires: Hier ist jedes Teil wirklich etwas Besonderes\, mit Liebe zum Detail und meist aus guten\, nachhaltigen Rohstoffen hergestellt. Zudem ist auch wieder ein kleines\, feines Rahmenprogramm geplant\, das mit Kreativstationen und Unterhaltung auf die Besucher*innen wartet. Lasst Euch überraschen! \n\nOrt:  Depot\, Immermannstraße 29\, 44147 Dortmund / Halle\nTermin:  05. und 06.04.2025\nÖffnungszeiten:  jeweils von 12:00 bis 18:00 Uhr\nEintritt:  5\,- €\, ermäßigt 3\,- €\, Kinder bis 14 Jahre frei; Tickets gibt es vor Ort an der Tageskasse\nHinweis:  Hunde dürfen zum Design Gipfel nicht mitgebracht werden! \n\nWeitere Infos
URL:https://dortmund-kreativ.de/event/design-gipfel-6/2025-04-05/
LOCATION:Depot\, Immermannstraße 29\, Dortmund\, 44147
CATEGORIES:Ausstellung,Bildende Kunst,Designwirtschaft,Kreativwirtschaft,Kunstmarkt,Nachhaltigkeit
END:VEVENT
END:VCALENDAR