BEGIN:VCALENDAR
VERSION:2.0
PRODID:-//Dortmund Kreativ - ECPv6.15.18//NONSGML v1.0//EN
CALSCALE:GREGORIAN
METHOD:PUBLISH
X-WR-CALNAME:Dortmund Kreativ
X-ORIGINAL-URL:https://dortmund-kreativ.de
X-WR-CALDESC:Veranstaltungen für Dortmund Kreativ
REFRESH-INTERVAL;VALUE=DURATION:PT1H
X-Robots-Tag:noindex
X-PUBLISHED-TTL:PT1H
BEGIN:VTIMEZONE
TZID:Europe/Berlin
BEGIN:DAYLIGHT
TZOFFSETFROM:+0100
TZOFFSETTO:+0200
TZNAME:CEST
DTSTART:20210328T010000
END:DAYLIGHT
BEGIN:STANDARD
TZOFFSETFROM:+0200
TZOFFSETTO:+0100
TZNAME:CET
DTSTART:20211031T010000
END:STANDARD
BEGIN:DAYLIGHT
TZOFFSETFROM:+0100
TZOFFSETTO:+0200
TZNAME:CEST
DTSTART:20220327T010000
END:DAYLIGHT
BEGIN:STANDARD
TZOFFSETFROM:+0200
TZOFFSETTO:+0100
TZNAME:CET
DTSTART:20221030T010000
END:STANDARD
BEGIN:DAYLIGHT
TZOFFSETFROM:+0100
TZOFFSETTO:+0200
TZNAME:CEST
DTSTART:20230326T010000
END:DAYLIGHT
BEGIN:STANDARD
TZOFFSETFROM:+0200
TZOFFSETTO:+0100
TZNAME:CET
DTSTART:20231029T010000
END:STANDARD
BEGIN:DAYLIGHT
TZOFFSETFROM:+0100
TZOFFSETTO:+0200
TZNAME:CEST
DTSTART:20240331T010000
END:DAYLIGHT
BEGIN:STANDARD
TZOFFSETFROM:+0200
TZOFFSETTO:+0100
TZNAME:CET
DTSTART:20241027T010000
END:STANDARD
END:VTIMEZONE
BEGIN:VEVENT
DTSTART;VALUE=DATE:20221203
DTEND;VALUE=DATE:20230113
DTSTAMP:20260424T201107
CREATED:20221202T105750Z
LAST-MODIFIED:20221202T105750Z
UID:7212-1670025600-1673567999@dortmund-kreativ.de
SUMMARY:Doppelausstellung "Archiving Flux / Stasis" | "Structure" (Erieta Attali | Philipp Valente)
DESCRIPTION:Der Architekt Philipp Valente\, der in diesem Jahr zusammen mit Jonathan Schmalöer den Förderpreis der Stadt Dortmund für junge Künstler*innen in der Sparte „Architektur und Städtebau“ erhalten hat\, stellt zusammen mit der international anerkannten Fine Art Architektur Fotografin Erieta Attali im SUPERRAUM aus. \nPekka Helin\, Finnish Parliament\, Finland\, © Erieta Attali\n  \nOb Glas und Himmel\, Asphalt und Sand\, Stahl und Bäume: die Verschmelzung von Architektur und Landschaft ist seit jeher ein unweigerlicher Faktor des Bauens. Insbesondere treten jedoch die Bauten aus Glas\, Stahl und Beton seit dem 19. Jahrhundert in eine immaterielle Verbindung zu ihrer natürlichen Umgebung. Die Überlagerung von Strukturen\, Spiegelungen\, Filtern und Transparenzen wird zu einem wichtigen gestalterischen Mittel und fasziniert durch seine mehr-deutige Darstellung der Realität.\nDie Doppelausstellung im SUPERRAUM zeigt zwei zeitgenössische Positionen von einer Fotografin und eines Architekten deren Hauptmotiv die Verbindung von Architektur und Landschaft ist. Über die reine Abbildung einer Perspektive hinaus\, werden fiktive Räume\, volumetrische Studien und landschaftliche Bezüge thematisiert. Dabei entfaltet jede Arbeit ihre eigene Bildsprache und fordert die Betrachter*innen zur räumlichen Auseinandersetzung heraus. \n„Archiving Flux / Stasis“ | „Structure“ (Erieta Attali) | Philipp Valente) \nAusstellungszeitraum: 01. Dezember 2022 – 12. Januar 2023 \n\nSUPERRAUM\, Brückstraße 64\, 44135 Dortmund \nÖffnungszeiten*:\nDienstags: 12 bis 16 Uhr\nDonnerstags: 16 bis 19 Uhr\nSamstags: 12 bis 16 Uhr \n*Im Zeitraum 24.12.2022-02.01.2023 geschlossen. \n\nÜBER ERIETA ATTALI\n„Erieta Attali (geb. 1966 in Tel Aviv) widmet sich seit drei Jahrzehnten der Wechselwirkung zwischen Architektur und Landschaft. Mit ihren Arbeiten hat sie eine eigene Richtung der Architekturfotografie geschaffen\, in der es zu einer Umkehrung von Inhalt und Kontext kommt. Ihre Fotografie hinterfragt\, wie extreme Bedingungen und anspruchsvolles Gelände die Menschheit dazu bringen\, sich durch architektonische Reaktionen neu zu orientieren und zu zentrieren. Basis ihrer unkonventionellen Fotografie ist eine Arbeitsweise\, die auf Erfahrungen aus der Archäologe- und der Fine-Art-Fotografie zurückgreift. Durch Ihre aktuelle Forschung zu urbanen Landschaften\, historischen Zentren und Peripherien der Städte kommen weitere Aspekte hinzu. Die Architektur erscheint in ihren Bildern als ein natürliches Element\, das unmittelbar mit dem Kontext verbunden ist.“ (Philipp Valente)
URL:https://dortmund-kreativ.de/event/doppelausstellung-archiving-flux-stasis-structure-erieta-attali-philipp-valente/
LOCATION:SUPERRAUM\, Brückstraße 64\, Dortmund\, 44135\, Deutschland
CATEGORIES:Architektur,Ausstellung,DORTMUND KREATIV,Fotografie,Kreativwirtschaft,Kunstmarkt,Projektraum,SUPERRAUM,Urbane Kunst
ATTACH;FMTTYPE=image/jpeg:https://dortmund-kreativ.de/wp-content/uploads/2022/11/Valente_Philipp_01.jpg
ORGANIZER;CN="DORTMUND KREATIV":MAILTO:hallo@dortmund-kreativ.de
END:VEVENT
END:VCALENDAR