BEGIN:VCALENDAR
VERSION:2.0
PRODID:-//Dortmund Kreativ - ECPv6.15.18//NONSGML v1.0//EN
CALSCALE:GREGORIAN
METHOD:PUBLISH
X-WR-CALNAME:Dortmund Kreativ
X-ORIGINAL-URL:https://dortmund-kreativ.de
X-WR-CALDESC:Veranstaltungen für Dortmund Kreativ
REFRESH-INTERVAL;VALUE=DURATION:PT1H
X-Robots-Tag:noindex
X-PUBLISHED-TTL:PT1H
BEGIN:VTIMEZONE
TZID:Europe/Berlin
BEGIN:DAYLIGHT
TZOFFSETFROM:+0100
TZOFFSETTO:+0200
TZNAME:CEST
DTSTART:20220327T010000
END:DAYLIGHT
BEGIN:STANDARD
TZOFFSETFROM:+0200
TZOFFSETTO:+0100
TZNAME:CET
DTSTART:20221030T010000
END:STANDARD
BEGIN:DAYLIGHT
TZOFFSETFROM:+0100
TZOFFSETTO:+0200
TZNAME:CEST
DTSTART:20230326T010000
END:DAYLIGHT
BEGIN:STANDARD
TZOFFSETFROM:+0200
TZOFFSETTO:+0100
TZNAME:CET
DTSTART:20231029T010000
END:STANDARD
BEGIN:DAYLIGHT
TZOFFSETFROM:+0100
TZOFFSETTO:+0200
TZNAME:CEST
DTSTART:20240331T010000
END:DAYLIGHT
BEGIN:STANDARD
TZOFFSETFROM:+0200
TZOFFSETTO:+0100
TZNAME:CET
DTSTART:20241027T010000
END:STANDARD
END:VTIMEZONE
BEGIN:VEVENT
DTSTART;TZID=Europe/Berlin:20230309T130000
DTEND;TZID=Europe/Berlin:20230309T140000
DTSTAMP:20260424T160420
CREATED:20230223T150307Z
LAST-MODIFIED:20230223T151134Z
UID:7903-1678366800-1678370400@dortmund-kreativ.de
SUMMARY:Dossier Live #Finanzierung
DESCRIPTION:Q&A zu Themendossiers des Kompetenzzentrums Kultur- und Kreativwirtschaft des Bundes\nDo\, 09.03.2023 | 13 – 14 Uhr | Videokonferenz via Microsoft Teams \nDie Finanzierung von (Geschäfts-)Ideen stellt Personen aus der Kultur- und Kreativwirtschaft häufig vor Herausforderungen. Doch warum ist das so? In  aktuellen Themendossier_Finanzierung_02_2023 hat das Kompetenzzentrum den Status quo analysiert: Welche Finanzierungsinstrumente gibt es überhaupt? Wo liegen die Hürden\, um finanzielle Unterstützung zu erhalten? Und wie wirken sich Energie-\, Klima- und Coronakrise auf die Finanzierungsmöglichkeiten aus? Die gängigsten Förderinstrumente und Tipps\, wie Sie die passende Auswahl treffen können\, stellen wir beim ersten Dossier Live vor. \nAm 09.03. von 13:00-14:00 Uhr lädt das Kompetenzzentrum zu einer kurzen Videokonferenz ein\, bei dem man mit den Autor*innen des Themendossiers ins Gespräch kommen kann. \nUm Praxistipps einzuholen\, hat man neun Finanz- und Kreativwirtschaftsexpert*innen nach ihren Erfahrungen gefragt. Angelika Steenwerth (Berliner Sparkasse)\, Mehjabeen Patrick (EIT Culture & Creativity)\, Eckard von Schwerin (KFW Bank)\, Britta Buck und Markus Nitschmann (Kompetenzteam Kultur- und Kreativwirtschaft der Landeshauptstadt München)\, Hendrik Maatz (NRW.Bank)\, Andreas Rautenberg (Hamburg Kreativ Gesellschaft)\, Petra Göbbels (IHK Köln) und Andreas Severin (KölnBusiness) teilten in kurzen Interviews ihr Wissen über Finanzierungsmöglichkeiten für die Kultur- und Kreativwirtschaft. \nAlle Infos\, das Themendossier und Anmeldung HIER
URL:https://dortmund-kreativ.de/event/dossier-live-finanzierung/
LOCATION:Online
CATEGORIES:Architektur,Bildende Kunst,Darstellende Kunst,Designwirtschaft,Filmwirtschaft,Förderprogramme,Fotografie,Kreativwirtschaft,Kunstmarkt,Literatur,Musikwirtschaft,Pressemarkt,Rundfunkwirtschaft,Urbane Kunst
END:VEVENT
END:VCALENDAR