BEGIN:VCALENDAR
VERSION:2.0
PRODID:-//Dortmund Kreativ - ECPv6.15.18//NONSGML v1.0//EN
CALSCALE:GREGORIAN
METHOD:PUBLISH
X-WR-CALNAME:Dortmund Kreativ
X-ORIGINAL-URL:https://dortmund-kreativ.de
X-WR-CALDESC:Veranstaltungen für Dortmund Kreativ
REFRESH-INTERVAL;VALUE=DURATION:PT1H
X-Robots-Tag:noindex
X-PUBLISHED-TTL:PT1H
BEGIN:VTIMEZONE
TZID:Europe/Berlin
BEGIN:DAYLIGHT
TZOFFSETFROM:+0100
TZOFFSETTO:+0200
TZNAME:CEST
DTSTART:20220327T010000
END:DAYLIGHT
BEGIN:STANDARD
TZOFFSETFROM:+0200
TZOFFSETTO:+0100
TZNAME:CET
DTSTART:20221030T010000
END:STANDARD
BEGIN:DAYLIGHT
TZOFFSETFROM:+0100
TZOFFSETTO:+0200
TZNAME:CEST
DTSTART:20230326T010000
END:DAYLIGHT
BEGIN:STANDARD
TZOFFSETFROM:+0200
TZOFFSETTO:+0100
TZNAME:CET
DTSTART:20231029T010000
END:STANDARD
BEGIN:DAYLIGHT
TZOFFSETFROM:+0100
TZOFFSETTO:+0200
TZNAME:CEST
DTSTART:20240331T010000
END:DAYLIGHT
BEGIN:STANDARD
TZOFFSETFROM:+0200
TZOFFSETTO:+0100
TZNAME:CET
DTSTART:20241027T010000
END:STANDARD
END:VTIMEZONE
BEGIN:VEVENT
DTSTART;TZID=Europe/Berlin:20230503T170000
DTEND;TZID=Europe/Berlin:20230503T190000
DTSTAMP:20260424T132414
CREATED:20230421T125741Z
LAST-MODIFIED:20230421T130213Z
UID:8294-1683133200-1683140400@dortmund-kreativ.de
SUMMARY:EIT CULTURE & CREATIVITY – EINE EINFÜHRUNG FÜR DIE KULTUR- UND KREATIVWIRTSCHAFT IN NRW
DESCRIPTION:Die im April in Köln gegründete EIT Culture & Creativity startet ihre ersten Förderaufrufe als zentrale EU-Institution für Innovation in der Kultur- und Kreativwirtschaft: Von Games bis zu Textilien\, von Welterbe bis Extended Reality und von der Etablierung neuer kreativer Studiengänge bis zum Aufbau neuer Inkubator-Programme für Startups reichen die Felder für europäische Zusammenarbeit. Die Förderungen betragen bis zu 500.000 Euro. Bewerbungen sind noch bis zum 31. Mai 2023 möglich. \nGemeinsam mit creative.nrw und NRW.Innovativ laden die Kolleg*innen von KölnBusiness am 03. Mai 2023 zur ersten deutschsprachigen Einführung mit Bernd Fesel (Interims-CEO) nach Köln ein: Was ist eine europäische Innovationsgemeinschaft? Wie kann ich mich einbringen\, was habe ich davon und wie kann ich mich konkret um Förderung bewerben? \nDie Veranstalter*innen werfen einen Blick auf langfristige Ziele und kurzfristige Chancen für die Kultur- und Kreativwirtschaft und gehen in den direkten Austausch mit den Macher*innen des zukunftsweisenden Projekts. \nAlle weiteren Infos und die Anmeldung findet ihr hier! \nEine weitere Veranstaltung zum „EIT Culture & Creativity als Fördermöglichkeit“ gibt es am 09. Mai 2023 von 17 bis 19 Uhr als Online-Veranstaltung. Alle Infos und Anmeldung dazu findet ihr hier.
URL:https://dortmund-kreativ.de/event/eit-culture-creativity-eine-einfuehrung-fuer-die-kultur-und-kreativwirtschaft-in-nrw/
LOCATION:KölnBusiness\, Börsenplatz 1\, Köln\, 50667
CATEGORIES:Förderprogramme,Kreativwirtschaft
END:VEVENT
END:VCALENDAR