BEGIN:VCALENDAR
VERSION:2.0
PRODID:-//Dortmund Kreativ - ECPv6.15.18//NONSGML v1.0//EN
CALSCALE:GREGORIAN
METHOD:PUBLISH
X-WR-CALNAME:Dortmund Kreativ
X-ORIGINAL-URL:https://dortmund-kreativ.de
X-WR-CALDESC:Veranstaltungen für Dortmund Kreativ
REFRESH-INTERVAL;VALUE=DURATION:PT1H
X-Robots-Tag:noindex
X-PUBLISHED-TTL:PT1H
BEGIN:VTIMEZONE
TZID:Europe/Berlin
BEGIN:DAYLIGHT
TZOFFSETFROM:+0100
TZOFFSETTO:+0200
TZNAME:CEST
DTSTART:20210328T010000
END:DAYLIGHT
BEGIN:STANDARD
TZOFFSETFROM:+0200
TZOFFSETTO:+0100
TZNAME:CET
DTSTART:20211031T010000
END:STANDARD
BEGIN:DAYLIGHT
TZOFFSETFROM:+0100
TZOFFSETTO:+0200
TZNAME:CEST
DTSTART:20220327T010000
END:DAYLIGHT
BEGIN:STANDARD
TZOFFSETFROM:+0200
TZOFFSETTO:+0100
TZNAME:CET
DTSTART:20221030T010000
END:STANDARD
BEGIN:DAYLIGHT
TZOFFSETFROM:+0100
TZOFFSETTO:+0200
TZNAME:CEST
DTSTART:20230326T010000
END:DAYLIGHT
BEGIN:STANDARD
TZOFFSETFROM:+0200
TZOFFSETTO:+0100
TZNAME:CET
DTSTART:20231029T010000
END:STANDARD
END:VTIMEZONE
BEGIN:VEVENT
DTSTART;TZID=Europe/Berlin:20220206T120000
DTEND;TZID=Europe/Berlin:20220206T170000
DTSTAMP:20260425T124532
CREATED:20211115T145044Z
LAST-MODIFIED:20211116T075222Z
UID:10000229-1644148800-1644166800@dortmund-kreativ.de
SUMMARY:Emerging Artists 4: Familiensonntag
DESCRIPTION:  \nJeden ersten Sonntag im Monat gibt es im Dortmunder U ein buntes\, kostenloses Programm für die ganze Familie. \n  \n\nDie Veranstaltung findet im Rahmen von „Emerging Artists – Biennale für zeitgenössische Kunst aus Dortmund“ statt. Ein Ausstellungsprojekt vom 27.11.21 – 13.02.22 auf der UZWEI im Dortmunder U. \nMehr Infos findet Ihr hier. \n  \n 
URL:https://dortmund-kreativ.de/event/emerging-artists-4-familiensonntag/2022-02-06/
LOCATION:Dortmunder U\, Leonie-Reygers-Terrasse\, Dortmund\, 44137
CATEGORIES:Ausstellung,Bildende Kunst,Familien,Kreativwirtschaft,Kunstmarkt
ORGANIZER;CN="UZWEI im Dortmunder U und Dortmunder Kunstverein e.V.":MAILTO:info@dortmunder-kunstverein.de
END:VEVENT
END:VCALENDAR