BEGIN:VCALENDAR
VERSION:2.0
PRODID:-//Dortmund Kreativ - ECPv6.15.18//NONSGML v1.0//EN
CALSCALE:GREGORIAN
METHOD:PUBLISH
X-WR-CALNAME:Dortmund Kreativ
X-ORIGINAL-URL:https://dortmund-kreativ.de
X-WR-CALDESC:Veranstaltungen für Dortmund Kreativ
REFRESH-INTERVAL;VALUE=DURATION:PT1H
X-Robots-Tag:noindex
X-PUBLISHED-TTL:PT1H
BEGIN:VTIMEZONE
TZID:Europe/Berlin
BEGIN:DAYLIGHT
TZOFFSETFROM:+0100
TZOFFSETTO:+0200
TZNAME:CEST
DTSTART:20230326T010000
END:DAYLIGHT
BEGIN:STANDARD
TZOFFSETFROM:+0200
TZOFFSETTO:+0100
TZNAME:CET
DTSTART:20231029T010000
END:STANDARD
BEGIN:DAYLIGHT
TZOFFSETFROM:+0100
TZOFFSETTO:+0200
TZNAME:CEST
DTSTART:20240331T010000
END:DAYLIGHT
BEGIN:STANDARD
TZOFFSETFROM:+0200
TZOFFSETTO:+0100
TZNAME:CET
DTSTART:20241027T010000
END:STANDARD
BEGIN:DAYLIGHT
TZOFFSETFROM:+0100
TZOFFSETTO:+0200
TZNAME:CEST
DTSTART:20250330T010000
END:DAYLIGHT
BEGIN:STANDARD
TZOFFSETFROM:+0200
TZOFFSETTO:+0100
TZNAME:CET
DTSTART:20251026T010000
END:STANDARD
END:VTIMEZONE
BEGIN:VEVENT
DTSTART;TZID=Europe/Berlin:20241030T190000
DTEND;TZID=Europe/Berlin:20241030T210000
DTSTAMP:20260421T110056
CREATED:20241023T110116Z
LAST-MODIFIED:20241023T110116Z
UID:12743-1730314800-1730322000@dortmund-kreativ.de
SUMMARY:Eröffnung Alejandra Arévalo Martínez – Blood under the Sundown Light
DESCRIPTION:30. Oktober bis 04. November 2024 \nÜber die afrikanische Diaspora in Indien wurde wenig gesagt. Dies kann daran liegen\, dass der afrikanische Kontinent oft nur im Kontext der Kolonialgeschichte betrachtet wird. Dennoch ist es wichtig\, sich von der Vorstellung zu lösen\, dass afrikanische Gemeinschaften vor ihrem Kontakt mit Weißen isoliert und statisch waren. Es ist entscheidend\, Gegengeschichten über schwarze Gemeinschaften außerhalb eines kolonialen Kontexts anzuerkennen und ihren soziopolitischen und wirtschaftlichen Einfluss auf die Bildung unterschiedlicher Kontexte weltweit anzuerkennen\, einer davon ist Indien. \nDie Siddi sind die Nachkommen von Ostafrikanern und leben jetzt in Gujarat\, Indien\, wo die Gemeinschaft den Islam praktiziert und wo ihre Vorfahren vermutlich vor Jahrhunderten erstmals ankamen. Heute hat die Siddi-Gemeinschaft ihre Siedlungen bewahrt und eine kreolisierte Kultur entwickelt\, die afrikanische Traditionen mit den soziokulturellen und religiösen Praktiken Indiens vermischt. Dies kann sowohl als Übung in Integration als auch als Beweis für ihren Wunsch gesehen werden\, kulturellen Pluralismus zu fördern\, was zu einer starken Identität führt\, die ihre afrikanischen Wurzeln ehrt und gleichzeitig ein tiefes Gefühl der Zugehörigkeit zu Indien fördert. \nDas Fotoprojekt von Alejandra Arévalo Martínez konzentriert sich auf drei Familien in Gujarat und erforscht ihre persönlichen Erfahrungen und ihre gemeinsame Geschichte. Es handelt sich um ein Projekt\, das die Intersektionalität der Kulturen hervorhebt\, neue Identitäten und Narrative hervorbringt und gleichzeitig das Erbe und das kollektive Gedächtnis bewahrt. \n\n30. Oktober bis 04. November 2024 \nEröffnung: 30. Oktober 2024 um 19 Uhr \nÖffnungstage: 31.10.\, 02.11.\, 03.11. und 04.11.\, jeweils von 14 Uhr bis 17 Uhr \nOrt: Raum für Bücher und Bilder\, Gneisenaustraße 30\, 44147 Dortmund \n\nEin Projekt im Rahmen von KOMMEN BLEIBEN GEHEN – Kreative Projekte an temporären Orten. \n\n 
URL:https://dortmund-kreativ.de/event/eroeffnung-alejandra-arevalo-martinez-blood-under-the-sundown-light/
LOCATION:Raum für Bücher und Bilder\, Gneisenaustraße 30\, Dortmund\, 44147
CATEGORIES:Ausstellung,Designwirtschaft,Fotografie,KOMMEN BLEIBEN GEHEN,Kreativwirtschaft,Netzwerk,Urbanität
END:VEVENT
END:VCALENDAR