BEGIN:VCALENDAR
VERSION:2.0
PRODID:-//Dortmund Kreativ - ECPv6.15.18//NONSGML v1.0//EN
CALSCALE:GREGORIAN
METHOD:PUBLISH
X-WR-CALNAME:Dortmund Kreativ
X-ORIGINAL-URL:https://dortmund-kreativ.de
X-WR-CALDESC:Veranstaltungen für Dortmund Kreativ
REFRESH-INTERVAL;VALUE=DURATION:PT1H
X-Robots-Tag:noindex
X-PUBLISHED-TTL:PT1H
BEGIN:VTIMEZONE
TZID:Europe/Berlin
BEGIN:DAYLIGHT
TZOFFSETFROM:+0100
TZOFFSETTO:+0200
TZNAME:CEST
DTSTART:20240331T010000
END:DAYLIGHT
BEGIN:STANDARD
TZOFFSETFROM:+0200
TZOFFSETTO:+0100
TZNAME:CET
DTSTART:20241027T010000
END:STANDARD
BEGIN:DAYLIGHT
TZOFFSETFROM:+0100
TZOFFSETTO:+0200
TZNAME:CEST
DTSTART:20250330T010000
END:DAYLIGHT
BEGIN:STANDARD
TZOFFSETFROM:+0200
TZOFFSETTO:+0100
TZNAME:CET
DTSTART:20251026T010000
END:STANDARD
BEGIN:DAYLIGHT
TZOFFSETFROM:+0100
TZOFFSETTO:+0200
TZNAME:CEST
DTSTART:20260329T010000
END:DAYLIGHT
BEGIN:STANDARD
TZOFFSETFROM:+0200
TZOFFSETTO:+0100
TZNAME:CET
DTSTART:20261025T010000
END:STANDARD
END:VTIMEZONE
BEGIN:VEVENT
DTSTART;TZID=Europe/Berlin:20250907T120000
DTEND;TZID=Europe/Berlin:20250907T150000
DTSTAMP:20260422T032521
CREATED:20250828T081227Z
LAST-MODIFIED:20251111T090445Z
UID:15045-1757246400-1757257200@dortmund-kreativ.de
SUMMARY:Eröffnung "DER ORT" - Dortmunder Kunstverbände bekommen ihre eigene Galerie
DESCRIPTION:Nach langen Vorarbeiten und Verhandlungen ist es so weit: Der Westfälische Künstlerbund Dortmund\, die Dortmunder Gruppe und die Berufsverbände Westfalen und Ruhrgebiet eröffnen zusammen mit dem Kulturbüro der Stadt Dortmund die neue Kunstgalerie am Freistuhl mit dem Namen „DER ORT“. \nDie feierliche Eröffnung der ersten Ausstellung mit dem Titel : „DER ORT-der Extreme“ findet am Sonntag\, den 07. September um 12:00 Uhr in der Galerie im ehem. RWE-Tower am Freistuhl 7 statt. Kulturdezernent Jörg Stüdemann und die Leiterin des Kulturbüros\, Hendrikje Spengler werden begrüßende Worte sprechen\, die Einführung gibt Günter Rückert\, Sprecher der vier Kunstverbände. \nMusikalisch wird die Eröffnungsfeier vom „Duo Amaryllis“ begleitet\, Gilda Razani und Hans Wanning. \n\nNach der Schließung der Galerie „BIG Gallery“ im Dezember 2023 gibt es nun endlich einen neuen Ort für Ausstellungen der vier Kunstverbände. \nDie ehemalige BIG Gallery war im damaligen Gebäude der ‚BIG direkt gesund‘ an der Rheinischen Str. 1 in Dortmunds Innenstadt ansässig. Dort haben von 2012 bis 2023 regelmäßig im Wechsel Kunstausstellungen der vier Kunstverbände stattgefunden. \nNun wurde ein neuer Ort gefunden DER ORT\, am Freistuhl 7\, in bester Innenstadtlage in direkter Nachbarschaft zum Museum für Kunst- und Kulturgeschichte MKK und der Bibliothek. \nNach der Eröffnungsausstellung (7.9. bis 28.9.2025) geht’s im Wechsel der vier Kunstverbände rotierend mit verschiedenen Präsentationen weiter. \nFür die erste Auftaktveranstaltung hat eine Jury aus 100 Bewerbungen mit mehr als 250 Arbeiten für die Präsentation ausgewählt. Zu sehen ist eine Mixtur aus Malerei\, Fotografie\, Objekten und Skulpturen und zeigt eine Bandbreite von Interpretationen zum Thema „Ort der Extreme“. \nWeitere Infos \n 
URL:https://dortmund-kreativ.de/event/eroeffnung-der-ort-dortmunder-kunstverbaende-bekommen-ihre-eigene-galerie/
LOCATION:DER ORT\, Freistuhl 7\, Dortmund\, 44135
END:VEVENT
END:VCALENDAR