BEGIN:VCALENDAR
VERSION:2.0
PRODID:-//Dortmund Kreativ - ECPv6.15.18//NONSGML v1.0//EN
CALSCALE:GREGORIAN
METHOD:PUBLISH
X-WR-CALNAME:Dortmund Kreativ
X-ORIGINAL-URL:https://dortmund-kreativ.de
X-WR-CALDESC:Veranstaltungen für Dortmund Kreativ
REFRESH-INTERVAL;VALUE=DURATION:PT1H
X-Robots-Tag:noindex
X-PUBLISHED-TTL:PT1H
BEGIN:VTIMEZONE
TZID:Europe/Berlin
BEGIN:DAYLIGHT
TZOFFSETFROM:+0100
TZOFFSETTO:+0200
TZNAME:CEST
DTSTART:20240331T010000
END:DAYLIGHT
BEGIN:STANDARD
TZOFFSETFROM:+0200
TZOFFSETTO:+0100
TZNAME:CET
DTSTART:20241027T010000
END:STANDARD
BEGIN:DAYLIGHT
TZOFFSETFROM:+0100
TZOFFSETTO:+0200
TZNAME:CEST
DTSTART:20250330T010000
END:DAYLIGHT
BEGIN:STANDARD
TZOFFSETFROM:+0200
TZOFFSETTO:+0100
TZNAME:CET
DTSTART:20251026T010000
END:STANDARD
BEGIN:DAYLIGHT
TZOFFSETFROM:+0100
TZOFFSETTO:+0200
TZNAME:CEST
DTSTART:20260329T010000
END:DAYLIGHT
BEGIN:STANDARD
TZOFFSETFROM:+0200
TZOFFSETTO:+0100
TZNAME:CET
DTSTART:20261025T010000
END:STANDARD
END:VTIMEZONE
BEGIN:VEVENT
DTSTART;TZID=Europe/Berlin:20251026T110000
DTEND;TZID=Europe/Berlin:20251026T180000
DTSTAMP:20260421T230126
CREATED:20251006T075400Z
LAST-MODIFIED:20251006T075400Z
UID:15327-1761476400-1761501600@dortmund-kreativ.de
SUMMARY:Eröffnung "Ich sehe was\, was du nicht siehst"
DESCRIPTION:Fotografie-Ausstellung von Agnes Zimmermann vom 26.10.-16.11.2025 in der Städtischen Galerie Torhaus Rombergpark. \nHört sich die Stimme nass oder trocken an? Wonach schmeckt die Farbe Blau? Ausgehend von Gesprächen mit Menschen\, die das neurologische Phänomen der Synästhesie erleben\, werden abstrakte Empfindungen fotografisch interpretiert. Dadurch wird ein Raum der Kommunikation zwischen den Sinnen und der Annäherung an andere Wirklichkeiten geschaffen. \nDie Dortmunder Fotografin und Künstlerin Agnes Zimmermann präsentiert ihr Langzeitprojekt Ich sehe was\, was du nicht siehst\, welches im Rahmen ihres Fotografie-Masterstudiums an der FH Dortmund zwischen 2023 und 2025 entstanden ist. \n\nIch sehe was\, was du nicht siehst\nAusstellung von Agnes Zimmermann \n26.10. bis 16.11.2025 \nEröffnung: 26. Oktober 2025 um 11:00 Uhr\nEinführung: Daniela Uhl\, Projektteilnehmerin und Speakerin für Neurodivergenz \nÖffnungszeiten:\ndienstags bis samstags von 14:00 bis 18:00 Uhr\nsonn- und feiertags 10:00 bis 18:00 Uhr \nTorhaus Rombergpark\, Am Rombergpark 65\, 44225 Dortmund \nEintritt frei!
URL:https://dortmund-kreativ.de/event/eroeffnung-ich-sehe-was-was-du-nicht-siehst/
LOCATION:Städtische Galerie Torhaus Rombergpark\, Am Rombergpark 65\, Dortmund\, 44225
CATEGORIES:Ausstellung,Fotografie,Kreativwirtschaft
END:VEVENT
END:VCALENDAR