BEGIN:VCALENDAR
VERSION:2.0
PRODID:-//Dortmund Kreativ - ECPv6.15.18//NONSGML v1.0//EN
CALSCALE:GREGORIAN
METHOD:PUBLISH
X-WR-CALNAME:Dortmund Kreativ
X-ORIGINAL-URL:https://dortmund-kreativ.de
X-WR-CALDESC:Veranstaltungen für Dortmund Kreativ
REFRESH-INTERVAL;VALUE=DURATION:PT1H
X-Robots-Tag:noindex
X-PUBLISHED-TTL:PT1H
BEGIN:VTIMEZONE
TZID:Europe/Berlin
BEGIN:DAYLIGHT
TZOFFSETFROM:+0100
TZOFFSETTO:+0200
TZNAME:CEST
DTSTART:20220327T010000
END:DAYLIGHT
BEGIN:STANDARD
TZOFFSETFROM:+0200
TZOFFSETTO:+0100
TZNAME:CET
DTSTART:20221030T010000
END:STANDARD
BEGIN:DAYLIGHT
TZOFFSETFROM:+0100
TZOFFSETTO:+0200
TZNAME:CEST
DTSTART:20230326T010000
END:DAYLIGHT
BEGIN:STANDARD
TZOFFSETFROM:+0200
TZOFFSETTO:+0100
TZNAME:CET
DTSTART:20231029T010000
END:STANDARD
BEGIN:DAYLIGHT
TZOFFSETFROM:+0100
TZOFFSETTO:+0200
TZNAME:CEST
DTSTART:20240331T010000
END:DAYLIGHT
BEGIN:STANDARD
TZOFFSETFROM:+0200
TZOFFSETTO:+0100
TZNAME:CET
DTSTART:20241027T010000
END:STANDARD
END:VTIMEZONE
BEGIN:VEVENT
DTSTART;TZID=Europe/Berlin:20230916T100000
DTEND;TZID=Europe/Berlin:20230916T140000
DTSTAMP:20260424T022412
CREATED:20230907T105729Z
LAST-MODIFIED:20230919T192001Z
UID:10000419-1694858400-1694872800@dortmund-kreativ.de
SUMMARY:"KONTROLLIERT BIS WUCHERND"
DESCRIPTION:Zur temporären Übernahme und Aktivierung von Leerstand in der Dortmunder City und den Stadtteilzentren hat DORTMUND KREATIV ein neues Projekt entwickelt. Unter dem Titel KOMMEN BLEIBEN GEHEN\, werden an verschiedenen Orten im Stadtgebiet wechselnde Präsentationen und Projekte kreativer Akteur*innen gezeigt. Zum Projektstart konnten Ladenlokale in der Olpe in der Innenstadt\, der Gneisenaustraße in der Nordstadt und der Werner Straße in Lütgendortmund akquiriert werden. Weitere Standorte werden im Projektverlauf folgen. \nZum Start des Projektes wird in der Olpe 12 b eine Gruppenpräsentation unter dem Titel „kontrolliert bis wuchernd“ gezeigt. Janna Banning\, Pia Hoff\, Max Slobodda\, Jens Sundheim und Astrid Wilk zeigen Arbeiten\, die sich im weitesten Sinne mit Flora und Fauna beschäftigen. \nOlpe 12 b\, 44135 Dortmund \nÖffnungszeiten: \n14.09.  15:00-18:00 Uhr\n16.09.  10:00-14:00 Uhr\n19.09.  12:00-14:00 Uhr\n20.09.  10:00-14:00 Uhr\n21.09.  15:00-18:00 Uhr\n23.09.  10:00-14:00 Uhr\n25.09.  15:00-18:00 Uhr \nund gerne nach Vereinbarung! \nAlle weiteren Infos
URL:https://dortmund-kreativ.de/event/eroeffnung-kontrolliert-bis-wuchernd/2023-09-16/
LOCATION:Projektraum OLPE 12B\, Olpe 12 b\, Dortmund\, 44135\, Deutschland
CATEGORIES:Ausstellung,Bildende Kunst,Designwirtschaft,DORTMUND KREATIV,Fotografie,KOMMEN BLEIBEN GEHEN,Kreativwirtschaft,Kunstmarkt,Netzwerk
END:VEVENT
END:VCALENDAR