BEGIN:VCALENDAR
VERSION:2.0
PRODID:-//Dortmund Kreativ - ECPv6.15.18//NONSGML v1.0//EN
CALSCALE:GREGORIAN
METHOD:PUBLISH
X-WR-CALNAME:Dortmund Kreativ
X-ORIGINAL-URL:https://dortmund-kreativ.de
X-WR-CALDESC:Veranstaltungen für Dortmund Kreativ
REFRESH-INTERVAL;VALUE=DURATION:PT1H
X-Robots-Tag:noindex
X-PUBLISHED-TTL:PT1H
BEGIN:VTIMEZONE
TZID:Europe/Berlin
BEGIN:DAYLIGHT
TZOFFSETFROM:+0100
TZOFFSETTO:+0200
TZNAME:CEST
DTSTART:20240331T010000
END:DAYLIGHT
BEGIN:STANDARD
TZOFFSETFROM:+0200
TZOFFSETTO:+0100
TZNAME:CET
DTSTART:20241027T010000
END:STANDARD
BEGIN:DAYLIGHT
TZOFFSETFROM:+0100
TZOFFSETTO:+0200
TZNAME:CEST
DTSTART:20250330T010000
END:DAYLIGHT
BEGIN:STANDARD
TZOFFSETFROM:+0200
TZOFFSETTO:+0100
TZNAME:CET
DTSTART:20251026T010000
END:STANDARD
BEGIN:DAYLIGHT
TZOFFSETFROM:+0100
TZOFFSETTO:+0200
TZNAME:CEST
DTSTART:20260329T010000
END:DAYLIGHT
BEGIN:STANDARD
TZOFFSETFROM:+0200
TZOFFSETTO:+0100
TZNAME:CET
DTSTART:20261025T010000
END:STANDARD
END:VTIMEZONE
BEGIN:VEVENT
DTSTART;TZID=Europe/Berlin:20251215T170000
DTEND;TZID=Europe/Berlin:20251215T190000
DTSTAMP:20260426T062407
CREATED:20251210T154310Z
LAST-MODIFIED:20251210T154310Z
UID:15865-1765818000-1765825200@dortmund-kreativ.de
SUMMARY:Eröffnung Pop-up-Wintergalerie im ehemaligen Kaufhof
DESCRIPTION:Am Montag\, dem 15. Dezember 2025 eröffnet um 17:00 Uhr im ehemaligen Kaufhof-Gebäude auf dem Dortmunder Westenhellweg eine große Pop-up-Galerie – mit Werken von Dortmunder Künstlerinnen und Künstlern\, aus dem Kunstatelier WERKstattARBEIT der AWO Dortmund sowie aus dem Nachlass des Dortmunder Künstlers Walter Liggesmeyer (1938-2017). \nUnter der künstlerischen Gesamtleitung von Helga Hoicke entsteht ein Raum\, in dem unterschiedliche Stimmen sichtbar werden – offen\, wertschätzend und voller kreativer Energie. Kulturelle Vielfalt unserer Stadt wird das leerstehende Gebäude mit Leben füllen. \nAlle Interessierten sind herzlich zum Besuch eingeladen – um Kunst zu entdecken\, Lieblingsstücke zu finden und sich inspirieren zu lassen! \nGeöffnet ist die Galerie montags bis samstags von 10:00 Uhr bis 20:00 Uhr; zunächst befristet bis Ende März 2026. \nTrägerin der Wintergalerie ist die Arbeiterwohlfahrt Unterbezirk Dortmund; sie bringt die POP-UP-Galerie mit freundlicher Unterstützung der Stadt Dortmund\, der Sparkasse Dortmund und weiteren Förderern und Unterstützern auf den Weg. \nWeitere Infos
URL:https://dortmund-kreativ.de/event/eroeffnung-pop-up-wintergalerie-im-ehemaligen-kaufhof/
CATEGORIES:Ausstellung,Bildende Kunst,Kreativwirtschaft,Kunstmarkt,Netzwerk,Stadtentwicklung,Urbanität
END:VEVENT
END:VCALENDAR