BEGIN:VCALENDAR
VERSION:2.0
PRODID:-//Dortmund Kreativ - ECPv6.15.18//NONSGML v1.0//EN
CALSCALE:GREGORIAN
METHOD:PUBLISH
X-WR-CALNAME:Dortmund Kreativ
X-ORIGINAL-URL:https://dortmund-kreativ.de
X-WR-CALDESC:Veranstaltungen für Dortmund Kreativ
REFRESH-INTERVAL;VALUE=DURATION:PT1H
X-Robots-Tag:noindex
X-PUBLISHED-TTL:PT1H
BEGIN:VTIMEZONE
TZID:Europe/Berlin
BEGIN:DAYLIGHT
TZOFFSETFROM:+0100
TZOFFSETTO:+0200
TZNAME:CEST
DTSTART:20230326T010000
END:DAYLIGHT
BEGIN:STANDARD
TZOFFSETFROM:+0200
TZOFFSETTO:+0100
TZNAME:CET
DTSTART:20231029T010000
END:STANDARD
BEGIN:DAYLIGHT
TZOFFSETFROM:+0100
TZOFFSETTO:+0200
TZNAME:CEST
DTSTART:20240331T010000
END:DAYLIGHT
BEGIN:STANDARD
TZOFFSETFROM:+0200
TZOFFSETTO:+0100
TZNAME:CET
DTSTART:20241027T010000
END:STANDARD
BEGIN:DAYLIGHT
TZOFFSETFROM:+0100
TZOFFSETTO:+0200
TZNAME:CEST
DTSTART:20250330T010000
END:DAYLIGHT
BEGIN:STANDARD
TZOFFSETFROM:+0200
TZOFFSETTO:+0100
TZNAME:CET
DTSTART:20251026T010000
END:STANDARD
END:VTIMEZONE
BEGIN:VEVENT
DTSTART;TZID=Europe/Berlin:20240201T183000
DTEND;TZID=Europe/Berlin:20240201T203000
DTSTAMP:20260423T202222
CREATED:20240201T153339Z
LAST-MODIFIED:20240201T153339Z
UID:10670-1706812200-1706819400@dortmund-kreativ.de
SUMMARY:ERÖFFNUNG | VON HIER 02: AUSSERGEWÖHNLICHE DESIGN-POSITIONEN AUS DORTMUND
DESCRIPTION:Im Rahmen der Ausstellung ‚VON HIER 02‘ präsentiert DORTMUND KREATIV ab dem 01. Februar 2024 innovative und außergewöhnliche Designpositionen aus Dortmund. Zuvor waren die Positionen auf der Designers Fair / PASSAGEN 2024 im Rahmen der Internationalen Möbelmesse in Köln zu sehen – der größten deutschen urbanen Designveranstaltung. \nEs werden Positionen von abc.ramics\, NOSTUDIO\, Lippert\, Tischlerei Freiformat\, Manufaktur Peng\, LOFTBLOCK\, 44309//Gallery\, Elkedag und HOFF GLAS gezeigt. Ausführliche Infos findet Ihr weiter unten. \nAUSSTELLUNGSZEITRAUM:\n01. Februar – 30. März 2024 \nEröffnung am 01. Februar 2024 um 18:30 Uhr \nÖFFNUNGSZEITEN:\nDie Ausstellung ist durch die Schaufenster permanent zu sehen. Öffnung des Ladenlokals gerne nach Vereinbarung. \nORT:\nOLPE 12B\, Olpe 12b\, 44135 Dortmund \nEin Ausstellung im Rahmen von KOMMEN BLEIBEN GEHEN \nVON HIER 02: AUSSERGEWÖHNLICHE DESIGN-POSITIONEN AUS DORTMUND | Dortmund Kreativ (dortmund-kreativ.de)
URL:https://dortmund-kreativ.de/event/eroeffnung-von-hier-02-aussergewoehnliche-design-positionen-aus-dortmund/
LOCATION:Projektraum OLPE 12B\, Olpe 12 b\, Dortmund\, 44135\, Deutschland
CATEGORIES:Ausstellung,Designwirtschaft,DORTMUND KREATIV,KOMMEN BLEIBEN GEHEN,Kreativwirtschaft,Netzwerk,Stadtentwicklung,Urbanität
END:VEVENT
END:VCALENDAR