BEGIN:VCALENDAR
VERSION:2.0
PRODID:-//Dortmund Kreativ - ECPv6.15.18//NONSGML v1.0//EN
CALSCALE:GREGORIAN
METHOD:PUBLISH
X-WR-CALNAME:Dortmund Kreativ
X-ORIGINAL-URL:https://dortmund-kreativ.de
X-WR-CALDESC:Veranstaltungen für Dortmund Kreativ
REFRESH-INTERVAL;VALUE=DURATION:PT1H
X-Robots-Tag:noindex
X-PUBLISHED-TTL:PT1H
BEGIN:VTIMEZONE
TZID:Europe/Berlin
BEGIN:DAYLIGHT
TZOFFSETFROM:+0100
TZOFFSETTO:+0200
TZNAME:CEST
DTSTART:20220327T010000
END:DAYLIGHT
BEGIN:STANDARD
TZOFFSETFROM:+0200
TZOFFSETTO:+0100
TZNAME:CET
DTSTART:20221030T010000
END:STANDARD
BEGIN:DAYLIGHT
TZOFFSETFROM:+0100
TZOFFSETTO:+0200
TZNAME:CEST
DTSTART:20230326T010000
END:DAYLIGHT
BEGIN:STANDARD
TZOFFSETFROM:+0200
TZOFFSETTO:+0100
TZNAME:CET
DTSTART:20231029T010000
END:STANDARD
BEGIN:DAYLIGHT
TZOFFSETFROM:+0100
TZOFFSETTO:+0200
TZNAME:CEST
DTSTART:20240331T010000
END:DAYLIGHT
BEGIN:STANDARD
TZOFFSETFROM:+0200
TZOFFSETTO:+0100
TZNAME:CET
DTSTART:20241027T010000
END:STANDARD
END:VTIMEZONE
BEGIN:VEVENT
DTSTART;TZID=Europe/Berlin:20230607T180000
DTEND;TZID=Europe/Berlin:20230607T190000
DTSTAMP:20260424T114816
CREATED:20230524T153708Z
LAST-MODIFIED:20230524T153759Z
UID:8541-1686160800-1686164400@dortmund-kreativ.de
SUMMARY:f² Fotofestival: Projektpräsentation "GLOBAL ME"
DESCRIPTION:Global Me lotet mit angehenden Erzieher:innen das Spannungsfeld zwischen lokalem und globalem Ich aus. Ausgangspunkt waren Portraits. Die Ausstellung zeigt die mit unterschiedlichen Materialien bearbeiteten Porträtfotos\, um sich so möglichen Antworten auf die folgenden Fragen anzunähern: Wer steht da? Wie sind wir verknüpft mit anderen? Wie viel Individualität ist in der globalisierten Welt möglich? Wie unterschiedlich wirkt eine Person jeweils aus der regionalen und der globalen Perspektive? \nKonzept und Workshops: Iris Wolf \nDas Projekt ist gefördert vom Ministerium für Kultur und Wissenschaft des Landes Nordrhein-Westfalen. \nWeitere Infos
URL:https://dortmund-kreativ.de/event/f%c2%b2-fotofestival-projektpraesentation-global-me/
LOCATION:HANS A\, Hansastraße 6-10\, Dortmund\, 44137
CATEGORIES:Ausstellung,Festival,Fotografie,HANS A | HANS B | HANS C,Kreativquartiere,Kreativwirtschaft,Netzwerk
END:VEVENT
END:VCALENDAR