BEGIN:VCALENDAR
VERSION:2.0
PRODID:-//Dortmund Kreativ - ECPv6.15.18//NONSGML v1.0//EN
CALSCALE:GREGORIAN
METHOD:PUBLISH
X-WR-CALNAME:Dortmund Kreativ
X-ORIGINAL-URL:https://dortmund-kreativ.de
X-WR-CALDESC:Veranstaltungen für Dortmund Kreativ
REFRESH-INTERVAL;VALUE=DURATION:PT1H
X-Robots-Tag:noindex
X-PUBLISHED-TTL:PT1H
BEGIN:VTIMEZONE
TZID:Europe/Berlin
BEGIN:DAYLIGHT
TZOFFSETFROM:+0100
TZOFFSETTO:+0200
TZNAME:CEST
DTSTART:20240331T010000
END:DAYLIGHT
BEGIN:STANDARD
TZOFFSETFROM:+0200
TZOFFSETTO:+0100
TZNAME:CET
DTSTART:20241027T010000
END:STANDARD
BEGIN:DAYLIGHT
TZOFFSETFROM:+0100
TZOFFSETTO:+0200
TZNAME:CEST
DTSTART:20250330T010000
END:DAYLIGHT
BEGIN:STANDARD
TZOFFSETFROM:+0200
TZOFFSETTO:+0100
TZNAME:CET
DTSTART:20251026T010000
END:STANDARD
BEGIN:DAYLIGHT
TZOFFSETFROM:+0100
TZOFFSETTO:+0200
TZNAME:CEST
DTSTART:20260329T010000
END:DAYLIGHT
BEGIN:STANDARD
TZOFFSETFROM:+0200
TZOFFSETTO:+0100
TZNAME:CET
DTSTART:20261025T010000
END:STANDARD
END:VTIMEZONE
BEGIN:VEVENT
DTSTART;TZID=Europe/Berlin:20250906T140000
DTEND;TZID=Europe/Berlin:20250906T235900
DTSTAMP:20260422T032715
CREATED:20250807T101733Z
LAST-MODIFIED:20250826T131801Z
UID:14826-1757167200-1757203140@dortmund-kreativ.de
SUMMARY:flinta*sialand – festival für sichtbarkeit und empowerment von flinta*-künstler*innen
DESCRIPTION:Das flinta*sialand schafft als interdisziplinäres Tagesfestival zwischen Livemusik\, Club und urbaner Kultur Freiräume mit einem besonderen Fokus auf inklusive Ansätze. FLINTA* on the stage! – lautet das Kernanliegen. Zur Förderung von Diversität und Austausch in den urbanen Künsten\, zum regionalen und lokalen Empowerment marginalisierter Personen\, sowie zur Ausdifferenzierung der kulturellen Identität innerhalb der lebendigen Nordstadt\, laden die Veranstalter*innen ein fulminantes FLINTA*-Fronted Line-Up ein\, sich den urbanen Raum als Ort für Alle anzueignen. \nSa. 06. September 2025\nOrt: Speicher 100\, Kieselwiese und Maschinerie (Speicherstraße 100)\nZeit: 14:00 bis 00:00 Uhr \nDer Eintritt ist frei!
URL:https://dortmund-kreativ.de/event/flintasialand-festival-fuer-sichtbarkeit-und-empowerment-von-flinta-kuenstlerinnen/
LOCATION:Speicher 100\, Speicherstraße 100\, Dortmund\, NRW\, 44147\, Germany
CATEGORIES:Ausstellung,Darstellende Kunst,Festival,Konzert,Kreativwirtschaft,Musikwirtschaft,Nachtkultur,Netzwerk,Tanz,Urbane Kunst,Urbanität
END:VEVENT
END:VCALENDAR