BEGIN:VCALENDAR
VERSION:2.0
PRODID:-//Dortmund Kreativ - ECPv6.15.18//NONSGML v1.0//EN
CALSCALE:GREGORIAN
METHOD:PUBLISH
X-WR-CALNAME:Dortmund Kreativ
X-ORIGINAL-URL:https://dortmund-kreativ.de
X-WR-CALDESC:Veranstaltungen für Dortmund Kreativ
REFRESH-INTERVAL;VALUE=DURATION:PT1H
X-Robots-Tag:noindex
X-PUBLISHED-TTL:PT1H
BEGIN:VTIMEZONE
TZID:Europe/Berlin
BEGIN:DAYLIGHT
TZOFFSETFROM:+0100
TZOFFSETTO:+0200
TZNAME:CEST
DTSTART:20220327T010000
END:DAYLIGHT
BEGIN:STANDARD
TZOFFSETFROM:+0200
TZOFFSETTO:+0100
TZNAME:CET
DTSTART:20221030T010000
END:STANDARD
BEGIN:DAYLIGHT
TZOFFSETFROM:+0100
TZOFFSETTO:+0200
TZNAME:CEST
DTSTART:20230326T010000
END:DAYLIGHT
BEGIN:STANDARD
TZOFFSETFROM:+0200
TZOFFSETTO:+0100
TZNAME:CET
DTSTART:20231029T010000
END:STANDARD
BEGIN:DAYLIGHT
TZOFFSETFROM:+0100
TZOFFSETTO:+0200
TZNAME:CEST
DTSTART:20240331T010000
END:DAYLIGHT
BEGIN:STANDARD
TZOFFSETFROM:+0200
TZOFFSETTO:+0100
TZNAME:CET
DTSTART:20241027T010000
END:STANDARD
END:VTIMEZONE
BEGIN:VEVENT
DTSTART;VALUE=DATE:20230630
DTEND;VALUE=DATE:20230708
DTSTAMP:20260424T091211
CREATED:20230704T124608Z
LAST-MODIFIED:20230704T124608Z
UID:8705-1688083200-1688774399@dortmund-kreativ.de
SUMMARY:Fotoausstellung: A HEART\, THE SIZE OF A FIST
DESCRIPTION:A HEART\, THE SIZE OF A FIST  \nAusstellungszeitraum: 30.06. – 07.07.2023  \nDie Ausstellung stellt drei komplementäre Beziehungen im persönlichen Umfeld der Fotograf*innen Calvin Hein\, Matthias Spiewok und Adina Salome Harnischfeger dar. Mit dokumentarischen und künstlerischen Fotografien wird das Thema der eigenen Beziehung in Bezug auf Familie\, Liebe und Heimat untersucht. Der Akt des Fotografierens dient dazu sich selbst zu reflektieren und zu verstehen\, miteinander zu kommunizieren\, Grenzen zu erarbeiten und zu akzeptieren\, zu verstehen\, was man möchte und was man nicht möchte. Außerdem kommen Fragen auf\, welche sich nur schwer für einen Selbst beantworten lassen. \nÖffnungszeiten: \nMO 12:00 – 16:00 Uhr\nDI   12:00 – 16:00 Uhr\nMI  14:00 – 18:00 Uhr\nDO 16:00 – 19:00 Uhr\nFR  12:00 – 16:00 Uhr \n 
URL:https://dortmund-kreativ.de/event/fotoausstellung-a-heart-the-size-of-a-fist/
LOCATION:SUPERRAUM\, Brückstraße 64\, Dortmund\, 44135\, Deutschland
CATEGORIES:Ausstellung,DORTMUND KREATIV,Fotografie,Kreativwirtschaft,Kunstmarkt
ATTACH;FMTTYPE=image/jpeg:https://dortmund-kreativ.de/wp-content/uploads/2023/07/A-Heart.jpg
ORGANIZER;CN="DORTMUND KREATIV":MAILTO:hallo@dortmund-kreativ.de
END:VEVENT
END:VCALENDAR