BEGIN:VCALENDAR
VERSION:2.0
PRODID:-//Dortmund Kreativ - ECPv6.15.18//NONSGML v1.0//EN
CALSCALE:GREGORIAN
METHOD:PUBLISH
X-WR-CALNAME:Dortmund Kreativ
X-ORIGINAL-URL:https://dortmund-kreativ.de
X-WR-CALDESC:Veranstaltungen für Dortmund Kreativ
REFRESH-INTERVAL;VALUE=DURATION:PT1H
X-Robots-Tag:noindex
X-PUBLISHED-TTL:PT1H
BEGIN:VTIMEZONE
TZID:Europe/Berlin
BEGIN:DAYLIGHT
TZOFFSETFROM:+0100
TZOFFSETTO:+0200
TZNAME:CEST
DTSTART:20210328T010000
END:DAYLIGHT
BEGIN:STANDARD
TZOFFSETFROM:+0200
TZOFFSETTO:+0100
TZNAME:CET
DTSTART:20211031T010000
END:STANDARD
BEGIN:DAYLIGHT
TZOFFSETFROM:+0100
TZOFFSETTO:+0200
TZNAME:CEST
DTSTART:20220327T010000
END:DAYLIGHT
BEGIN:STANDARD
TZOFFSETFROM:+0200
TZOFFSETTO:+0100
TZNAME:CET
DTSTART:20221030T010000
END:STANDARD
BEGIN:DAYLIGHT
TZOFFSETFROM:+0100
TZOFFSETTO:+0200
TZNAME:CEST
DTSTART:20230326T010000
END:DAYLIGHT
BEGIN:STANDARD
TZOFFSETFROM:+0200
TZOFFSETTO:+0100
TZNAME:CET
DTSTART:20231029T010000
END:STANDARD
END:VTIMEZONE
BEGIN:VEVENT
DTSTART;TZID=Europe/Berlin:20221209T170000
DTEND;TZID=Europe/Berlin:20221209T210000
DTSTAMP:20260424T201100
CREATED:20221201T142926Z
LAST-MODIFIED:20221201T144933Z
UID:7194-1670605200-1670619600@dortmund-kreativ.de
SUMMARY:Freie Szene Film Dortmund: Netzwerktreffen
DESCRIPTION:Am Freitag\, den 09.12.2022 um 17 Uhr lädt die Freie Szene Film zum Austausch und Adventspunsch in den SUPERRAUM (Brückstraße 64\, 44135 Dortmund).\n\nThema: NRW VERNETZT!\n\nSonja Hofmann stellt das Filmbüro NW vor & Lucienne Laven das Netzwerk Filmkultur NRW  \n\n\nDas Filmbüro NW gibt es bereits seit über 40 Jahren. 1980 wurde es von Filmemacher*innen gegründet\, um das unabhängige Filmschaffen in NRW zu fördern. Beim Blick zurück auf eine bewegte Geschichte kann Sonja Hofmann vom Filmbüro NW sicherlich über einige realisierte und verworfene Utopien resümieren und nach vorne blickend Tipps geben\, wie Filmschaffende in Dortmund dort Mitglied werden können\, wie man sich generell vernetzt und welchen Nutzen Netzwerke im Allgemeinen haben. \nDagegen ganz frisch ist das Netzwerk Filmkultur NRW\, das sich 2021 als Verein aus einem losen Zusammenschluss von bereits kooperierenden Festivals und Filminitiativen gründete. Zwei spannende Projekte konnten bereits angestoßen werden: Filmwelt Ukraine – Onboarding Filmland NRW\, Grüne Filmkultur\, über die es sich für alle aus der Filmszene lohnt\, mehr zu erfahren! \nDanach: Get Together bis 21 Uhr.
URL:https://dortmund-kreativ.de/event/freie-szene-film-dortmund-netzwerktreffen/
LOCATION:SUPERRAUM\, Brückstraße 64\, Dortmund\, 44135\, Deutschland
CATEGORIES:Filmwirtschaft,Kreativwirtschaft,Projektraum,SUPERRAUM,Urbanität
ATTACH;FMTTYPE=image/png:https://dortmund-kreativ.de/wp-content/uploads/2022/12/freieszenefilm_get_together_091222.png
END:VEVENT
END:VCALENDAR