BEGIN:VCALENDAR
VERSION:2.0
PRODID:-//Dortmund Kreativ - ECPv6.15.18//NONSGML v1.0//EN
CALSCALE:GREGORIAN
METHOD:PUBLISH
X-WR-CALNAME:Dortmund Kreativ
X-ORIGINAL-URL:https://dortmund-kreativ.de
X-WR-CALDESC:Veranstaltungen für Dortmund Kreativ
REFRESH-INTERVAL;VALUE=DURATION:PT1H
X-Robots-Tag:noindex
X-PUBLISHED-TTL:PT1H
BEGIN:VTIMEZONE
TZID:Europe/Berlin
BEGIN:DAYLIGHT
TZOFFSETFROM:+0100
TZOFFSETTO:+0200
TZNAME:CEST
DTSTART:20240331T010000
END:DAYLIGHT
BEGIN:STANDARD
TZOFFSETFROM:+0200
TZOFFSETTO:+0100
TZNAME:CET
DTSTART:20241027T010000
END:STANDARD
BEGIN:DAYLIGHT
TZOFFSETFROM:+0100
TZOFFSETTO:+0200
TZNAME:CEST
DTSTART:20250330T010000
END:DAYLIGHT
BEGIN:STANDARD
TZOFFSETFROM:+0200
TZOFFSETTO:+0100
TZNAME:CET
DTSTART:20251026T010000
END:STANDARD
BEGIN:DAYLIGHT
TZOFFSETFROM:+0100
TZOFFSETTO:+0200
TZNAME:CEST
DTSTART:20260329T010000
END:DAYLIGHT
BEGIN:STANDARD
TZOFFSETFROM:+0200
TZOFFSETTO:+0100
TZNAME:CET
DTSTART:20261025T010000
END:STANDARD
END:VTIMEZONE
BEGIN:VEVENT
DTSTART;TZID=Europe/Berlin:20250413T150000
DTEND;TZID=Europe/Berlin:20250413T180000
DTSTAMP:20260422T093752
CREATED:20250401T140619Z
LAST-MODIFIED:20250401T140619Z
UID:14275-1744556400-1744567200@dortmund-kreativ.de
SUMMARY:Friedrich7: Vernissage Benefizausstellung mit Brita Kreutzfeldt
DESCRIPTION:Die Künstlerin Brita Kreutzfeldt präsentiert ihre Arbeiten zu persönlichen Abenteuern\, Begegnungen und Erkenntnissen in Form einer Benefizausstellung im Friedrich7. \nBrita Kreutzfeld erzählt mit ihren Bildern auf visuelle Weise das nach\, was sie gesehen\, gefühlt oder erlebt hat. Ihre Inspiration sind Menschen unterschiedlichster Kulturen\, niedliche Tiere oder atemberaubende Landschaften – mal einzeln hervorgehoben\, mal in Beziehung zueinander gesetzt. Seit 2003 arbeitet sie als freischaffende Künstlerin\, nimmt regelmäßig bei den Malsommern des Ateliers \,\,Sternentor“ teil\, engagiert sich für den Verein im KQH e.V. und stellt im KulturLaden Hörde ihre Werke aus. \nDie Grundlage ihrer Werke bilden häufig Fotografien und Schnappschüsse\, die ihr als Erinnerungsstütze dienen. Mit Hilfe dieser Aufnahmen taucht Brita Kreutzfeldt noch tiefer in ihre Erinnerungen und Träume ein\, um diese schließlich auf Papier zu bringen. Dabei experimentiert sie mit verschiedensten Maltechniken und beherrscht unter anderem die Arbeit mit Alkoholtinte\, Enkaustik\, Mixed Media sowie klassischen Zeichnungen. \nBei dieser Ausstellung gehen 70 % des Verkaufsanteils wahlweise an Ärzte ohne Grenzen e.V.\, Stiftung WWF Deutschland oder an den Johanniterorden. \n\,\,Ich brauche Platz”\n13. April bis 27. April 2025 \nÖffnungszeiten:\nmittwochs und sonntags\, 15 bis 18 Uhr\nsamstags\, 11 bis 17 Uhr \nVernissage:\n13. April\, 15 Uhr \nFinissage:\n27. April\, 11 Uhr \nWeitere Infos \n 
URL:https://dortmund-kreativ.de/event/friedrich7-vernissage-benefizausstellung-mit-brita-kreutzfeldt/
LOCATION:Friedrich 7\, Friedrich-Ebert-Str. 7\, Dortmund\, 44263
CATEGORIES:Ausstellung,Bildende Kunst,Kreativwirtschaft,Kunstmarkt,Netzwerk
END:VEVENT
END:VCALENDAR