BEGIN:VCALENDAR
VERSION:2.0
PRODID:-//Dortmund Kreativ - ECPv6.15.18//NONSGML v1.0//EN
CALSCALE:GREGORIAN
METHOD:PUBLISH
X-WR-CALNAME:Dortmund Kreativ
X-ORIGINAL-URL:https://dortmund-kreativ.de
X-WR-CALDESC:Veranstaltungen für Dortmund Kreativ
REFRESH-INTERVAL;VALUE=DURATION:PT1H
X-Robots-Tag:noindex
X-PUBLISHED-TTL:PT1H
BEGIN:VTIMEZONE
TZID:Europe/Berlin
BEGIN:DAYLIGHT
TZOFFSETFROM:+0100
TZOFFSETTO:+0200
TZNAME:CEST
DTSTART:20220327T010000
END:DAYLIGHT
BEGIN:STANDARD
TZOFFSETFROM:+0200
TZOFFSETTO:+0100
TZNAME:CET
DTSTART:20221030T010000
END:STANDARD
BEGIN:DAYLIGHT
TZOFFSETFROM:+0100
TZOFFSETTO:+0200
TZNAME:CEST
DTSTART:20230326T010000
END:DAYLIGHT
BEGIN:STANDARD
TZOFFSETFROM:+0200
TZOFFSETTO:+0100
TZNAME:CET
DTSTART:20231029T010000
END:STANDARD
BEGIN:DAYLIGHT
TZOFFSETFROM:+0100
TZOFFSETTO:+0200
TZNAME:CEST
DTSTART:20240331T010000
END:DAYLIGHT
BEGIN:STANDARD
TZOFFSETFROM:+0200
TZOFFSETTO:+0100
TZNAME:CET
DTSTART:20241027T010000
END:STANDARD
END:VTIMEZONE
BEGIN:VEVENT
DTSTART;VALUE=DATE:20231013
DTEND;VALUE=DATE:20231015
DTSTAMP:20260424T005141
CREATED:20231005T144850Z
LAST-MODIFIED:20231005T144850Z
UID:9755-1697155200-1697327999@dortmund-kreativ.de
SUMMARY:From Lost Space to Safer Space
DESCRIPTION:In der kommenden Veranstaltung From Lost Space to Safer Space wird in der Nordstadtgalerie ein BIPoC Vernetzungsraum geschaffen. \nTabitha Tshitungu und Louise Braunschweig haben das Veranstaltungsformat ins Leben gerufen. Dieses African Diaspora Come Together möchte die Afrikanisch-Deutsche Community vor allem an der FH Dortmund aber auch darüber hinaus näher zusammenbringen und einen Ort für Austausch ermöglichen. Gleichzeitig soll die Sichtbarkeit von BIPoC\, auch im Zusammenhang mit ihrem Wirken an der FH\, gestärkt werden – ob als Studierende\, Lehrende oder Beschäftigte. \nEs wird einen Mix aus kulturellen und künstlerischen Arbeiten sowie Auftritten geben – teils für alle\, teils ausschließlich für Personen der Community. \nVernissage \nFreitag\, 13.10.2023 Beginn: 18:00 Uhr\nmit künstlerischen Arbeiten von Calvin Hein & Noëlle Thyrann (Studierende der Fachhochschule Dortmund) und Christiana Kamara \nSamstag\, 14.10.2023 Beginn: 16:00 Uhr\nAfrican Diaspora Come Together! (Community only)\nPanel-Diskussion zum Thema: „Wie wird meine Afrikanische Identität in den Kontexten\, in denen ich mich bewege\, thematisiert?“ Außerdem gibt es einen Poetry-Beitrag von Miggy Wattson und Musik von Nasir The Artist. Den Abend über wird es afrikanische Spezialitäten geben. \nIn gemütlicher Runde habt ihr die Chance euch kennenzulernen und neue Kontakte zu schließen. \nEine Anmeldung ist erforderlich\, dazu geht’s HIER lang. \nVeranstaltungsort\nHvO-Nordstadtgalerie / Bornstraße 142\, 44145 Dortmund
URL:https://dortmund-kreativ.de/event/from-lost-space-to-safer-space/
LOCATION:Nordstadtgalerie\, Bornstraße 142\, Dortmund\, 44145
CATEGORIES:Ausstellung,Kreativwirtschaft
ATTACH;FMTTYPE=image/jpeg:https://dortmund-kreativ.de/wp-content/uploads/2023/10/ALLINONE.jpeg
END:VEVENT
END:VCALENDAR