BEGIN:VCALENDAR
VERSION:2.0
PRODID:-//Dortmund Kreativ - ECPv6.15.18//NONSGML v1.0//EN
CALSCALE:GREGORIAN
METHOD:PUBLISH
X-WR-CALNAME:Dortmund Kreativ
X-ORIGINAL-URL:https://dortmund-kreativ.de
X-WR-CALDESC:Veranstaltungen für Dortmund Kreativ
REFRESH-INTERVAL;VALUE=DURATION:PT1H
X-Robots-Tag:noindex
X-PUBLISHED-TTL:PT1H
BEGIN:VTIMEZONE
TZID:Europe/Berlin
BEGIN:DAYLIGHT
TZOFFSETFROM:+0100
TZOFFSETTO:+0200
TZNAME:CEST
DTSTART:20220327T010000
END:DAYLIGHT
BEGIN:STANDARD
TZOFFSETFROM:+0200
TZOFFSETTO:+0100
TZNAME:CET
DTSTART:20221030T010000
END:STANDARD
BEGIN:DAYLIGHT
TZOFFSETFROM:+0100
TZOFFSETTO:+0200
TZNAME:CEST
DTSTART:20230326T010000
END:DAYLIGHT
BEGIN:STANDARD
TZOFFSETFROM:+0200
TZOFFSETTO:+0100
TZNAME:CET
DTSTART:20231029T010000
END:STANDARD
BEGIN:DAYLIGHT
TZOFFSETFROM:+0100
TZOFFSETTO:+0200
TZNAME:CEST
DTSTART:20240331T010000
END:DAYLIGHT
BEGIN:STANDARD
TZOFFSETFROM:+0200
TZOFFSETTO:+0100
TZNAME:CET
DTSTART:20241027T010000
END:STANDARD
END:VTIMEZONE
BEGIN:VEVENT
DTSTART;TZID=Europe/Berlin:20230331T200000
DTEND;TZID=Europe/Berlin:20230331T223000
DTSTAMP:20260424T160622
CREATED:20230320T112343Z
LAST-MODIFIED:20230320T112453Z
UID:8112-1680292800-1680301800@dortmund-kreativ.de
SUMMARY:GO:40 – 40 JAHRE KÜNSTLERHAUS DORTMUND | Ausstellungseröffnung
DESCRIPTION:Anlässlich des 40jährigen Bestehens des Künstlerhauses lädt die aktuelle Ateliergemeinschaft Mitglieder aus der bewegten Geschichte des Hauses ein\, aktuelle Arbeiten zu präsentieren. \nAls Fortsetzung der beliebten Reihe mit Künstler*innen aus Stadt und Region präsentiert GO:40 einen so lebhaften wie umfangreichen Überblick über aktuelle Produktionen\, die irgendwann einmal im Haus ihren Ursprung genommen haben oder dort weiterentwickelt wurden. Die zwanzig eingeladenen Künstlerinnen und Künstler spannen geografisch von Amsterdam über Dortmund und NRW\, Kiel\, Leipzig\, Berlin\, dem schweizerischen Biel bis nach Tokio ein ebenso großes Netz\, wie in ihren verwendeten Sujets und Medien. Von Zeichnungen und Malerei\, zu Fotografie und Film bis zu Installation reicht das Spektrum der präsentierten Arbeiten. \nDas Jubiläum bietet die Möglichkeit die neue Geschäftsführung\, die am 1.4.2023 ihr Amt antritt\, mit der Geschichte des Hauses vertraut zu machen: Die Geschichte des Künstlerhauses ist eine von Persönlichkeiten\, die neben ihrem eigenen Werk stets für das Programm des Hauses als Kurator*innen aktiv waren. Wenn diese nun mit eigenen Arbeiten in den Blick rücken\, so wird deutlich\, dass die Konstruktion des künstlerkuratierten Ausstellungs- und Residency-Hauses eine Erfolgsgeschichte von Künstler*innen ist\, die entgegen einem verbreiteten Vorurteil kooperiert haben und sich für das Gemeinwohl engagiert haben. Dies hat die Stadt Dortmund durch eine kontinuierliche Förderung unterstützt. Das Jubiläum ist ein dankbarer Blick zurück und ebenso ein Ausblick auf weitere Jahre voller Programm\, voller Überraschungen und Entdeckungen. \n01. April bis 14. Mai 2023 \nEröffnung: Freitag\, den 31. März\, 20 Uhr\nFinissage: Sonntag\, den 14. Mai\, 17 bis 19 Uhr \nBeteiligte Künstler*innen: \n\nTomomi Adachi\nChristoph Bangert\nPatrick Borchers\nHarald Busch\nJulian Faulhaber\nNina Glockner\nAntje Hassinger\nSybille Hassinger\nThomas Haubner\nFrancis Hunger\nTina Jacobs\nSonja Kuprat\nPaola Manzur\nRona Rangsch\nGerd Schmedes\nAn Seebach\nHildegard Skowasch\nJürgen Spiler\nCornelia Suhan\nHelga Weihs\nAnke Zürn\n\nWeitere Infos findet ihr hier!
URL:https://dortmund-kreativ.de/event/go40-40-jahre-kuenstlerhaus-dortmund/
LOCATION:Künstler*innenhaus Dortmund\, Sunderweg 1\, Dortmund\, NRW\, 44147
CATEGORIES:Ausstellung,Bildende Kunst,Fotografie
END:VEVENT
END:VCALENDAR