BEGIN:VCALENDAR
VERSION:2.0
PRODID:-//Dortmund Kreativ - ECPv6.15.18//NONSGML v1.0//EN
CALSCALE:GREGORIAN
METHOD:PUBLISH
X-WR-CALNAME:Dortmund Kreativ
X-ORIGINAL-URL:https://dortmund-kreativ.de
X-WR-CALDESC:Veranstaltungen für Dortmund Kreativ
REFRESH-INTERVAL;VALUE=DURATION:PT1H
X-Robots-Tag:noindex
X-PUBLISHED-TTL:PT1H
BEGIN:VTIMEZONE
TZID:Europe/Berlin
BEGIN:DAYLIGHT
TZOFFSETFROM:+0100
TZOFFSETTO:+0200
TZNAME:CEST
DTSTART:20250330T010000
END:DAYLIGHT
BEGIN:STANDARD
TZOFFSETFROM:+0200
TZOFFSETTO:+0100
TZNAME:CET
DTSTART:20251026T010000
END:STANDARD
BEGIN:DAYLIGHT
TZOFFSETFROM:+0100
TZOFFSETTO:+0200
TZNAME:CEST
DTSTART:20260329T010000
END:DAYLIGHT
BEGIN:STANDARD
TZOFFSETFROM:+0200
TZOFFSETTO:+0100
TZNAME:CET
DTSTART:20261025T010000
END:STANDARD
BEGIN:DAYLIGHT
TZOFFSETFROM:+0100
TZOFFSETTO:+0200
TZNAME:CEST
DTSTART:20270328T010000
END:DAYLIGHT
BEGIN:STANDARD
TZOFFSETFROM:+0200
TZOFFSETTO:+0100
TZNAME:CET
DTSTART:20271031T010000
END:STANDARD
END:VTIMEZONE
BEGIN:VEVENT
DTSTART;TZID=Europe/Berlin:20260325T160000
DTEND;TZID=Europe/Berlin:20260325T180000
DTSTAMP:20260421T135343
CREATED:20260306T092113Z
LAST-MODIFIED:20260306T092113Z
UID:16347-1774454400-1774461600@dortmund-kreativ.de
SUMMARY:Green Culture Dortmund: Leitfaden für nachhaltiges Veranstaltungsmanagement
DESCRIPTION:Die Initiative Green Culture Dortmund lädt am 25. März von 16.00 bis 18.00 Uhr ins Kino des Dortmunder U ein\, um den Leitfaden für nachhaltiges Veranstaltungsmanagement zu präsentieren: \nRund um die World Earth Hour\, bei der Kommunen weltweit am 29. März ein Zeichen für den Klimaschutz setzen\, wollen auch Dortmunder Kulturinstitutionen einen Schritt weiter in Sachen Nachhaltigkeit gehen. \nGreen Culture Dortmund hat für Dortmund einen Leitfaden für nachhaltiges Veranstaltungsmanagement entwickelt\, der am 25.03. vorgestellt wird. \nZudem werden die Ergebnisse der Publikumsbefragung zum Thema An- und Abreisemobilität bei Kulturveranstaltungen in Dortmund vorgestellt. Aber nicht irgendwie – sondern präsentiert von der Poetry Slammerin Anna Lisa Azur. \nGreen Culture will an diesem Nachmittag darüber sprechen\, wie Kultur vor Ort in Dortmund einen Beitrag zu Klimaschutz leisten kann. Wie kann es für alle einfacher werden\, Kultur nachhaltig zu erleben?\nDie Gäste sind zum einen Vertreter*innen verschiedener Dortmunder Kulturinstitutionen\, aber auch des Umweltamts.\n(Oberbürgermeister Alexander Kalouti ist für ein Grußwort angefragt.) \nIm Anschluss an die Präsentation erfahrt Ihr außerdem exklusiv mehr über die neue Ausstellung „Müll. Die globalen Wege des Abfalls“\, die am 26.03 im Museum Ostwall eröffnet und können die Performance von Folke Köberling erleben\, die sich mit der Entsiegelung von Flächen beschäftigt. \nBitte meldet Euch bis zum 18. März 2026 unter info@green-culture-dortmund.de an.
URL:https://dortmund-kreativ.de/event/green-culture-dortmund-leitfaden-fuer-nachhaltiges-veranstaltungsmanagement/
LOCATION:Kino im U\, Leonie-Reygers-Terrasse 2\, Dortmund\, 44137
CATEGORIES:Kreativwirtschaft,Nachhaltigkeit,Zukunft
ATTACH;FMTTYPE=image/jpeg:https://dortmund-kreativ.de/wp-content/uploads/2023/02/Green-Culture.jpg
END:VEVENT
END:VCALENDAR