BEGIN:VCALENDAR
VERSION:2.0
PRODID:-//Dortmund Kreativ - ECPv6.15.18//NONSGML v1.0//EN
CALSCALE:GREGORIAN
METHOD:PUBLISH
X-WR-CALNAME:Dortmund Kreativ
X-ORIGINAL-URL:https://dortmund-kreativ.de
X-WR-CALDESC:Veranstaltungen für Dortmund Kreativ
REFRESH-INTERVAL;VALUE=DURATION:PT1H
X-Robots-Tag:noindex
X-PUBLISHED-TTL:PT1H
BEGIN:VTIMEZONE
TZID:Europe/Berlin
BEGIN:DAYLIGHT
TZOFFSETFROM:+0100
TZOFFSETTO:+0200
TZNAME:CEST
DTSTART:20230326T010000
END:DAYLIGHT
BEGIN:STANDARD
TZOFFSETFROM:+0200
TZOFFSETTO:+0100
TZNAME:CET
DTSTART:20231029T010000
END:STANDARD
BEGIN:DAYLIGHT
TZOFFSETFROM:+0100
TZOFFSETTO:+0200
TZNAME:CEST
DTSTART:20240331T010000
END:DAYLIGHT
BEGIN:STANDARD
TZOFFSETFROM:+0200
TZOFFSETTO:+0100
TZNAME:CET
DTSTART:20241027T010000
END:STANDARD
BEGIN:DAYLIGHT
TZOFFSETFROM:+0100
TZOFFSETTO:+0200
TZNAME:CEST
DTSTART:20250330T010000
END:DAYLIGHT
BEGIN:STANDARD
TZOFFSETFROM:+0200
TZOFFSETTO:+0100
TZNAME:CET
DTSTART:20251026T010000
END:STANDARD
END:VTIMEZONE
BEGIN:VEVENT
DTSTART;TZID=Europe/Berlin:20240831T140000
DTEND;TZID=Europe/Berlin:20240831T233000
DTSTAMP:20260423T071244
CREATED:20240822T173922Z
LAST-MODIFIED:20240822T173922Z
UID:12170-1725112800-1725147000@dortmund-kreativ.de
SUMMARY:Hafenspaziergang No. 12
DESCRIPTION:Das Quartier am Hafen lädt ein! AHOI und Leinen los zur großen Hafen-Sause! \nBereits zum zwölften Mal lädt das Hafenquartier auf besondere Weise zum Entdecken\, Erkunden und Mitfeiern ein. Akteur*innen aus den Bereichen Kunst\, Kultur\, Soziales und Wirtschaft bieten an insgesamt rund 50 verschiedenen Orten einen bunten Mix an Livemusik\, Kultur\, Kulinarischem\, Mitmachangeboten und informativen Führungen. \nBesucher*innen sind eingeladen\, sich aus den vielseitigen Programmpunkten ihren ganz persönlichen „Hafenspaziergang“ zusammenzustellen und mit Familie und Freunden in das Hafenquartier einzutauchen. \nDer Hafenspaziergang wird in diesem Jahr durch das Nachbarschaftsprogramm gefördert. Weitere Unterstützer*innen sind die DSW21\, DEW21 sowie die Dortmunder Hafen AG. \nSamstag 31. August 2024 ab 14 Uhr \nEINTRITT FREI! \nAlle Infos und Programm
URL:https://dortmund-kreativ.de/event/hafenspaziergang-no-12/
LOCATION:Diverse Orte im Dortmunder Hafen
CATEGORIES:Ausstellung,Bildende Kunst,Familien,Festival,Konzert,Kreativwirtschaft,Kunstmarkt,Musikwirtschaft,Nachtkultur,Netzwerk,Stadtentwicklung,Urbane Kunst,Urbanität
END:VEVENT
END:VCALENDAR