BEGIN:VCALENDAR
VERSION:2.0
PRODID:-//Dortmund Kreativ - ECPv6.15.18//NONSGML v1.0//EN
CALSCALE:GREGORIAN
METHOD:PUBLISH
X-WR-CALNAME:Dortmund Kreativ
X-ORIGINAL-URL:https://dortmund-kreativ.de
X-WR-CALDESC:Veranstaltungen für Dortmund Kreativ
REFRESH-INTERVAL;VALUE=DURATION:PT1H
X-Robots-Tag:noindex
X-PUBLISHED-TTL:PT1H
BEGIN:VTIMEZONE
TZID:Europe/Berlin
BEGIN:DAYLIGHT
TZOFFSETFROM:+0100
TZOFFSETTO:+0200
TZNAME:CEST
DTSTART:20230326T010000
END:DAYLIGHT
BEGIN:STANDARD
TZOFFSETFROM:+0200
TZOFFSETTO:+0100
TZNAME:CET
DTSTART:20231029T010000
END:STANDARD
BEGIN:DAYLIGHT
TZOFFSETFROM:+0100
TZOFFSETTO:+0200
TZNAME:CEST
DTSTART:20240331T010000
END:DAYLIGHT
BEGIN:STANDARD
TZOFFSETFROM:+0200
TZOFFSETTO:+0100
TZNAME:CET
DTSTART:20241027T010000
END:STANDARD
BEGIN:DAYLIGHT
TZOFFSETFROM:+0100
TZOFFSETTO:+0200
TZNAME:CEST
DTSTART:20250330T010000
END:DAYLIGHT
BEGIN:STANDARD
TZOFFSETFROM:+0200
TZOFFSETTO:+0100
TZNAME:CET
DTSTART:20251026T010000
END:STANDARD
END:VTIMEZONE
BEGIN:VEVENT
DTSTART;VALUE=DATE:20240307
DTEND;VALUE=DATE:20240325
DTSTAMP:20260423T172804
CREATED:20240226T112054Z
LAST-MODIFIED:20240228T131900Z
UID:11043-1709769600-1711324799@dortmund-kreativ.de
SUMMARY:HANS A: „AUF DIE STRASSE“ – AUSSTELLUNG ÜBER KLIMAPROTEST
DESCRIPTION:Wie weit darf Klimaprotest gehen? Darüber streitet die Gesellschaft in Talkshows\, in Feuilleton-Beiträgen und auf der Straße. Welche Form des Protests rüttelt uns wach\, auch wenn er nervt? Wo führt Protest zu Verdruss? Anica Jacobsen und Taisiya Starostina wollen Besuchenden ihrer Ausstellung „Auf die Straße“ eine intensive Auseinandersetzung mit den Klima-Protesten ermöglichen. \n„Auf die Straße“ ist die Abschlussarbeit der beiden Master-Studentinnen des Studiengangs Szenografie am Fachbereich Design. Mitte Januar 2024 haben sie für die Realisierung 15.000 Euro beim Wettbewerb „rethink.Sustainability“ der Dortmunder Volksbank gewonnen. Der erste Platz. Die Stiftung der Bank will damit nachhaltige Ideen von Studierenden unterstützen und etwas für Menschen vor Ort in Dortmund und Umgebung schaffen. Die Ausstellung soll ab 7. März 2024 als Teil der „Green Culture Week“ in „HANS A“ in der Dortmunder Innenstadt zu sehen sein. Die Website zur Ausstellung  befindet sich aktuell im Aufbau\, der Instagram-Kanal @klimaaktivismus  ist bereits aktiv. \n„Wir wollen mit der Ausstellung einen informierten und empathischen Dialog fördern“\, betont Anica Jacobsen. „Es gibt kein wichtigeres gesamtgesellschaftliches Thema als die Bewältigung der Klimakrise.“ Die Entwicklung und Gestaltung von „Auf die Straße“ sieht die 25-Jährige als ihren Beitrag\, um gesellschaftliche Veränderungen anzustoßen. Und so möchten Anica Jacobsen und Taisiya Starostina mit ihrer Ausstellung auch bewusst Stellung beziehen. „Mit unserer Arbeit versuchen wir nicht\, Klimawandel-Leugner*innen mit hübsch aufbereiteten Fakten zu überzeugen“\, sagt Anica Jacobsen. Die Zielgruppe sei vielmehr die oft leise Mitte der Gesellschaft. Menschen\, die mehr über Beweggründe für Protest und die Gedanken der Protestierenden erfahren möchten. \nFür inhaltliche Schwerpunkte in Texten und Videos haben sich die FH-Studentinnen Unterstützung von Charlotte Groß-Hohnacker\, Journalistik-Studentin an der TU Dortmund\, und der freien Journalistin Alina Andraczek geholt. Sie haben unter anderem Interviews mit Klima-Aktivist*innen von „Fridays for Future“\, „Ende Gelände“ und der „letzten Generation“ geführt\, die in der Ausstellung zu sehen sein werden. Die Grafiken stammen von Kira Vogel\, ebenfalls Studentin am Fachbereich Design der FH Dortmund. Interaktive Stationen ergänzen die Ausstellung – etwa eine kleine Werkstatt\, in der Besucher*innen selbst Plakate zu ihrem Klima-Thema gestalten können. Bestimmte Formen des Protestes sollen die Gäste vor Ort unmittelbar ausprobieren können\, andere durch Film und Tonaufnahmen intensiv miterleben. Ergänzt wird „Auf die Straße“ durch Vorträge und Diskussionen in . \nAuf die Straße” findet Kooperation mit Dortmund Kreativ und dem Museum für Kunst und Kulturgeschichte (MKK) und im Rahmen der Green Culture Week Dortmund statt. \nDie immersive Auseinandersetzung mit den Klimaprotesten im HANS A soll bis zum 24. März 2024 möglich sein. Anschließend\, so der Wunsch der beiden FH-Studierenden\, soll die Ausstellung „Auf die Straße“ auch an anderen Orten zu sehen sein – etwa bei der nächsten Nachhaltigkeitswoche der FH Dortmund\, die dieses Mal zusammen mit der Technischen Universität für den Sommer 2024 angesetzt ist. „Wir wollen mit der Ausstellung natürlich auch Studierende erreichen“\, erklärt Anica Jacobsen. In der Klimakrise sei der Beitrag aller Menschen wichtig. Das gelte für die Generation\, die jetzt Verantwortung in führenden Positionen trage\, und ebenso wie für die Generation\, die künftig die Transformation zu mehr Nachhaltigkeit gestalten muss. \nWeitere Infos (fh-dortmund.de) \n“ \nEröffnung:\nDonnerstag\, 07.03.2024\, 18 Uhr\nSTADT_RAUM im Museum für Kunst- und Kulturgeschichte\nHansastraße 3 \nAusstellungsort:\nHANS A\nHansastraße 6-10\, 44137 Dortmund \nÖffnungszeiten:\nDi\, Mi\, Do\, Fr: 13–19 Uhr\nSa\, So: 11–17.30 Uhr\nÄnderungen vorbehalten. \nAbweichungen durch Veranstaltungen möglich. \nTagesaktuelle Informationen unter @klimaaktivismus auf Instagram.
URL:https://dortmund-kreativ.de/event/hans-a-auf-die-strasse-eine-interaktive-ausstellung/
LOCATION:HANS A\, Hansastraße 6-10\, Dortmund\, 44137
CATEGORIES:Ausstellung,Kreativwirtschaft,Nachhaltigkeit,Urbanität,Zukunft
ATTACH;FMTTYPE=image/jpeg:https://dortmund-kreativ.de/wp-content/uploads/2024/02/Auf-die-Strasse-c-FH-Dortmund.jpg
END:VEVENT
END:VCALENDAR