BEGIN:VCALENDAR
VERSION:2.0
PRODID:-//Dortmund Kreativ - ECPv6.15.18//NONSGML v1.0//EN
CALSCALE:GREGORIAN
METHOD:PUBLISH
X-WR-CALNAME:Dortmund Kreativ
X-ORIGINAL-URL:https://dortmund-kreativ.de
X-WR-CALDESC:Veranstaltungen für Dortmund Kreativ
REFRESH-INTERVAL;VALUE=DURATION:PT1H
X-Robots-Tag:noindex
X-PUBLISHED-TTL:PT1H
BEGIN:VTIMEZONE
TZID:Europe/Berlin
BEGIN:DAYLIGHT
TZOFFSETFROM:+0100
TZOFFSETTO:+0200
TZNAME:CEST
DTSTART:20220327T010000
END:DAYLIGHT
BEGIN:STANDARD
TZOFFSETFROM:+0200
TZOFFSETTO:+0100
TZNAME:CET
DTSTART:20221030T010000
END:STANDARD
BEGIN:DAYLIGHT
TZOFFSETFROM:+0100
TZOFFSETTO:+0200
TZNAME:CEST
DTSTART:20230326T010000
END:DAYLIGHT
BEGIN:STANDARD
TZOFFSETFROM:+0200
TZOFFSETTO:+0100
TZNAME:CET
DTSTART:20231029T010000
END:STANDARD
BEGIN:DAYLIGHT
TZOFFSETFROM:+0100
TZOFFSETTO:+0200
TZNAME:CEST
DTSTART:20240331T010000
END:DAYLIGHT
BEGIN:STANDARD
TZOFFSETFROM:+0200
TZOFFSETTO:+0100
TZNAME:CET
DTSTART:20241027T010000
END:STANDARD
END:VTIMEZONE
BEGIN:VEVENT
DTSTART;TZID=Europe/Berlin:20231207T160000
DTEND;TZID=Europe/Berlin:20231207T180000
DTSTAMP:20260423T214140
CREATED:20231109T134346Z
LAST-MODIFIED:20231109T134346Z
UID:10019-1701964800-1701972000@dortmund-kreativ.de
SUMMARY:HANS A: Eröffnung GEDANKENSAMMLER
DESCRIPTION:PHILOSOPHIE FÜR JUNGE KÖPFE – EINE INTERAKTIVE AUSSTELLUNG \nKinder und Jugendliche sammeln Gedanken und widmen sich mit künstlerischen Mitteln philosophischen Fragen: Ist Glück Glückssache? Wie findest du Freunde? Hast du dich schon einmal fremd gefühlt? Beim Fotografieren\, Basteln\, Diskutieren finden sie Antworten\, die sie in einer Kreativwerkstatt in Objektkunst umsetzen. Aus den Ergebnissen der Kreativworkshops wiederum entsteht eine interaktive Wanderausstellung – zu sehen vom 8. bis zum 30. Dezember 2023 im „HANS A“ in Dortmund. \nDie Ausstellung „Gedankensammler“ wird am 7. Dezember 2023 um 16:00 Uhr im HANS A\, Hansastraße 6–10\, 44137 Dortmund\, eröffnet. Dort ist sie bis zum 30. Dezember 2023 zu sehen. \nVon mittwochs bis samstags ist die Ausstellung jeweils von 15:00 bis 18:00 Uhr\, vormittags nach Vereinbarung\, für alle Interessierten geöffnet. \nWeitere Infos
URL:https://dortmund-kreativ.de/event/hans-a-eroeffnung-gedankensammler/
LOCATION:HANS A\, Hansastraße 6-10\, Dortmund\, 44137
CATEGORIES:Ausstellung,DORTMUND KREATIV,Familien,HANS A | HANS B | HANS C,KOMMEN BLEIBEN GEHEN,Nachhaltigkeit,Netzwerk,Qualifizierung
END:VEVENT
END:VCALENDAR