BEGIN:VCALENDAR
VERSION:2.0
PRODID:-//Dortmund Kreativ - ECPv6.15.18//NONSGML v1.0//EN
CALSCALE:GREGORIAN
METHOD:PUBLISH
X-WR-CALNAME:Dortmund Kreativ
X-ORIGINAL-URL:https://dortmund-kreativ.de
X-WR-CALDESC:Veranstaltungen für Dortmund Kreativ
REFRESH-INTERVAL;VALUE=DURATION:PT1H
X-Robots-Tag:noindex
X-PUBLISHED-TTL:PT1H
BEGIN:VTIMEZONE
TZID:Europe/Berlin
BEGIN:DAYLIGHT
TZOFFSETFROM:+0100
TZOFFSETTO:+0200
TZNAME:CEST
DTSTART:20240331T010000
END:DAYLIGHT
BEGIN:STANDARD
TZOFFSETFROM:+0200
TZOFFSETTO:+0100
TZNAME:CET
DTSTART:20241027T010000
END:STANDARD
BEGIN:DAYLIGHT
TZOFFSETFROM:+0100
TZOFFSETTO:+0200
TZNAME:CEST
DTSTART:20250330T010000
END:DAYLIGHT
BEGIN:STANDARD
TZOFFSETFROM:+0200
TZOFFSETTO:+0100
TZNAME:CET
DTSTART:20251026T010000
END:STANDARD
BEGIN:DAYLIGHT
TZOFFSETFROM:+0100
TZOFFSETTO:+0200
TZNAME:CEST
DTSTART:20260329T010000
END:DAYLIGHT
BEGIN:STANDARD
TZOFFSETFROM:+0200
TZOFFSETTO:+0100
TZNAME:CET
DTSTART:20261025T010000
END:STANDARD
END:VTIMEZONE
BEGIN:VEVENT
DTSTART;TZID=Europe/Berlin:20251108T180000
DTEND;TZID=Europe/Berlin:20251108T210000
DTSTAMP:20260421T230049
CREATED:20251007T083856Z
LAST-MODIFIED:20251007T083856Z
UID:15351-1762624800-1762635600@dortmund-kreativ.de
SUMMARY:HANS A: Eröffnung "Leere und Fülle"
DESCRIPTION:Die Künstler*innen Barbara Giesbert\, Wolfgang Goebel\, Max Klemann\, Philine Bathelt-Kaiser\, Melanie Milo\, Bernd Moenikes\, Heike Onnertz\, Frauke Andrea Schütte und Sabine Leven erkunden in ihren Arbeiten die Gegensätze und das Zusammenspiel zwischen Raum und Inhalt\, Minimalismus und Opulenz\, Stille und Lebendigkeit. \nDie Ausstellung bietet Gelegenheit\, über die Bedeutung von Leere und Fülle im Leben\, in der Kunst und im eigenen Inneren nachzudenken. \n\nLEERE UND FÜLLE \n08. bis 29. November 2025 \nEröffnung: Samstag 08.11.2025 um 18 Uhr\nMusik: Andreas Oertzen\, Singer-Songwriter „Gitarre & Stimme – solo\, reduziert und pur!“ \nÖffnungszeiten:\nFreitags von 15 bis 18 Uhr\nSamstags von 12 bis 15 Uhr\nund nach Vereinbarung raumfuerkunstaufzeit@gmail.com \nHANS A\, Hansastraße 6-10\, 44137 Dortmund \nWeitere Infos \n\nEin Projekt im Rahmen von KOMMEN BLEIBEN GEHEN – Kreative Projekte an temporären Orten. \n\n 
URL:https://dortmund-kreativ.de/event/hans-a-eroeffnung-leere-und-fuelle/
LOCATION:HANS A\, Hansastraße 6-10\, Dortmund\, 44137
CATEGORIES:Ausstellung,Bildende Kunst,DORTMUND KREATIV,HANS A | HANS B | HANS C,KOMMEN BLEIBEN GEHEN,Kreativwirtschaft,Kunstmarkt,Netzwerk,Stadtentwicklung,Urbanität
END:VEVENT
END:VCALENDAR