BEGIN:VCALENDAR
VERSION:2.0
PRODID:-//Dortmund Kreativ - ECPv6.15.18//NONSGML v1.0//EN
CALSCALE:GREGORIAN
METHOD:PUBLISH
X-WR-CALNAME:Dortmund Kreativ
X-ORIGINAL-URL:https://dortmund-kreativ.de
X-WR-CALDESC:Veranstaltungen für Dortmund Kreativ
REFRESH-INTERVAL;VALUE=DURATION:PT1H
X-Robots-Tag:noindex
X-PUBLISHED-TTL:PT1H
BEGIN:VTIMEZONE
TZID:Europe/Berlin
BEGIN:DAYLIGHT
TZOFFSETFROM:+0100
TZOFFSETTO:+0200
TZNAME:CEST
DTSTART:20220327T010000
END:DAYLIGHT
BEGIN:STANDARD
TZOFFSETFROM:+0200
TZOFFSETTO:+0100
TZNAME:CET
DTSTART:20221030T010000
END:STANDARD
BEGIN:DAYLIGHT
TZOFFSETFROM:+0100
TZOFFSETTO:+0200
TZNAME:CEST
DTSTART:20230326T010000
END:DAYLIGHT
BEGIN:STANDARD
TZOFFSETFROM:+0200
TZOFFSETTO:+0100
TZNAME:CET
DTSTART:20231029T010000
END:STANDARD
BEGIN:DAYLIGHT
TZOFFSETFROM:+0100
TZOFFSETTO:+0200
TZNAME:CEST
DTSTART:20240331T010000
END:DAYLIGHT
BEGIN:STANDARD
TZOFFSETFROM:+0200
TZOFFSETTO:+0100
TZNAME:CET
DTSTART:20241027T010000
END:STANDARD
END:VTIMEZONE
BEGIN:VEVENT
DTSTART;TZID=Europe/Berlin:20231102T190000
DTEND;TZID=Europe/Berlin:20231102T210000
DTSTAMP:20260423T231627
CREATED:20231026T155439Z
LAST-MODIFIED:20231026T155558Z
UID:9928-1698951600-1698958800@dortmund-kreativ.de
SUMMARY:HANS A+B: Eröffnung „TERRITORIEN LEERSTAND“
DESCRIPTION:Leerstand. Schreckensvokabel von Städteplanern und Menetekel des drohenden urbanen Niedergangs. Gleichzeitig korrespondiert die Leere von Büro- und Verkaufsräumen mit einem Angebotsdefizit an bezahlbarem Wohnraum. \nLeerstand ist aber auch der Zustand vor dem Erstbezug; sei es die Unbestimmtheit eines einzelnen Gebäudes oder eines ganzen neuerbauten Quartiers. Leerstand ist ein fotografisches Projekt\, das im Dortmunder Stadtraum und darüber hinaus versucht eine Archäologie der baulichen Leere und ihrer Möglichkeiten zu beschreiben. Als Spurensicherung nach der Aufgabe oder als Hinweis auf ein neues Morgen. Entstanden sind fotografische Arbeiten\, die häufig auf einen architektonischen Gegenstand fokussiert sind\, aber auch Raum für Imagination und Spekulation lassen. Häuser\, Plätze\, Grünflächen\, Spielplätze und andere öffentlich sichtbare Orte. Die Arbeitsergebnisse werden ab dem 02.11.2023 Rahmen einer Ausstellung gezeigt. \nBeteiligte Künstler*innen: Ilka Arendt\, Jürgen Blumenschein\, Andreas Garder\, Detlef Koester\, Ulrich Krämer\, Rika Pütthoff-Glinka\, Rainer Ritzerfeld\, Martin Rogge\, Jan Sternberg\, Jörg Zimmer u.a. \nÖffnungszeiten:\n03.11.\, 05.11\, 07.11\, 10.11.\, 11.11.\, 12.11.\, 14.11.\, 17.11.\, 19.11.\, 25.11.\, 26.11. und 30.11.2023\njeweils von 15:00 bis 19:00 Uhr und nach Vereinbarung. \nEröffnung am 02.11.2023 um 19 Uhr \nAusstellungsorte:\nHANS A und HANS B\nHansastraße 6-10\n44137 Dortmund \nTerritorien Leerstand ist ein Projekt von Kunstraum/Jörg Zimmer. \nWeitere Infos hier und unter www.binnenwelten.de
URL:https://dortmund-kreativ.de/event/hans-ab-eroeffnung-territorien-leerstand/
LOCATION:HANS A\, Hansastraße 6-10\, Dortmund\, 44137
CATEGORIES:Ausstellung,DORTMUND KREATIV,Fotografie,HANS A | HANS B | HANS C,KOMMEN BLEIBEN GEHEN,Kreativquartiere,Kreativwirtschaft,Stadtentwicklung,Urbanität
END:VEVENT
END:VCALENDAR