BEGIN:VCALENDAR
VERSION:2.0
PRODID:-//Dortmund Kreativ - ECPv6.15.18//NONSGML v1.0//EN
CALSCALE:GREGORIAN
METHOD:PUBLISH
X-WR-CALNAME:Dortmund Kreativ
X-ORIGINAL-URL:https://dortmund-kreativ.de
X-WR-CALDESC:Veranstaltungen für Dortmund Kreativ
REFRESH-INTERVAL;VALUE=DURATION:PT1H
X-Robots-Tag:noindex
X-PUBLISHED-TTL:PT1H
BEGIN:VTIMEZONE
TZID:Europe/Berlin
BEGIN:DAYLIGHT
TZOFFSETFROM:+0100
TZOFFSETTO:+0200
TZNAME:CEST
DTSTART:20240331T010000
END:DAYLIGHT
BEGIN:STANDARD
TZOFFSETFROM:+0200
TZOFFSETTO:+0100
TZNAME:CET
DTSTART:20241027T010000
END:STANDARD
BEGIN:DAYLIGHT
TZOFFSETFROM:+0100
TZOFFSETTO:+0200
TZNAME:CEST
DTSTART:20250330T010000
END:DAYLIGHT
BEGIN:STANDARD
TZOFFSETFROM:+0200
TZOFFSETTO:+0100
TZNAME:CET
DTSTART:20251026T010000
END:STANDARD
BEGIN:DAYLIGHT
TZOFFSETFROM:+0100
TZOFFSETTO:+0200
TZNAME:CEST
DTSTART:20260329T010000
END:DAYLIGHT
BEGIN:STANDARD
TZOFFSETFROM:+0200
TZOFFSETTO:+0100
TZNAME:CET
DTSTART:20261025T010000
END:STANDARD
END:VTIMEZONE
BEGIN:VEVENT
DTSTART;TZID=Europe/Berlin:20251205T180000
DTEND;TZID=Europe/Berlin:20251205T210000
DTSTAMP:20260421T183433
CREATED:20251031T110149Z
LAST-MODIFIED:20251031T110149Z
UID:15444-1764957600-1764968400@dortmund-kreativ.de
SUMMARY:HANS B: Eröffnung "RAUM UND ZEIT"
DESCRIPTION:In dieser Ausstellung erkunden Tobias Bohne\, Melanie Diederichs\, Jakob Eicher\, Babette Horschler\, Thomas Hugo\, Sabine Leven\, Heike Onnertz\, Dirk Pleyer und Kati Rakus die beiden fundamentalen Elemente Raum und Zeit in der Kunst. \nWährend der Raum durch Tiefe und Grenzen illusionär auf der Leinwand entsteht\, fangen die Werke die Zeit durch Bewegung\, Veränderung und Vergänglichkeit ein. \n\nRAUM UND ZEIT \n05. bis 27. Dezember 2025 \nEröffnung: 05.12.2025 um 18:00 Uhr – Musik von Claudia und Armin Nedden Duo \nÖffnungszeiten:\nFreitag von 15:00 bis 18:00 Uhr\nSamstag von 12:00 bis 15:00 Uhr\nund gerne nach Vereinbarung raumfuerkunstaufzeit@gmail.com \nHANS B\, Hansastraße 6-10\, 44137 Dortmund \n\nEin Projekt im Rahmen von KOMMEN BLEIBEN GEHEN – Kreative Projekte an temporären Orten. \n\n 
URL:https://dortmund-kreativ.de/event/hans-b-eroeffnung-raum-und-zeit/
LOCATION:HANS B\, Hansastraße 6-10\, Dortmund
END:VEVENT
END:VCALENDAR