BEGIN:VCALENDAR
VERSION:2.0
PRODID:-//Dortmund Kreativ - ECPv6.15.18//NONSGML v1.0//EN
CALSCALE:GREGORIAN
METHOD:PUBLISH
X-WR-CALNAME:Dortmund Kreativ
X-ORIGINAL-URL:https://dortmund-kreativ.de
X-WR-CALDESC:Veranstaltungen für Dortmund Kreativ
REFRESH-INTERVAL;VALUE=DURATION:PT1H
X-Robots-Tag:noindex
X-PUBLISHED-TTL:PT1H
BEGIN:VTIMEZONE
TZID:Europe/Berlin
BEGIN:DAYLIGHT
TZOFFSETFROM:+0100
TZOFFSETTO:+0200
TZNAME:CEST
DTSTART:20240331T010000
END:DAYLIGHT
BEGIN:STANDARD
TZOFFSETFROM:+0200
TZOFFSETTO:+0100
TZNAME:CET
DTSTART:20241027T010000
END:STANDARD
BEGIN:DAYLIGHT
TZOFFSETFROM:+0100
TZOFFSETTO:+0200
TZNAME:CEST
DTSTART:20250330T010000
END:DAYLIGHT
BEGIN:STANDARD
TZOFFSETFROM:+0200
TZOFFSETTO:+0100
TZNAME:CET
DTSTART:20251026T010000
END:STANDARD
BEGIN:DAYLIGHT
TZOFFSETFROM:+0100
TZOFFSETTO:+0200
TZNAME:CEST
DTSTART:20260329T010000
END:DAYLIGHT
BEGIN:STANDARD
TZOFFSETFROM:+0200
TZOFFSETTO:+0100
TZNAME:CET
DTSTART:20261025T010000
END:STANDARD
END:VTIMEZONE
BEGIN:VEVENT
DTSTART;TZID=Europe/Berlin:20250915T180000
DTEND;TZID=Europe/Berlin:20250915T200000
DTSTAMP:20260422T035046
CREATED:20250911T140114Z
LAST-MODIFIED:20250911T140114Z
UID:15143-1757959200-1757966400@dortmund-kreativ.de
SUMMARY:HANS C: Eröffnung Reem Usfour »Land Speaks\, Are You Listening?«
DESCRIPTION:15. bis 18. September 2025\n  \nIn this exhibition\, we explore Jojk\, and have a look at a personal odyssey in Sápmi\, in present-day Norway. \nJojk is the indigenous vocal practice of the Sámi people of Northern Europe. It has been the song of the land and all its elements\, and has become a voice to speak up for the silenced. \nThrough Jojk\, by singing something instead of singing about it\, embodying it\, and feeling its essence\, we remember that all of nature is one\, and that humans are an inseparable part of it. This Indigenous worldview reminds us of what we need to heal the world. \n\nReem Usfour »Land Speaks\, Are You Listening?« \n15. bis 18. September 2025 \nEröffnung am 15.09.2025 um 18 Uhr \nÖffnungszeiten:\nDie genauen Öffnungszeiten werden noch bekanntgegeben! \nHANS C\, Hansastraße 6-10\, 44135 Dortmund \n\nEin Projekt im Rahmen von KOMMEN BLEIBEN GEHEN – Kreative Projekte an temporären Orten.
URL:https://dortmund-kreativ.de/event/hans-c-eroeffnung-reem-usfour-land-speaks-are-you-listening/
LOCATION:HANS C\, Hansastraße 6-10\, Dortmund
CATEGORIES:Ausstellung,Designwirtschaft,DORTMUND KREATIV,HANS A | HANS B | HANS C,KOMMEN BLEIBEN GEHEN,Kreativwirtschaft,Stadtentwicklung,Urbanität
END:VEVENT
END:VCALENDAR