BEGIN:VCALENDAR
VERSION:2.0
PRODID:-//Dortmund Kreativ - ECPv6.15.18//NONSGML v1.0//EN
CALSCALE:GREGORIAN
METHOD:PUBLISH
X-WR-CALNAME:Dortmund Kreativ
X-ORIGINAL-URL:https://dortmund-kreativ.de
X-WR-CALDESC:Veranstaltungen für Dortmund Kreativ
REFRESH-INTERVAL;VALUE=DURATION:PT1H
X-Robots-Tag:noindex
X-PUBLISHED-TTL:PT1H
BEGIN:VTIMEZONE
TZID:Europe/Berlin
BEGIN:DAYLIGHT
TZOFFSETFROM:+0100
TZOFFSETTO:+0200
TZNAME:CEST
DTSTART:20250330T010000
END:DAYLIGHT
BEGIN:STANDARD
TZOFFSETFROM:+0200
TZOFFSETTO:+0100
TZNAME:CET
DTSTART:20251026T010000
END:STANDARD
BEGIN:DAYLIGHT
TZOFFSETFROM:+0100
TZOFFSETTO:+0200
TZNAME:CEST
DTSTART:20260329T010000
END:DAYLIGHT
BEGIN:STANDARD
TZOFFSETFROM:+0200
TZOFFSETTO:+0100
TZNAME:CET
DTSTART:20261025T010000
END:STANDARD
BEGIN:DAYLIGHT
TZOFFSETFROM:+0100
TZOFFSETTO:+0200
TZNAME:CEST
DTSTART:20270328T010000
END:DAYLIGHT
BEGIN:STANDARD
TZOFFSETFROM:+0200
TZOFFSETTO:+0100
TZNAME:CET
DTSTART:20271031T010000
END:STANDARD
END:VTIMEZONE
BEGIN:VEVENT
DTSTART;TZID=Europe/Berlin:20260430T180000
DTEND;TZID=Europe/Berlin:20260430T220000
DTSTAMP:20260421T193511
CREATED:20260421T141541Z
LAST-MODIFIED:20260421T141541Z
UID:16624-1777572000-1777586400@dortmund-kreativ.de
SUMMARY:HANS C: Finissage "Steffen Mischke - Work in Progress"
DESCRIPTION:  \nFinissage am 30. April 2026 von 18 bis 22 Uhr \nÖffnungstage:\n23.04.2026 von 14 bis 20 Uhr\n24.04.2026 von 13 bis 17 Uhr \nWeitere Infos (Instagram) \n\nEin Projekt im Rahmen von KOMMEN BLEIBEN GEHEN – Kreative Projekte an temporären Orten. \n\n 
URL:https://dortmund-kreativ.de/event/hans-c-finissage-steffen-mischke-work-in-progress/
CATEGORIES:Ausstellung,Bildende Kunst,DORTMUND KREATIV,HANS A | HANS B | HANS C,KOMMEN BLEIBEN GEHEN,Kreativwirtschaft,Netzwerk,Stadtentwicklung,Urbanität
END:VEVENT
END:VCALENDAR