BEGIN:VCALENDAR
VERSION:2.0
PRODID:-//Dortmund Kreativ - ECPv6.15.18//NONSGML v1.0//EN
CALSCALE:GREGORIAN
METHOD:PUBLISH
X-WR-CALNAME:Dortmund Kreativ
X-ORIGINAL-URL:https://dortmund-kreativ.de
X-WR-CALDESC:Veranstaltungen für Dortmund Kreativ
REFRESH-INTERVAL;VALUE=DURATION:PT1H
X-Robots-Tag:noindex
X-PUBLISHED-TTL:PT1H
BEGIN:VTIMEZONE
TZID:Europe/Berlin
BEGIN:DAYLIGHT
TZOFFSETFROM:+0100
TZOFFSETTO:+0200
TZNAME:CEST
DTSTART:20240331T010000
END:DAYLIGHT
BEGIN:STANDARD
TZOFFSETFROM:+0200
TZOFFSETTO:+0100
TZNAME:CET
DTSTART:20241027T010000
END:STANDARD
BEGIN:DAYLIGHT
TZOFFSETFROM:+0100
TZOFFSETTO:+0200
TZNAME:CEST
DTSTART:20250330T010000
END:DAYLIGHT
BEGIN:STANDARD
TZOFFSETFROM:+0200
TZOFFSETTO:+0100
TZNAME:CET
DTSTART:20251026T010000
END:STANDARD
BEGIN:DAYLIGHT
TZOFFSETFROM:+0100
TZOFFSETTO:+0200
TZNAME:CEST
DTSTART:20260329T010000
END:DAYLIGHT
BEGIN:STANDARD
TZOFFSETFROM:+0200
TZOFFSETTO:+0100
TZNAME:CET
DTSTART:20261025T010000
END:STANDARD
END:VTIMEZONE
BEGIN:VEVENT
DTSTART;TZID=Europe/Berlin:20251004T150000
DTEND;TZID=Europe/Berlin:20251004T163000
DTSTAMP:20260422T003456
CREATED:20250924T075644Z
LAST-MODIFIED:20250924T075644Z
UID:15224-1759590000-1759595400@dortmund-kreativ.de
SUMMARY:HANS C: Taking Time Printing Session für queere Menschen mit Behinderung und chronischer Erkrankung* mit der Künstlerin ise
DESCRIPTION:04.10.2025 von ca. 15:00 bis 16:30 Uhr \nTaking Time Printing Session für queere Menschen mit Behinderung und chronischer Erkrankung* mit der Künstlerin ise \n\nDiese kostenlose Session eröffnet einen gemeinsamen Raum\, in dem wir unsere Beziehung zur Zeit durch Monoprinting\, Austausch und spielerisches Erkunden erforschen.\nDauer: ca. anderthalb Stunden\, mit einer Pause in der Mitte für Snacks.\nVorkenntnisse sind nicht nötig.\nZieh dich bequem an.\n\nWenn du Fragen zur Barrierefreiheit oder zur Session hast\, oder wenn du bestimmte Ernährungsbedürfnisse oder Allergien hast\, schreib uns gerne.\nAnmeldung an: ise@ise-y.de. \n*Komm\, wie du bist. \nWorkshop im Rahmen der Ausstellung »Crip Realities: Against the Clock\, Into the Future« von Miriam Wolter.
URL:https://dortmund-kreativ.de/event/hans-c-taking-time-printing-session-fuer-queere-menschen-mit-behinderung-und-chronischer-erkrankung-mit-der-kuenstlerin-ise/
LOCATION:HANS C\, Hansastraße 6-10\, Dortmund
CATEGORIES:Ausstellung,Designwirtschaft,HANS A | HANS B | HANS C,KOMMEN BLEIBEN GEHEN,Kreativwirtschaft,Netzwerk,Qualifizierung,Stadtentwicklung
END:VEVENT
END:VCALENDAR